BEGIN:VCALENDAR
VERSION:2.0
PRODID:-//Penn State Health News - ECPv6.15.20//NONSGML v1.0//EN
CALSCALE:GREGORIAN
METHOD:PUBLISH
X-ORIGINAL-URL:https://pennstatehealthnews.org
X-WR-CALDESC:Events for Penn State Health News
REFRESH-INTERVAL;VALUE=DURATION:PT1H
X-Robots-Tag:noindex
X-PUBLISHED-TTL:PT1H
BEGIN:VTIMEZONE
TZID:America/New_York
BEGIN:DAYLIGHT
TZOFFSETFROM:-0500
TZOFFSETTO:-0400
TZNAME:EDT
DTSTART:20250309T070000
END:DAYLIGHT
BEGIN:STANDARD
TZOFFSETFROM:-0400
TZOFFSETTO:-0500
TZNAME:EST
DTSTART:20251102T060000
END:STANDARD
BEGIN:DAYLIGHT
TZOFFSETFROM:-0500
TZOFFSETTO:-0400
TZNAME:EDT
DTSTART:20260308T070000
END:DAYLIGHT
BEGIN:STANDARD
TZOFFSETFROM:-0400
TZOFFSETTO:-0500
TZNAME:EST
DTSTART:20261101T060000
END:STANDARD
BEGIN:DAYLIGHT
TZOFFSETFROM:-0500
TZOFFSETTO:-0400
TZNAME:EDT
DTSTART:20270314T070000
END:DAYLIGHT
BEGIN:STANDARD
TZOFFSETFROM:-0400
TZOFFSETTO:-0500
TZNAME:EST
DTSTART:20271107T060000
END:STANDARD
END:VTIMEZONE
BEGIN:VEVENT
DTSTART;VALUE=DATE:20260520
DTEND;VALUE=DATE:20260521
DTSTAMP:20260419T160154
CREATED:20260305T183747Z
LAST-MODIFIED:20260305T183920Z
UID:10009161-1779235200-1779321599@pennstatehealthnews.org
SUMMARY:Donate Gently Used Books for the United Way Book Sale
DESCRIPTION:Please Donate Gently Used Books for the United Way Book Sale \nBook Drop Off Locations \nHarrell Library (South Entrance) \nCOM Ground Floor CG721 \n100 & 200 Crystal A Lobby \n30 Hope Dr\, Building B entrance \nDonations accepted until 5/29/2026
URL:https://pennstatehealthnews.org/event/donate-gently-used-books-for-the-united-way-book-sale/2026-05-20/
LOCATION:Room H1233F/H1233G (Dining Room A/B)\, 500 University Drive\, Hershey\, PA\, 17033\, United States
CATEGORIES:Community
ORGANIZER;CN="United Way Core Team":MAILTO:aud14@psu.edu
END:VEVENT
BEGIN:VEVENT
DTSTART;TZID=America/New_York:20260520T100000
DTEND;TZID=America/New_York:20260520T113000
DTSTAMP:20260419T160154
CREATED:20260417T124555Z
LAST-MODIFIED:20260417T124555Z
UID:10009876-1779271200-1779276600@pennstatehealthnews.org
SUMMARY:Live Music in Lobbies Today
DESCRIPTION:10-11:30 am • UPC Lobby\nJonathan Frazier (Piano)
URL:https://pennstatehealthnews.org/event/live-music-in-lobbies-today-30/
LOCATION:University Physicians Center (UPC) Lobby\, 200 Campus Drive\, Hershey\, PA\, 17033\, United States
CATEGORIES:Arts,Community
ORGANIZER;CN="Aleax Olivera":MAILTO:aoliverea@pennstatehealth.psu.edu
GEO:40.2652964;-76.6734688
X-APPLE-STRUCTURED-LOCATION;VALUE=URI;X-ADDRESS=University Physicians Center (UPC) Lobby 200 Campus Drive Hershey PA 17033 United States;X-APPLE-RADIUS=500;X-TITLE=200 Campus Drive:geo:-76.6734688,40.2652964
END:VEVENT
BEGIN:VEVENT
DTSTART;TZID=America/New_York:20260520T110000
DTEND;TZID=America/New_York:20260520T120000
DTSTAMP:20260419T160154
CREATED:20241126T201804Z
LAST-MODIFIED:20250529T114610Z
UID:10005405-1779274800-1779278400@pennstatehealthnews.org
SUMMARY:Mothers Circle
DESCRIPTION:All are welcome!  Share your journey and connect with other moms and future moms at our weekly support group every Wednesday.  Our lactation team will be available to answer your questions and address your concerns regarding any type of feeding.  We will be sharing our stories and discussing anything and everything motherhood related.
URL:https://pennstatehealthnews.org/event/mothers-circle-2/2026-05-20/
LOCATION:Penn State Health Hampden Medical Center\, 2200 Good Hope Rd\, Enola\, PA\, 17025\, United States
CATEGORIES:Community,Wellness
END:VEVENT
BEGIN:VEVENT
DTSTART;TZID=America/New_York:20260520T120000
DTEND;TZID=America/New_York:20260520T123000
DTSTAMP:20260419T160154
CREATED:20250911T175047Z
LAST-MODIFIED:20250911T175148Z
UID:10006445-1779278400-1779280200@pennstatehealthnews.org
SUMMARY:Catholic Mass
DESCRIPTION:Catholic Mass will be held weekly in the interfaith chapel.  All are welcome.
URL:https://pennstatehealthnews.org/event/catholic-mass/2026-05-20/
LOCATION:Di and Dallas Krapf Interfaith Chapel\, 500 University Dr\, Hershey\, PA\, 17033\, United States
END:VEVENT
BEGIN:VEVENT
DTSTART;TZID=America/New_York:20260520T120000
DTEND;TZID=America/New_York:20260520T123000
DTSTAMP:20260419T160154
CREATED:20260417T172622Z
LAST-MODIFIED:20260417T172622Z
UID:10009889-1779278400-1779280200@pennstatehealthnews.org
SUMMARY:Perinatal TiPS Webinar Series – Spring 2026
DESCRIPTION:Support for Mental Health and Substance Use in the Perinatal Period\nThe Perinatal TiPS team is excited to offer a new nine-part webinar series focused on mental health and substance use disorders during the perinatal period. These sessions are designed for health care providers who work with pregnant and postpartum individuals\, including both prescribers and non-prescribers. \nWhy Attend?\n\nLearn practical strategies for identifying and managing mental health conditions and substance use disorders in perinatal care\nImprove outcomes through collaborative care and evidence-based approaches\nHear from expert providers and gain tools for real-world implementation\n\nWebinar Format\n\nSeven half-hour educational sessions\nTwo “Chat with the Experts” sessions\nSessions are held biweekly\, via Zoom\, beginning April 1\n\nWebinar Schedule\n\nApril 1\, 2026 – Navigating Crisis in Pregnancy and Postpartum – Melissa Free\, MD\nApril 8\, 2026 – Acute Agitation During Pregnancy: Assessment and Safe Management Approaches – Ritika Baweja\, MD\nApril 15\, 2026 – Novel Treatments in Perinatal Mental Health – Marissa Beal\, MD\nApril 22\, 2026 – Chat with the Experts – Ritika Baweja\, MD; Marissa Beal\, MD; Melissa Free\, MD\nApril 29\, 2026 – Opioid Use Disorder and Pregnancy – Eleanor Dunham\, MD\nMay 6\, 2026 – Evidence for Treatment of Opioid Use Disorder in Pregnancy – Sarah Kawasaki\, MD\nMay 13\, 2026 – ADHD\, Stimulant Use\, and Misuse During Pregnancy: Problems and Treatment – Sarah Kawasaki\, MD\nMay 20\, 2026 – Novel Drugs of Abuse and the Changing Landscape – Sarah Kawasaki\, MD\nMay 27\, 2026 – Chat with the Experts – Sarah Kawasaki\, MD; Eleanor Dunham\, MD\n\nThe webinar series complements the Perinatal TiPS consultation service\, supporting clinicians who care for pregnant and postpartum individuals across care settings. \nRegister Online
URL:https://pennstatehealthnews.org/event/perinatal-tips-webinar-series-spring-2026/2026-05-20/
LOCATION:Zoom
CATEGORIES:Community
END:VEVENT
BEGIN:VEVENT
DTSTART;TZID=America/New_York:20260520T130000
DTEND;TZID=America/New_York:20260520T140000
DTSTAMP:20260419T160154
CREATED:20251210T160810Z
LAST-MODIFIED:20251210T160810Z
UID:10007977-1779282000-1779285600@pennstatehealthnews.org
SUMMARY:College of Medicine Research Data Live Help Sessions
DESCRIPTION:The COM Research Data team is now offering live help sessions to support you with all your research data needs. Whether you have a data request\, questions about research data\, or need real-time data provision\, our team is here to assist. We can also help answer any concerns related to data collection or provide guidance on design specifications and self-service design. Don’t hesitate to join the live sessions for expert support and timely solutions to ensure your research runs smoothly.
URL:https://pennstatehealthnews.org/event/college-of-medicine-research-data-live-help-sessions/2026-05-20/
LOCATION:Remote
CATEGORIES:Other
ATTACH;FMTTYPE=image/png:https://pennstatehealthnews.org/wp-content/uploads/2025/12/image-10.png
ORGANIZER;CN="COM Research Data":MAILTO:COMResearchData@pennstatehealth.psu.edu
END:VEVENT
BEGIN:VEVENT
DTSTART;TZID=America/New_York:20260520T130000
DTEND;TZID=America/New_York:20260520T140000
DTSTAMP:20260419T160154
CREATED:20260318T131537Z
LAST-MODIFIED:20260326T122017Z
UID:10009619-1779282000-1779285600@pennstatehealthnews.org
SUMMARY:Better Breathers' Club
DESCRIPTION:This free support group is open to patients with chronic lung diseases\, such as COPD\, asthma\, pulmonary fibrosis and lung cancer\, and their family members and caregivers. \nLearn ways to better cope with your diagnosis while getting the support of those in similar situations. The support group meetings are led by an American Lung Association trained facilitator. \nThe support group meets every third Wednesday of the month in the Pulmonary/Cardiac Rehab Gym located on the ground floor of the Ortenzio Heart Center. Free parking in Lot G. Enter through the ground floor entrance to the Heart Center. \nFor more information\, call 717-972-4545 (option 4) or email scannon1@pennstatehealth.psu.edu. \n\nStart Date: Wednesday\, April 15\nFrequency: Ongoing\, meeting on the third Wednesday of every month
URL:https://pennstatehealthnews.org/event/better-breathers-club/2026-05-20/
LOCATION:The Ortenzio Heart Center at Penn State Health Holy Spirit Medical Center\, 503 N. 21st St.\, Camp Hill\, PA\, 17011\, United States
CATEGORIES:Community
END:VEVENT
BEGIN:VEVENT
DTSTART;TZID=America/New_York:20260520T130000
DTEND;TZID=America/New_York:20260520T140000
DTSTAMP:20260419T160154
CREATED:20260408T194214Z
LAST-MODIFIED:20260408T194304Z
UID:10009768-1779282000-1779285600@pennstatehealthnews.org
SUMMARY:COM Research Data: Live Help Sessions
DESCRIPTION:The COM Research Data team is now offering live help sessions to support you with all your research data needs. Whether you have a data request\, questions about research data\, or need real-time data provision\, our team is here to assist. We can also help answer any concerns related to data collection or provide guidance on design specifications and self-service design. Don’t hesitate to join the live sessions for expert support and timely solutions to ensure your research runs smoothly. \nPlease email COMResearchData@pennstatehealth.psu.edu for more information.
URL:https://pennstatehealthnews.org/event/com-research-data-live-help-sessions/2026-05-20/
CATEGORIES:Continuing Education
END:VEVENT
BEGIN:VEVENT
DTSTART;TZID=America/New_York:20260520T173000
DTEND;TZID=America/New_York:20260520T183000
DTSTAMP:20260419T160154
CREATED:20260304T140831Z
LAST-MODIFIED:20260304T140831Z
UID:10008707-1779298200-1779301800@pennstatehealthnews.org
SUMMARY:Powerful Pronunciation
DESCRIPTION:Are you a professional who speaks English as an additional language? Do you want to boost your speech confidence and refine your pronunciation skills in a supportive\, expert-led environment? \nJoin us for an interactive webinar introducing Powerful Pronunciation — a dynamic English communication program designed to help you speak clearly\, confidently\, and effectively in professional and healthcare settings. \nProgram Highlights: \n\nEnhance Patient & Provider Communication\nLearn how clear pronunciation can improve experiences and reduce misunderstandings in healthcare environments.\nMaster American English Sounds\nGet practical techniques for all 21 vowel and 26 consonant sounds — with a focus on medically relevant terms and phrases.\nBuild Confidence in Real-World Scenarios\nPractice pronunciation in context to feel more confident in your daily interactions.\n\n  \nWho Should Attend?  Any professional who identifies English as an additional language and is ready to take their pronunciation skills to the next level. \nRegistration – May 20 – 5:30p \nLet your voice be heard — clearly and confidently. \nSponsored by the Office of Health Advancement & Community Engagement.  OHACE@pennstatehealth.psu.edu
URL:https://pennstatehealthnews.org/event/powerful-pronunciation/
LOCATION:Webinar
CATEGORIES:Continuing Education,Engagement
ORGANIZER;CN="Office Health Advancement and Community Engagement (OHACE)":MAILTO:ohace@pennstatehealth.psu.edu
END:VEVENT
BEGIN:VEVENT
DTSTART;TZID=America/New_York:20260520T190000
DTEND;TZID=America/New_York:20260520T203000
DTSTAMP:20260419T160154
CREATED:20250917T132630Z
LAST-MODIFIED:20250917T132630Z
UID:10006696-1779303600-1779309000@pennstatehealthnews.org
SUMMARY:Bereavement Support Group
DESCRIPTION:The Bereavement Support Group is for anyone experiencing grief due to the death of a loved one. The support group will assist you in understanding how to cope with grief and how to begin turning your mourning into cherished memories of your loved one. \nDates and Topics\n\nMay 6 – Telling the Story/Setting the Context\nMay 13 – About Grief\nMay 20 – Feelings and Grief\nMay 27 – Stress and Grief\nJune 3 – Finding Meaning in Loss\nJune 10 – Holiday Coping\nJune 17 – Rituals and Grief\n\nRegistration\nPlease register by calling the Spiritual Care Office\, Penn State Health St. Joseph – 610-378-2297\, and leave your name and phone number. If you have questions\, ask for Sr. Rose Dvorak\, staff chaplain.
URL:https://pennstatehealthnews.org/event/bereavement-support-group-may-20/
LOCATION:Penn State Health St. Joseph Medical Center\, 2500 Bernville Road\, Reading\, PA\, 19605\, United States
CATEGORIES:Community
END:VEVENT
END:VCALENDAR