BEGIN:VCALENDAR
VERSION:2.0
PRODID:-//Penn State Health News - ECPv6.15.20//NONSGML v1.0//EN
CALSCALE:GREGORIAN
METHOD:PUBLISH
X-ORIGINAL-URL:https://pennstatehealthnews.org
X-WR-CALDESC:Events for Penn State Health News
REFRESH-INTERVAL;VALUE=DURATION:PT1H
X-Robots-Tag:noindex
X-PUBLISHED-TTL:PT1H
BEGIN:VTIMEZONE
TZID:America/New_York
BEGIN:DAYLIGHT
TZOFFSETFROM:-0500
TZOFFSETTO:-0400
TZNAME:EDT
DTSTART:20250309T070000
END:DAYLIGHT
BEGIN:STANDARD
TZOFFSETFROM:-0400
TZOFFSETTO:-0500
TZNAME:EST
DTSTART:20251102T060000
END:STANDARD
BEGIN:DAYLIGHT
TZOFFSETFROM:-0500
TZOFFSETTO:-0400
TZNAME:EDT
DTSTART:20260308T070000
END:DAYLIGHT
BEGIN:STANDARD
TZOFFSETFROM:-0400
TZOFFSETTO:-0500
TZNAME:EST
DTSTART:20261101T060000
END:STANDARD
BEGIN:DAYLIGHT
TZOFFSETFROM:-0500
TZOFFSETTO:-0400
TZNAME:EDT
DTSTART:20270314T070000
END:DAYLIGHT
BEGIN:STANDARD
TZOFFSETFROM:-0400
TZOFFSETTO:-0500
TZNAME:EST
DTSTART:20271107T060000
END:STANDARD
END:VTIMEZONE
BEGIN:VEVENT
DTSTART;TZID=America/New_York:20260323T113000
DTEND;TZID=America/New_York:20260323T130000
DTSTAMP:20260423T061745
CREATED:20260220T193749Z
LAST-MODIFIED:20260220T193749Z
UID:10008460-1774265400-1774270800@pennstatehealthnews.org
SUMMARY:Live Music in Lobbies Today
DESCRIPTION:11:30 am – 1 pm • Main lobby\nElena Millar (Piano)
URL:https://pennstatehealthnews.org/event/live-music-in-lobbies-today-33/
LOCATION:Main Entrance Lobby – Penn State Health Milton S. Hershey Medical Center\, 500 University Drive\, Hershey\, PA\, 17033\, United States
CATEGORIES:Arts,Community
ORGANIZER;CN="Aleax Olivera":MAILTO:aoliverea@pennstatehealth.psu.edu
GEO:40.2640375;-76.6766783
X-APPLE-STRUCTURED-LOCATION;VALUE=URI;X-ADDRESS=Main Entrance Lobby – Penn State Health Milton S. Hershey Medical Center 500 University Drive Hershey PA 17033 United States;X-APPLE-RADIUS=500;X-TITLE=500 University Drive:geo:-76.6766783,40.2640375
END:VEVENT
BEGIN:VEVENT
DTSTART;TZID=America/New_York:20260324T100000
DTEND;TZID=America/New_York:20260324T113000
DTSTAMP:20260423T061745
CREATED:20260220T193750Z
LAST-MODIFIED:20260220T193750Z
UID:10008461-1774346400-1774351800@pennstatehealthnews.org
SUMMARY:Live Music in Lobbies Today
DESCRIPTION:10-11:30 am • Main lobby\nFrances Drost (Piano)
URL:https://pennstatehealthnews.org/event/live-music-in-lobbies-today-34/
LOCATION:Main Entrance Lobby – Penn State Health Milton S. Hershey Medical Center\, 500 University Drive\, Hershey\, PA\, 17033\, United States
CATEGORIES:Arts,Community
ORGANIZER;CN="Aleax Olivera":MAILTO:aoliverea@pennstatehealth.psu.edu
GEO:40.2640375;-76.6766783
X-APPLE-STRUCTURED-LOCATION;VALUE=URI;X-ADDRESS=Main Entrance Lobby – Penn State Health Milton S. Hershey Medical Center 500 University Drive Hershey PA 17033 United States;X-APPLE-RADIUS=500;X-TITLE=500 University Drive:geo:-76.6766783,40.2640375
END:VEVENT
BEGIN:VEVENT
DTSTART;TZID=America/New_York:20260324T130000
DTEND;TZID=America/New_York:20260324T143000
DTSTAMP:20260423T061745
CREATED:20260205T171251Z
LAST-MODIFIED:20260205T171251Z
UID:10008326-1774357200-1774362600@pennstatehealthnews.org
SUMMARY:Live Music in PSCI Lobby Today
DESCRIPTION:Seasons\, harp and hammered dulcimer \n1:00pm – 2:30pm\, PSCI lobby \nSponsored by the Penn State Cancer Institute
URL:https://pennstatehealthnews.org/event/live-music-in-psci-lobby-today-12/
LOCATION:Penn State Cancer Institute Lobby\, 400 University Drive\, Hershey\, PA\, 17033\, United States
CATEGORIES:Arts,Community
ORGANIZER;CN="Keeley Engle":MAILTO:kengle@pennstatehealth.psu.edu
GEO:40.2640375;-76.6766783
X-APPLE-STRUCTURED-LOCATION;VALUE=URI;X-ADDRESS=Penn State Cancer Institute Lobby 400 University Drive Hershey PA 17033 United States;X-APPLE-RADIUS=500;X-TITLE=400 University Drive:geo:-76.6766783,40.2640375
END:VEVENT
BEGIN:VEVENT
DTSTART;TZID=America/New_York:20260325T113000
DTEND;TZID=America/New_York:20260325T130000
DTSTAMP:20260423T061745
CREATED:20260220T193751Z
LAST-MODIFIED:20260220T193751Z
UID:10008462-1774438200-1774443600@pennstatehealthnews.org
SUMMARY:Live Music in Lobbies Today
DESCRIPTION:11:30 am – 1 pm • Main lobby\nMichael Marini (Piano)
URL:https://pennstatehealthnews.org/event/live-music-in-lobbies-today-36/
LOCATION:Main Entrance Lobby – Penn State Health Milton S. Hershey Medical Center\, 500 University Drive\, Hershey\, PA\, 17033\, United States
CATEGORIES:Arts,Community
ORGANIZER;CN="Aleax Olivera":MAILTO:aoliverea@pennstatehealth.psu.edu
GEO:40.2640375;-76.6766783
X-APPLE-STRUCTURED-LOCATION;VALUE=URI;X-ADDRESS=Main Entrance Lobby – Penn State Health Milton S. Hershey Medical Center 500 University Drive Hershey PA 17033 United States;X-APPLE-RADIUS=500;X-TITLE=500 University Drive:geo:-76.6766783,40.2640375
END:VEVENT
BEGIN:VEVENT
DTSTART;TZID=America/New_York:20260326T143000
DTEND;TZID=America/New_York:20260326T160000
DTSTAMP:20260423T061745
CREATED:20260220T193752Z
LAST-MODIFIED:20260220T193752Z
UID:10008463-1774535400-1774540800@pennstatehealthnews.org
SUMMARY:Live Music in Lobbies Today
DESCRIPTION:2:30 – 4 pm • Main lobby\nSeasons (Dulcimer)
URL:https://pennstatehealthnews.org/event/live-music-in-lobbies-today-37/
LOCATION:Main Entrance Lobby – Penn State Health Milton S. Hershey Medical Center\, 500 University Drive\, Hershey\, PA\, 17033\, United States
CATEGORIES:Arts,Community
ORGANIZER;CN="Aleax Olivera":MAILTO:aoliverea@pennstatehealth.psu.edu
GEO:40.2640375;-76.6766783
X-APPLE-STRUCTURED-LOCATION;VALUE=URI;X-ADDRESS=Main Entrance Lobby – Penn State Health Milton S. Hershey Medical Center 500 University Drive Hershey PA 17033 United States;X-APPLE-RADIUS=500;X-TITLE=500 University Drive:geo:-76.6766783,40.2640375
END:VEVENT
BEGIN:VEVENT
DTSTART;TZID=America/New_York:20260327T100000
DTEND;TZID=America/New_York:20260327T113000
DTSTAMP:20260423T061745
CREATED:20260220T193753Z
LAST-MODIFIED:20260220T193753Z
UID:10008464-1774605600-1774611000@pennstatehealthnews.org
SUMMARY:Live Music in Lobbies Today
DESCRIPTION:10 – 11:30 am • Main lobby\nSeasons (Dulcimer and Harp)
URL:https://pennstatehealthnews.org/event/live-music-in-lobbies-today-38/
LOCATION:Main Entrance Lobby – Penn State Health Milton S. Hershey Medical Center\, 500 University Drive\, Hershey\, PA\, 17033\, United States
CATEGORIES:Arts,Community
ORGANIZER;CN="Aleax Olivera":MAILTO:aoliverea@pennstatehealth.psu.edu
GEO:40.2640375;-76.6766783
X-APPLE-STRUCTURED-LOCATION;VALUE=URI;X-ADDRESS=Main Entrance Lobby – Penn State Health Milton S. Hershey Medical Center 500 University Drive Hershey PA 17033 United States;X-APPLE-RADIUS=500;X-TITLE=500 University Drive:geo:-76.6766783,40.2640375
END:VEVENT
END:VCALENDAR