BEGIN:VCALENDAR
VERSION:2.0
PRODID:-//Penn State Health News - ECPv6.15.20//NONSGML v1.0//EN
CALSCALE:GREGORIAN
METHOD:PUBLISH
X-ORIGINAL-URL:https://pennstatehealthnews.org
X-WR-CALDESC:Events for Penn State Health News
REFRESH-INTERVAL;VALUE=DURATION:PT1H
X-Robots-Tag:noindex
X-PUBLISHED-TTL:PT1H
BEGIN:VTIMEZONE
TZID:America/New_York
BEGIN:DAYLIGHT
TZOFFSETFROM:-0500
TZOFFSETTO:-0400
TZNAME:EDT
DTSTART:20250309T070000
END:DAYLIGHT
BEGIN:STANDARD
TZOFFSETFROM:-0400
TZOFFSETTO:-0500
TZNAME:EST
DTSTART:20251102T060000
END:STANDARD
BEGIN:DAYLIGHT
TZOFFSETFROM:-0500
TZOFFSETTO:-0400
TZNAME:EDT
DTSTART:20260308T070000
END:DAYLIGHT
BEGIN:STANDARD
TZOFFSETFROM:-0400
TZOFFSETTO:-0500
TZNAME:EST
DTSTART:20261101T060000
END:STANDARD
BEGIN:DAYLIGHT
TZOFFSETFROM:-0500
TZOFFSETTO:-0400
TZNAME:EDT
DTSTART:20270314T070000
END:DAYLIGHT
BEGIN:STANDARD
TZOFFSETFROM:-0400
TZOFFSETTO:-0500
TZNAME:EST
DTSTART:20271107T060000
END:STANDARD
END:VTIMEZONE
BEGIN:VEVENT
DTSTART;TZID=America/New_York:20260715T130000
DTEND;TZID=America/New_York:20260715T140000
DTSTAMP:20260422T004230
CREATED:20260408T194214Z
LAST-MODIFIED:20260408T194304Z
UID:10009770-1784120400-1784124000@pennstatehealthnews.org
SUMMARY:COM Research Data: Live Help Sessions
DESCRIPTION:The COM Research Data team is now offering live help sessions to support you with all your research data needs. Whether you have a data request\, questions about research data\, or need real-time data provision\, our team is here to assist. We can also help answer any concerns related to data collection or provide guidance on design specifications and self-service design. Don’t hesitate to join the live sessions for expert support and timely solutions to ensure your research runs smoothly. \nPlease email COMResearchData@pennstatehealth.psu.edu for more information.
URL:https://pennstatehealthnews.org/event/com-research-data-live-help-sessions/2026-07-15/
CATEGORIES:Continuing Education
END:VEVENT
BEGIN:VEVENT
DTSTART;TZID=America/New_York:20260730T120000
DTEND;TZID=America/New_York:20260730T130000
DTSTAMP:20260422T004230
CREATED:20260316T133911Z
LAST-MODIFIED:20260316T133911Z
UID:10009593-1785412800-1785416400@pennstatehealthnews.org
SUMMARY:Learning at All Levels: How Peer and Near-Peer Teaching Improve Outcomes
DESCRIPTION:Learning at All Levels: How Peer and Near-Peer Teaching Improve Outcomes \nPresenter: Jeanine Beatty-Chadha\, M.Ed. \nObjectives: \n\nDiscuss the benefits of peer and near-peer teaching.\nDescribe examples of peer and near-peer teaching.\nBegin to develop a peer teaching activity for learners in your setting.\n\nRegister here
URL:https://pennstatehealthnews.org/event/learning-at-all-levels-how-peer-and-near-peer-teaching-improve-outcomes/
LOCATION:Zoom
CATEGORIES:Continuing Education,Grand Rounds,Lectures/Seminars/Academic Presentations,Professional Development,Student Groups
ORGANIZER;CN="Woodward Center for Excellence in Health Sciences Education":MAILTO:WoodwardCenter@pennstatehealth.psu.edu
END:VEVENT
END:VCALENDAR