BEGIN:VCALENDAR
VERSION:2.0
PRODID:-//Penn State Health News - ECPv6.15.20//NONSGML v1.0//EN
CALSCALE:GREGORIAN
METHOD:PUBLISH
X-ORIGINAL-URL:https://pennstatehealthnews.org
X-WR-CALDESC:Events for Penn State Health News
REFRESH-INTERVAL;VALUE=DURATION:PT1H
X-Robots-Tag:noindex
X-PUBLISHED-TTL:PT1H
BEGIN:VTIMEZONE
TZID:America/New_York
BEGIN:DAYLIGHT
TZOFFSETFROM:-0500
TZOFFSETTO:-0400
TZNAME:EDT
DTSTART:20250309T070000
END:DAYLIGHT
BEGIN:STANDARD
TZOFFSETFROM:-0400
TZOFFSETTO:-0500
TZNAME:EST
DTSTART:20251102T060000
END:STANDARD
BEGIN:DAYLIGHT
TZOFFSETFROM:-0500
TZOFFSETTO:-0400
TZNAME:EDT
DTSTART:20260308T070000
END:DAYLIGHT
BEGIN:STANDARD
TZOFFSETFROM:-0400
TZOFFSETTO:-0500
TZNAME:EST
DTSTART:20261101T060000
END:STANDARD
BEGIN:DAYLIGHT
TZOFFSETFROM:-0500
TZOFFSETTO:-0400
TZNAME:EDT
DTSTART:20270314T070000
END:DAYLIGHT
BEGIN:STANDARD
TZOFFSETFROM:-0400
TZOFFSETTO:-0500
TZNAME:EST
DTSTART:20271107T060000
END:STANDARD
BEGIN:DAYLIGHT
TZOFFSETFROM:-0500
TZOFFSETTO:-0400
TZNAME:EDT
DTSTART:20280312T070000
END:DAYLIGHT
BEGIN:STANDARD
TZOFFSETFROM:-0400
TZOFFSETTO:-0500
TZNAME:EST
DTSTART:20281105T060000
END:STANDARD
BEGIN:DAYLIGHT
TZOFFSETFROM:-0500
TZOFFSETTO:-0400
TZNAME:EDT
DTSTART:20290311T070000
END:DAYLIGHT
BEGIN:STANDARD
TZOFFSETFROM:-0400
TZOFFSETTO:-0500
TZNAME:EST
DTSTART:20291104T060000
END:STANDARD
END:VTIMEZONE
BEGIN:VEVENT
DTSTART;TZID=America/New_York:20260514T120000
DTEND;TZID=America/New_York:20260514T133000
DTSTAMP:20260422T131912
CREATED:20221026T151310Z
LAST-MODIFIED:20240201T133648Z
UID:10002082-1778760000-1778765400@pennstatehealthnews.org
SUMMARY:Institutional Biosafety Committee (IBC) Meeting
DESCRIPTION:Monthly Institutional Biosafety Committee (IBC) review meeting.
URL:https://pennstatehealthnews.org/event/webinar-institutional-biosafety-committee-ibc-meeting/2026-05-14/
LOCATION:Webconference
ORGANIZER;CN="Institutional Biosafety Committee":MAILTO:BiosafetyAdmin@pennstatehealth.psu.edu
END:VEVENT
BEGIN:VEVENT
DTSTART;TZID=America/New_York:20260611T120000
DTEND;TZID=America/New_York:20260611T133000
DTSTAMP:20260422T131912
CREATED:20221026T151310Z
LAST-MODIFIED:20240201T133648Z
UID:10002083-1781179200-1781184600@pennstatehealthnews.org
SUMMARY:Institutional Biosafety Committee (IBC) Meeting
DESCRIPTION:Monthly Institutional Biosafety Committee (IBC) review meeting.
URL:https://pennstatehealthnews.org/event/webinar-institutional-biosafety-committee-ibc-meeting/2026-06-11/
LOCATION:Webconference
ORGANIZER;CN="Institutional Biosafety Committee":MAILTO:BiosafetyAdmin@pennstatehealth.psu.edu
END:VEVENT
BEGIN:VEVENT
DTSTART;TZID=America/New_York:20260709T120000
DTEND;TZID=America/New_York:20260709T133000
DTSTAMP:20260422T131912
CREATED:20221026T151310Z
LAST-MODIFIED:20240201T133648Z
UID:10002084-1783598400-1783603800@pennstatehealthnews.org
SUMMARY:Institutional Biosafety Committee (IBC) Meeting
DESCRIPTION:Monthly Institutional Biosafety Committee (IBC) review meeting.
URL:https://pennstatehealthnews.org/event/webinar-institutional-biosafety-committee-ibc-meeting/2026-07-09/
LOCATION:Webconference
ORGANIZER;CN="Institutional Biosafety Committee":MAILTO:BiosafetyAdmin@pennstatehealth.psu.edu
END:VEVENT
BEGIN:VEVENT
DTSTART;TZID=America/New_York:20260813T120000
DTEND;TZID=America/New_York:20260813T133000
DTSTAMP:20260422T131912
CREATED:20221026T151310Z
LAST-MODIFIED:20240201T133648Z
UID:10002085-1786622400-1786627800@pennstatehealthnews.org
SUMMARY:Institutional Biosafety Committee (IBC) Meeting
DESCRIPTION:Monthly Institutional Biosafety Committee (IBC) review meeting.
URL:https://pennstatehealthnews.org/event/webinar-institutional-biosafety-committee-ibc-meeting/2026-08-13/
LOCATION:Webconference
ORGANIZER;CN="Institutional Biosafety Committee":MAILTO:BiosafetyAdmin@pennstatehealth.psu.edu
END:VEVENT
BEGIN:VEVENT
DTSTART;TZID=America/New_York:20260910T120000
DTEND;TZID=America/New_York:20260910T133000
DTSTAMP:20260422T131912
CREATED:20221026T151310Z
LAST-MODIFIED:20240201T133648Z
UID:10002086-1789041600-1789047000@pennstatehealthnews.org
SUMMARY:Institutional Biosafety Committee (IBC) Meeting
DESCRIPTION:Monthly Institutional Biosafety Committee (IBC) review meeting.
URL:https://pennstatehealthnews.org/event/webinar-institutional-biosafety-committee-ibc-meeting/2026-09-10/
LOCATION:Webconference
ORGANIZER;CN="Institutional Biosafety Committee":MAILTO:BiosafetyAdmin@pennstatehealth.psu.edu
END:VEVENT
BEGIN:VEVENT
DTSTART;TZID=America/New_York:20261008T120000
DTEND;TZID=America/New_York:20261008T133000
DTSTAMP:20260422T131912
CREATED:20221026T151310Z
LAST-MODIFIED:20240201T133648Z
UID:10002087-1791460800-1791466200@pennstatehealthnews.org
SUMMARY:Institutional Biosafety Committee (IBC) Meeting
DESCRIPTION:Monthly Institutional Biosafety Committee (IBC) review meeting.
URL:https://pennstatehealthnews.org/event/webinar-institutional-biosafety-committee-ibc-meeting/2026-10-08/
LOCATION:Webconference
ORGANIZER;CN="Institutional Biosafety Committee":MAILTO:BiosafetyAdmin@pennstatehealth.psu.edu
END:VEVENT
BEGIN:VEVENT
DTSTART;TZID=America/New_York:20261112T120000
DTEND;TZID=America/New_York:20261112T133000
DTSTAMP:20260422T131912
CREATED:20221026T151310Z
LAST-MODIFIED:20240201T133648Z
UID:10002088-1794484800-1794490200@pennstatehealthnews.org
SUMMARY:Institutional Biosafety Committee (IBC) Meeting
DESCRIPTION:Monthly Institutional Biosafety Committee (IBC) review meeting.
URL:https://pennstatehealthnews.org/event/webinar-institutional-biosafety-committee-ibc-meeting/2026-11-12/
LOCATION:Webconference
ORGANIZER;CN="Institutional Biosafety Committee":MAILTO:BiosafetyAdmin@pennstatehealth.psu.edu
END:VEVENT
BEGIN:VEVENT
DTSTART;TZID=America/New_York:20261210T120000
DTEND;TZID=America/New_York:20261210T133000
DTSTAMP:20260422T131912
CREATED:20221026T151310Z
LAST-MODIFIED:20240201T133648Z
UID:10002089-1796904000-1796909400@pennstatehealthnews.org
SUMMARY:Institutional Biosafety Committee (IBC) Meeting
DESCRIPTION:Monthly Institutional Biosafety Committee (IBC) review meeting.
URL:https://pennstatehealthnews.org/event/webinar-institutional-biosafety-committee-ibc-meeting/2026-12-10/
LOCATION:Webconference
ORGANIZER;CN="Institutional Biosafety Committee":MAILTO:BiosafetyAdmin@pennstatehealth.psu.edu
END:VEVENT
BEGIN:VEVENT
DTSTART;TZID=America/New_York:20270114T120000
DTEND;TZID=America/New_York:20270114T133000
DTSTAMP:20260422T131913
CREATED:20221026T151310Z
LAST-MODIFIED:20240201T133648Z
UID:10002090-1799928000-1799933400@pennstatehealthnews.org
SUMMARY:Institutional Biosafety Committee (IBC) Meeting
DESCRIPTION:Monthly Institutional Biosafety Committee (IBC) review meeting.
URL:https://pennstatehealthnews.org/event/webinar-institutional-biosafety-committee-ibc-meeting/2027-01-14/
LOCATION:Webconference
ORGANIZER;CN="Institutional Biosafety Committee":MAILTO:BiosafetyAdmin@pennstatehealth.psu.edu
END:VEVENT
BEGIN:VEVENT
DTSTART;TZID=America/New_York:20270211T120000
DTEND;TZID=America/New_York:20270211T133000
DTSTAMP:20260422T131913
CREATED:20221026T151310Z
LAST-MODIFIED:20240201T133648Z
UID:10002091-1802347200-1802352600@pennstatehealthnews.org
SUMMARY:Institutional Biosafety Committee (IBC) Meeting
DESCRIPTION:Monthly Institutional Biosafety Committee (IBC) review meeting.
URL:https://pennstatehealthnews.org/event/webinar-institutional-biosafety-committee-ibc-meeting/2027-02-11/
LOCATION:Webconference
ORGANIZER;CN="Institutional Biosafety Committee":MAILTO:BiosafetyAdmin@pennstatehealth.psu.edu
END:VEVENT
BEGIN:VEVENT
DTSTART;TZID=America/New_York:20270311T120000
DTEND;TZID=America/New_York:20270311T133000
DTSTAMP:20260422T131913
CREATED:20221026T151310Z
LAST-MODIFIED:20240201T133648Z
UID:10002092-1804766400-1804771800@pennstatehealthnews.org
SUMMARY:Institutional Biosafety Committee (IBC) Meeting
DESCRIPTION:Monthly Institutional Biosafety Committee (IBC) review meeting.
URL:https://pennstatehealthnews.org/event/webinar-institutional-biosafety-committee-ibc-meeting/2027-03-11/
LOCATION:Webconference
ORGANIZER;CN="Institutional Biosafety Committee":MAILTO:BiosafetyAdmin@pennstatehealth.psu.edu
END:VEVENT
BEGIN:VEVENT
DTSTART;TZID=America/New_York:20270408T120000
DTEND;TZID=America/New_York:20270408T133000
DTSTAMP:20260422T131913
CREATED:20221026T151310Z
LAST-MODIFIED:20240201T133648Z
UID:10002093-1807185600-1807191000@pennstatehealthnews.org
SUMMARY:Institutional Biosafety Committee (IBC) Meeting
DESCRIPTION:Monthly Institutional Biosafety Committee (IBC) review meeting.
URL:https://pennstatehealthnews.org/event/webinar-institutional-biosafety-committee-ibc-meeting/2027-04-08/
LOCATION:Webconference
ORGANIZER;CN="Institutional Biosafety Committee":MAILTO:BiosafetyAdmin@pennstatehealth.psu.edu
END:VEVENT
BEGIN:VEVENT
DTSTART;TZID=America/New_York:20270513T120000
DTEND;TZID=America/New_York:20270513T133000
DTSTAMP:20260422T131913
CREATED:20221026T151310Z
LAST-MODIFIED:20240201T133648Z
UID:10002094-1810209600-1810215000@pennstatehealthnews.org
SUMMARY:Institutional Biosafety Committee (IBC) Meeting
DESCRIPTION:Monthly Institutional Biosafety Committee (IBC) review meeting.
URL:https://pennstatehealthnews.org/event/webinar-institutional-biosafety-committee-ibc-meeting/2027-05-13/
LOCATION:Webconference
ORGANIZER;CN="Institutional Biosafety Committee":MAILTO:BiosafetyAdmin@pennstatehealth.psu.edu
END:VEVENT
BEGIN:VEVENT
DTSTART;TZID=America/New_York:20270610T120000
DTEND;TZID=America/New_York:20270610T133000
DTSTAMP:20260422T131913
CREATED:20221026T151310Z
LAST-MODIFIED:20240201T133648Z
UID:10002095-1812628800-1812634200@pennstatehealthnews.org
SUMMARY:Institutional Biosafety Committee (IBC) Meeting
DESCRIPTION:Monthly Institutional Biosafety Committee (IBC) review meeting.
URL:https://pennstatehealthnews.org/event/webinar-institutional-biosafety-committee-ibc-meeting/2027-06-10/
LOCATION:Webconference
ORGANIZER;CN="Institutional Biosafety Committee":MAILTO:BiosafetyAdmin@pennstatehealth.psu.edu
END:VEVENT
BEGIN:VEVENT
DTSTART;TZID=America/New_York:20270708T120000
DTEND;TZID=America/New_York:20270708T133000
DTSTAMP:20260422T131913
CREATED:20221026T151310Z
LAST-MODIFIED:20240201T133648Z
UID:10002096-1815048000-1815053400@pennstatehealthnews.org
SUMMARY:Institutional Biosafety Committee (IBC) Meeting
DESCRIPTION:Monthly Institutional Biosafety Committee (IBC) review meeting.
URL:https://pennstatehealthnews.org/event/webinar-institutional-biosafety-committee-ibc-meeting/2027-07-08/
LOCATION:Webconference
ORGANIZER;CN="Institutional Biosafety Committee":MAILTO:BiosafetyAdmin@pennstatehealth.psu.edu
END:VEVENT
BEGIN:VEVENT
DTSTART;TZID=America/New_York:20270812T120000
DTEND;TZID=America/New_York:20270812T133000
DTSTAMP:20260422T131913
CREATED:20221026T151310Z
LAST-MODIFIED:20240201T133648Z
UID:10002097-1818072000-1818077400@pennstatehealthnews.org
SUMMARY:Institutional Biosafety Committee (IBC) Meeting
DESCRIPTION:Monthly Institutional Biosafety Committee (IBC) review meeting.
URL:https://pennstatehealthnews.org/event/webinar-institutional-biosafety-committee-ibc-meeting/2027-08-12/
LOCATION:Webconference
ORGANIZER;CN="Institutional Biosafety Committee":MAILTO:BiosafetyAdmin@pennstatehealth.psu.edu
END:VEVENT
BEGIN:VEVENT
DTSTART;TZID=America/New_York:20270909T120000
DTEND;TZID=America/New_York:20270909T133000
DTSTAMP:20260422T131913
CREATED:20221026T151310Z
LAST-MODIFIED:20240201T133648Z
UID:10002098-1820491200-1820496600@pennstatehealthnews.org
SUMMARY:Institutional Biosafety Committee (IBC) Meeting
DESCRIPTION:Monthly Institutional Biosafety Committee (IBC) review meeting.
URL:https://pennstatehealthnews.org/event/webinar-institutional-biosafety-committee-ibc-meeting/2027-09-09/
LOCATION:Webconference
ORGANIZER;CN="Institutional Biosafety Committee":MAILTO:BiosafetyAdmin@pennstatehealth.psu.edu
END:VEVENT
BEGIN:VEVENT
DTSTART;TZID=America/New_York:20271014T120000
DTEND;TZID=America/New_York:20271014T133000
DTSTAMP:20260422T131913
CREATED:20221026T151310Z
LAST-MODIFIED:20240201T133648Z
UID:10002099-1823515200-1823520600@pennstatehealthnews.org
SUMMARY:Institutional Biosafety Committee (IBC) Meeting
DESCRIPTION:Monthly Institutional Biosafety Committee (IBC) review meeting.
URL:https://pennstatehealthnews.org/event/webinar-institutional-biosafety-committee-ibc-meeting/2027-10-14/
LOCATION:Webconference
ORGANIZER;CN="Institutional Biosafety Committee":MAILTO:BiosafetyAdmin@pennstatehealth.psu.edu
END:VEVENT
BEGIN:VEVENT
DTSTART;TZID=America/New_York:20271111T120000
DTEND;TZID=America/New_York:20271111T133000
DTSTAMP:20260422T131913
CREATED:20221026T151310Z
LAST-MODIFIED:20240201T133648Z
UID:10002100-1825934400-1825939800@pennstatehealthnews.org
SUMMARY:Institutional Biosafety Committee (IBC) Meeting
DESCRIPTION:Monthly Institutional Biosafety Committee (IBC) review meeting.
URL:https://pennstatehealthnews.org/event/webinar-institutional-biosafety-committee-ibc-meeting/2027-11-11/
LOCATION:Webconference
ORGANIZER;CN="Institutional Biosafety Committee":MAILTO:BiosafetyAdmin@pennstatehealth.psu.edu
END:VEVENT
BEGIN:VEVENT
DTSTART;TZID=America/New_York:20271209T120000
DTEND;TZID=America/New_York:20271209T133000
DTSTAMP:20260422T131913
CREATED:20221026T151310Z
LAST-MODIFIED:20240201T133648Z
UID:10002101-1828353600-1828359000@pennstatehealthnews.org
SUMMARY:Institutional Biosafety Committee (IBC) Meeting
DESCRIPTION:Monthly Institutional Biosafety Committee (IBC) review meeting.
URL:https://pennstatehealthnews.org/event/webinar-institutional-biosafety-committee-ibc-meeting/2027-12-09/
LOCATION:Webconference
ORGANIZER;CN="Institutional Biosafety Committee":MAILTO:BiosafetyAdmin@pennstatehealth.psu.edu
END:VEVENT
BEGIN:VEVENT
DTSTART;TZID=America/New_York:20280113T120000
DTEND;TZID=America/New_York:20280113T133000
DTSTAMP:20260422T131913
CREATED:20221026T151310Z
LAST-MODIFIED:20240201T133648Z
UID:10002102-1831377600-1831383000@pennstatehealthnews.org
SUMMARY:Institutional Biosafety Committee (IBC) Meeting
DESCRIPTION:Monthly Institutional Biosafety Committee (IBC) review meeting.
URL:https://pennstatehealthnews.org/event/webinar-institutional-biosafety-committee-ibc-meeting/2028-01-13/
LOCATION:Webconference
ORGANIZER;CN="Institutional Biosafety Committee":MAILTO:BiosafetyAdmin@pennstatehealth.psu.edu
END:VEVENT
BEGIN:VEVENT
DTSTART;TZID=America/New_York:20280210T120000
DTEND;TZID=America/New_York:20280210T133000
DTSTAMP:20260422T131913
CREATED:20221026T151310Z
LAST-MODIFIED:20240201T133648Z
UID:10002103-1833796800-1833802200@pennstatehealthnews.org
SUMMARY:Institutional Biosafety Committee (IBC) Meeting
DESCRIPTION:Monthly Institutional Biosafety Committee (IBC) review meeting.
URL:https://pennstatehealthnews.org/event/webinar-institutional-biosafety-committee-ibc-meeting/2028-02-10/
LOCATION:Webconference
ORGANIZER;CN="Institutional Biosafety Committee":MAILTO:BiosafetyAdmin@pennstatehealth.psu.edu
END:VEVENT
BEGIN:VEVENT
DTSTART;TZID=America/New_York:20280309T120000
DTEND;TZID=America/New_York:20280309T133000
DTSTAMP:20260422T131913
CREATED:20221026T151310Z
LAST-MODIFIED:20240201T133648Z
UID:10002104-1836216000-1836221400@pennstatehealthnews.org
SUMMARY:Institutional Biosafety Committee (IBC) Meeting
DESCRIPTION:Monthly Institutional Biosafety Committee (IBC) review meeting.
URL:https://pennstatehealthnews.org/event/webinar-institutional-biosafety-committee-ibc-meeting/2028-03-09/
LOCATION:Webconference
ORGANIZER;CN="Institutional Biosafety Committee":MAILTO:BiosafetyAdmin@pennstatehealth.psu.edu
END:VEVENT
BEGIN:VEVENT
DTSTART;TZID=America/New_York:20280413T120000
DTEND;TZID=America/New_York:20280413T133000
DTSTAMP:20260422T131913
CREATED:20221026T151310Z
LAST-MODIFIED:20240201T133648Z
UID:10002105-1839240000-1839245400@pennstatehealthnews.org
SUMMARY:Institutional Biosafety Committee (IBC) Meeting
DESCRIPTION:Monthly Institutional Biosafety Committee (IBC) review meeting.
URL:https://pennstatehealthnews.org/event/webinar-institutional-biosafety-committee-ibc-meeting/2028-04-13/
LOCATION:Webconference
ORGANIZER;CN="Institutional Biosafety Committee":MAILTO:BiosafetyAdmin@pennstatehealth.psu.edu
END:VEVENT
BEGIN:VEVENT
DTSTART;TZID=America/New_York:20280511T120000
DTEND;TZID=America/New_York:20280511T133000
DTSTAMP:20260422T131913
CREATED:20221026T151310Z
LAST-MODIFIED:20240201T133648Z
UID:10002106-1841659200-1841664600@pennstatehealthnews.org
SUMMARY:Institutional Biosafety Committee (IBC) Meeting
DESCRIPTION:Monthly Institutional Biosafety Committee (IBC) review meeting.
URL:https://pennstatehealthnews.org/event/webinar-institutional-biosafety-committee-ibc-meeting/2028-05-11/
LOCATION:Webconference
ORGANIZER;CN="Institutional Biosafety Committee":MAILTO:BiosafetyAdmin@pennstatehealth.psu.edu
END:VEVENT
BEGIN:VEVENT
DTSTART;TZID=America/New_York:20280608T120000
DTEND;TZID=America/New_York:20280608T133000
DTSTAMP:20260422T131913
CREATED:20221026T151310Z
LAST-MODIFIED:20240201T133648Z
UID:10002107-1844078400-1844083800@pennstatehealthnews.org
SUMMARY:Institutional Biosafety Committee (IBC) Meeting
DESCRIPTION:Monthly Institutional Biosafety Committee (IBC) review meeting.
URL:https://pennstatehealthnews.org/event/webinar-institutional-biosafety-committee-ibc-meeting/2028-06-08/
LOCATION:Webconference
ORGANIZER;CN="Institutional Biosafety Committee":MAILTO:BiosafetyAdmin@pennstatehealth.psu.edu
END:VEVENT
BEGIN:VEVENT
DTSTART;TZID=America/New_York:20280713T120000
DTEND;TZID=America/New_York:20280713T133000
DTSTAMP:20260422T131913
CREATED:20221026T151310Z
LAST-MODIFIED:20240201T133648Z
UID:10002108-1847102400-1847107800@pennstatehealthnews.org
SUMMARY:Institutional Biosafety Committee (IBC) Meeting
DESCRIPTION:Monthly Institutional Biosafety Committee (IBC) review meeting.
URL:https://pennstatehealthnews.org/event/webinar-institutional-biosafety-committee-ibc-meeting/2028-07-13/
LOCATION:Webconference
ORGANIZER;CN="Institutional Biosafety Committee":MAILTO:BiosafetyAdmin@pennstatehealth.psu.edu
END:VEVENT
BEGIN:VEVENT
DTSTART;TZID=America/New_York:20280810T120000
DTEND;TZID=America/New_York:20280810T133000
DTSTAMP:20260422T131913
CREATED:20221026T151310Z
LAST-MODIFIED:20240201T133648Z
UID:10002109-1849521600-1849527000@pennstatehealthnews.org
SUMMARY:Institutional Biosafety Committee (IBC) Meeting
DESCRIPTION:Monthly Institutional Biosafety Committee (IBC) review meeting.
URL:https://pennstatehealthnews.org/event/webinar-institutional-biosafety-committee-ibc-meeting/2028-08-10/
LOCATION:Webconference
ORGANIZER;CN="Institutional Biosafety Committee":MAILTO:BiosafetyAdmin@pennstatehealth.psu.edu
END:VEVENT
BEGIN:VEVENT
DTSTART;TZID=America/New_York:20280914T120000
DTEND;TZID=America/New_York:20280914T133000
DTSTAMP:20260422T131913
CREATED:20221026T151310Z
LAST-MODIFIED:20240201T133648Z
UID:10002553-1852545600-1852551000@pennstatehealthnews.org
SUMMARY:Institutional Biosafety Committee (IBC) Meeting
DESCRIPTION:Monthly Institutional Biosafety Committee (IBC) review meeting.
URL:https://pennstatehealthnews.org/event/webinar-institutional-biosafety-committee-ibc-meeting/2028-09-14/
LOCATION:Webconference
ORGANIZER;CN="Institutional Biosafety Committee":MAILTO:BiosafetyAdmin@pennstatehealth.psu.edu
END:VEVENT
BEGIN:VEVENT
DTSTART;TZID=America/New_York:20281012T120000
DTEND;TZID=America/New_York:20281012T133000
DTSTAMP:20260422T131913
CREATED:20221026T151310Z
LAST-MODIFIED:20240201T133648Z
UID:10002679-1854964800-1854970200@pennstatehealthnews.org
SUMMARY:Institutional Biosafety Committee (IBC) Meeting
DESCRIPTION:Monthly Institutional Biosafety Committee (IBC) review meeting.
URL:https://pennstatehealthnews.org/event/webinar-institutional-biosafety-committee-ibc-meeting/2028-10-12/
LOCATION:Webconference
ORGANIZER;CN="Institutional Biosafety Committee":MAILTO:BiosafetyAdmin@pennstatehealth.psu.edu
END:VEVENT
END:VCALENDAR