BEGIN:VCALENDAR
VERSION:2.0
PRODID:-//Penn State Health News - ECPv6.15.20//NONSGML v1.0//EN
CALSCALE:GREGORIAN
METHOD:PUBLISH
X-ORIGINAL-URL:https://pennstatehealthnews.org
X-WR-CALDESC:Events for Penn State Health News
REFRESH-INTERVAL;VALUE=DURATION:PT1H
X-Robots-Tag:noindex
X-PUBLISHED-TTL:PT1H
BEGIN:VTIMEZONE
TZID:America/New_York
BEGIN:DAYLIGHT
TZOFFSETFROM:-0500
TZOFFSETTO:-0400
TZNAME:EDT
DTSTART:20270314T070000
END:DAYLIGHT
BEGIN:STANDARD
TZOFFSETFROM:-0400
TZOFFSETTO:-0500
TZNAME:EST
DTSTART:20271107T060000
END:STANDARD
BEGIN:DAYLIGHT
TZOFFSETFROM:-0500
TZOFFSETTO:-0400
TZNAME:EDT
DTSTART:20280312T070000
END:DAYLIGHT
BEGIN:STANDARD
TZOFFSETFROM:-0400
TZOFFSETTO:-0500
TZNAME:EST
DTSTART:20281105T060000
END:STANDARD
BEGIN:DAYLIGHT
TZOFFSETFROM:-0500
TZOFFSETTO:-0400
TZNAME:EDT
DTSTART:20290311T070000
END:DAYLIGHT
BEGIN:STANDARD
TZOFFSETFROM:-0400
TZOFFSETTO:-0500
TZNAME:EST
DTSTART:20291104T060000
END:STANDARD
BEGIN:DAYLIGHT
TZOFFSETFROM:-0500
TZOFFSETTO:-0400
TZNAME:EDT
DTSTART:20300310T070000
END:DAYLIGHT
BEGIN:STANDARD
TZOFFSETFROM:-0400
TZOFFSETTO:-0500
TZNAME:EST
DTSTART:20301103T060000
END:STANDARD
BEGIN:DAYLIGHT
TZOFFSETFROM:-0500
TZOFFSETTO:-0400
TZNAME:EDT
DTSTART:20310309T070000
END:DAYLIGHT
BEGIN:STANDARD
TZOFFSETFROM:-0400
TZOFFSETTO:-0500
TZNAME:EST
DTSTART:20311102T060000
END:STANDARD
END:VTIMEZONE
BEGIN:VEVENT
DTSTART;TZID=America/New_York:20280608T120000
DTEND;TZID=America/New_York:20280608T133000
DTSTAMP:20260422T142556
CREATED:20221026T151310Z
LAST-MODIFIED:20240201T133648Z
UID:10002107-1844078400-1844083800@pennstatehealthnews.org
SUMMARY:Institutional Biosafety Committee (IBC) Meeting
DESCRIPTION:Monthly Institutional Biosafety Committee (IBC) review meeting.
URL:https://pennstatehealthnews.org/event/webinar-institutional-biosafety-committee-ibc-meeting/2028-06-08/
LOCATION:Webconference
ORGANIZER;CN="Institutional Biosafety Committee":MAILTO:BiosafetyAdmin@pennstatehealth.psu.edu
END:VEVENT
BEGIN:VEVENT
DTSTART;TZID=America/New_York:20280713T120000
DTEND;TZID=America/New_York:20280713T133000
DTSTAMP:20260422T142556
CREATED:20221026T151310Z
LAST-MODIFIED:20240201T133648Z
UID:10002108-1847102400-1847107800@pennstatehealthnews.org
SUMMARY:Institutional Biosafety Committee (IBC) Meeting
DESCRIPTION:Monthly Institutional Biosafety Committee (IBC) review meeting.
URL:https://pennstatehealthnews.org/event/webinar-institutional-biosafety-committee-ibc-meeting/2028-07-13/
LOCATION:Webconference
ORGANIZER;CN="Institutional Biosafety Committee":MAILTO:BiosafetyAdmin@pennstatehealth.psu.edu
END:VEVENT
BEGIN:VEVENT
DTSTART;TZID=America/New_York:20280810T120000
DTEND;TZID=America/New_York:20280810T133000
DTSTAMP:20260422T142556
CREATED:20221026T151310Z
LAST-MODIFIED:20240201T133648Z
UID:10002109-1849521600-1849527000@pennstatehealthnews.org
SUMMARY:Institutional Biosafety Committee (IBC) Meeting
DESCRIPTION:Monthly Institutional Biosafety Committee (IBC) review meeting.
URL:https://pennstatehealthnews.org/event/webinar-institutional-biosafety-committee-ibc-meeting/2028-08-10/
LOCATION:Webconference
ORGANIZER;CN="Institutional Biosafety Committee":MAILTO:BiosafetyAdmin@pennstatehealth.psu.edu
END:VEVENT
BEGIN:VEVENT
DTSTART;TZID=America/New_York:20280914T120000
DTEND;TZID=America/New_York:20280914T133000
DTSTAMP:20260422T142556
CREATED:20221026T151310Z
LAST-MODIFIED:20240201T133648Z
UID:10002553-1852545600-1852551000@pennstatehealthnews.org
SUMMARY:Institutional Biosafety Committee (IBC) Meeting
DESCRIPTION:Monthly Institutional Biosafety Committee (IBC) review meeting.
URL:https://pennstatehealthnews.org/event/webinar-institutional-biosafety-committee-ibc-meeting/2028-09-14/
LOCATION:Webconference
ORGANIZER;CN="Institutional Biosafety Committee":MAILTO:BiosafetyAdmin@pennstatehealth.psu.edu
END:VEVENT
BEGIN:VEVENT
DTSTART;TZID=America/New_York:20281012T120000
DTEND;TZID=America/New_York:20281012T133000
DTSTAMP:20260422T142556
CREATED:20221026T151310Z
LAST-MODIFIED:20240201T133648Z
UID:10002679-1854964800-1854970200@pennstatehealthnews.org
SUMMARY:Institutional Biosafety Committee (IBC) Meeting
DESCRIPTION:Monthly Institutional Biosafety Committee (IBC) review meeting.
URL:https://pennstatehealthnews.org/event/webinar-institutional-biosafety-committee-ibc-meeting/2028-10-12/
LOCATION:Webconference
ORGANIZER;CN="Institutional Biosafety Committee":MAILTO:BiosafetyAdmin@pennstatehealth.psu.edu
END:VEVENT
BEGIN:VEVENT
DTSTART;TZID=America/New_York:20281109T120000
DTEND;TZID=America/New_York:20281109T133000
DTSTAMP:20260422T142556
CREATED:20221026T151310Z
LAST-MODIFIED:20240201T133648Z
UID:10002786-1857384000-1857389400@pennstatehealthnews.org
SUMMARY:Institutional Biosafety Committee (IBC) Meeting
DESCRIPTION:Monthly Institutional Biosafety Committee (IBC) review meeting.
URL:https://pennstatehealthnews.org/event/webinar-institutional-biosafety-committee-ibc-meeting/2028-11-09/
LOCATION:Webconference
ORGANIZER;CN="Institutional Biosafety Committee":MAILTO:BiosafetyAdmin@pennstatehealth.psu.edu
END:VEVENT
BEGIN:VEVENT
DTSTART;TZID=America/New_York:20281214T120000
DTEND;TZID=America/New_York:20281214T133000
DTSTAMP:20260422T142556
CREATED:20221026T151310Z
LAST-MODIFIED:20240201T133648Z
UID:10003303-1860408000-1860413400@pennstatehealthnews.org
SUMMARY:Institutional Biosafety Committee (IBC) Meeting
DESCRIPTION:Monthly Institutional Biosafety Committee (IBC) review meeting.
URL:https://pennstatehealthnews.org/event/webinar-institutional-biosafety-committee-ibc-meeting/2028-12-14/
LOCATION:Webconference
ORGANIZER;CN="Institutional Biosafety Committee":MAILTO:BiosafetyAdmin@pennstatehealth.psu.edu
END:VEVENT
BEGIN:VEVENT
DTSTART;TZID=America/New_York:20290111T120000
DTEND;TZID=America/New_York:20290111T133000
DTSTAMP:20260422T142556
CREATED:20221026T151310Z
LAST-MODIFIED:20240201T133648Z
UID:10003304-1862827200-1862832600@pennstatehealthnews.org
SUMMARY:Institutional Biosafety Committee (IBC) Meeting
DESCRIPTION:Monthly Institutional Biosafety Committee (IBC) review meeting.
URL:https://pennstatehealthnews.org/event/webinar-institutional-biosafety-committee-ibc-meeting/2029-01-11/
LOCATION:Webconference
ORGANIZER;CN="Institutional Biosafety Committee":MAILTO:BiosafetyAdmin@pennstatehealth.psu.edu
END:VEVENT
BEGIN:VEVENT
DTSTART;TZID=America/New_York:20290208T120000
DTEND;TZID=America/New_York:20290208T133000
DTSTAMP:20260422T142556
CREATED:20221026T151310Z
LAST-MODIFIED:20240201T133648Z
UID:10003358-1865246400-1865251800@pennstatehealthnews.org
SUMMARY:Institutional Biosafety Committee (IBC) Meeting
DESCRIPTION:Monthly Institutional Biosafety Committee (IBC) review meeting.
URL:https://pennstatehealthnews.org/event/webinar-institutional-biosafety-committee-ibc-meeting/2029-02-08/
LOCATION:Webconference
ORGANIZER;CN="Institutional Biosafety Committee":MAILTO:BiosafetyAdmin@pennstatehealth.psu.edu
END:VEVENT
BEGIN:VEVENT
DTSTART;TZID=America/New_York:20290308T120000
DTEND;TZID=America/New_York:20290308T133000
DTSTAMP:20260422T142556
CREATED:20221026T151310Z
LAST-MODIFIED:20240201T133648Z
UID:10003513-1867665600-1867671000@pennstatehealthnews.org
SUMMARY:Institutional Biosafety Committee (IBC) Meeting
DESCRIPTION:Monthly Institutional Biosafety Committee (IBC) review meeting.
URL:https://pennstatehealthnews.org/event/webinar-institutional-biosafety-committee-ibc-meeting/2029-03-08/
LOCATION:Webconference
ORGANIZER;CN="Institutional Biosafety Committee":MAILTO:BiosafetyAdmin@pennstatehealth.psu.edu
END:VEVENT
BEGIN:VEVENT
DTSTART;TZID=America/New_York:20290412T120000
DTEND;TZID=America/New_York:20290412T133000
DTSTAMP:20260422T142556
CREATED:20221026T151310Z
LAST-MODIFIED:20240201T133648Z
UID:10003621-1870689600-1870695000@pennstatehealthnews.org
SUMMARY:Institutional Biosafety Committee (IBC) Meeting
DESCRIPTION:Monthly Institutional Biosafety Committee (IBC) review meeting.
URL:https://pennstatehealthnews.org/event/webinar-institutional-biosafety-committee-ibc-meeting/2029-04-12/
LOCATION:Webconference
ORGANIZER;CN="Institutional Biosafety Committee":MAILTO:BiosafetyAdmin@pennstatehealth.psu.edu
END:VEVENT
BEGIN:VEVENT
DTSTART;TZID=America/New_York:20290510T120000
DTEND;TZID=America/New_York:20290510T133000
DTSTAMP:20260422T142556
CREATED:20221026T151310Z
LAST-MODIFIED:20240201T133648Z
UID:10003863-1873108800-1873114200@pennstatehealthnews.org
SUMMARY:Institutional Biosafety Committee (IBC) Meeting
DESCRIPTION:Monthly Institutional Biosafety Committee (IBC) review meeting.
URL:https://pennstatehealthnews.org/event/webinar-institutional-biosafety-committee-ibc-meeting/2029-05-10/
LOCATION:Webconference
ORGANIZER;CN="Institutional Biosafety Committee":MAILTO:BiosafetyAdmin@pennstatehealth.psu.edu
END:VEVENT
BEGIN:VEVENT
DTSTART;TZID=America/New_York:20290614T120000
DTEND;TZID=America/New_York:20290614T133000
DTSTAMP:20260422T142556
CREATED:20221026T151310Z
LAST-MODIFIED:20240201T133648Z
UID:10003864-1876132800-1876138200@pennstatehealthnews.org
SUMMARY:Institutional Biosafety Committee (IBC) Meeting
DESCRIPTION:Monthly Institutional Biosafety Committee (IBC) review meeting.
URL:https://pennstatehealthnews.org/event/webinar-institutional-biosafety-committee-ibc-meeting/2029-06-14/
LOCATION:Webconference
ORGANIZER;CN="Institutional Biosafety Committee":MAILTO:BiosafetyAdmin@pennstatehealth.psu.edu
END:VEVENT
BEGIN:VEVENT
DTSTART;TZID=America/New_York:20290712T120000
DTEND;TZID=America/New_York:20290712T133000
DTSTAMP:20260422T142556
CREATED:20221026T151310Z
LAST-MODIFIED:20240201T133648Z
UID:10003949-1878552000-1878557400@pennstatehealthnews.org
SUMMARY:Institutional Biosafety Committee (IBC) Meeting
DESCRIPTION:Monthly Institutional Biosafety Committee (IBC) review meeting.
URL:https://pennstatehealthnews.org/event/webinar-institutional-biosafety-committee-ibc-meeting/2029-07-12/
LOCATION:Webconference
ORGANIZER;CN="Institutional Biosafety Committee":MAILTO:BiosafetyAdmin@pennstatehealth.psu.edu
END:VEVENT
BEGIN:VEVENT
DTSTART;TZID=America/New_York:20290809T120000
DTEND;TZID=America/New_York:20290809T133000
DTSTAMP:20260422T142556
CREATED:20221026T151310Z
LAST-MODIFIED:20240201T133648Z
UID:10004085-1880971200-1880976600@pennstatehealthnews.org
SUMMARY:Institutional Biosafety Committee (IBC) Meeting
DESCRIPTION:Monthly Institutional Biosafety Committee (IBC) review meeting.
URL:https://pennstatehealthnews.org/event/webinar-institutional-biosafety-committee-ibc-meeting/2029-08-09/
LOCATION:Webconference
ORGANIZER;CN="Institutional Biosafety Committee":MAILTO:BiosafetyAdmin@pennstatehealth.psu.edu
END:VEVENT
BEGIN:VEVENT
DTSTART;TZID=America/New_York:20290913T120000
DTEND;TZID=America/New_York:20290913T133000
DTSTAMP:20260422T142556
CREATED:20221026T151310Z
LAST-MODIFIED:20240201T133648Z
UID:10004138-1883995200-1884000600@pennstatehealthnews.org
SUMMARY:Institutional Biosafety Committee (IBC) Meeting
DESCRIPTION:Monthly Institutional Biosafety Committee (IBC) review meeting.
URL:https://pennstatehealthnews.org/event/webinar-institutional-biosafety-committee-ibc-meeting/2029-09-13/
LOCATION:Webconference
ORGANIZER;CN="Institutional Biosafety Committee":MAILTO:BiosafetyAdmin@pennstatehealth.psu.edu
END:VEVENT
BEGIN:VEVENT
DTSTART;TZID=America/New_York:20291011T120000
DTEND;TZID=America/New_York:20291011T133000
DTSTAMP:20260422T142556
CREATED:20221026T151310Z
LAST-MODIFIED:20240201T133648Z
UID:10004196-1886414400-1886419800@pennstatehealthnews.org
SUMMARY:Institutional Biosafety Committee (IBC) Meeting
DESCRIPTION:Monthly Institutional Biosafety Committee (IBC) review meeting.
URL:https://pennstatehealthnews.org/event/webinar-institutional-biosafety-committee-ibc-meeting/2029-10-11/
LOCATION:Webconference
ORGANIZER;CN="Institutional Biosafety Committee":MAILTO:BiosafetyAdmin@pennstatehealth.psu.edu
END:VEVENT
BEGIN:VEVENT
DTSTART;TZID=America/New_York:20291108T120000
DTEND;TZID=America/New_York:20291108T133000
DTSTAMP:20260422T142556
CREATED:20221026T151310Z
LAST-MODIFIED:20240201T133648Z
UID:10004242-1888833600-1888839000@pennstatehealthnews.org
SUMMARY:Institutional Biosafety Committee (IBC) Meeting
DESCRIPTION:Monthly Institutional Biosafety Committee (IBC) review meeting.
URL:https://pennstatehealthnews.org/event/webinar-institutional-biosafety-committee-ibc-meeting/2029-11-08/
LOCATION:Webconference
ORGANIZER;CN="Institutional Biosafety Committee":MAILTO:BiosafetyAdmin@pennstatehealth.psu.edu
END:VEVENT
BEGIN:VEVENT
DTSTART;TZID=America/New_York:20291213T120000
DTEND;TZID=America/New_York:20291213T133000
DTSTAMP:20260422T142556
CREATED:20221026T151310Z
LAST-MODIFIED:20240201T133648Z
UID:10004571-1891857600-1891863000@pennstatehealthnews.org
SUMMARY:Institutional Biosafety Committee (IBC) Meeting
DESCRIPTION:Monthly Institutional Biosafety Committee (IBC) review meeting.
URL:https://pennstatehealthnews.org/event/webinar-institutional-biosafety-committee-ibc-meeting/2029-12-13/
LOCATION:Webconference
ORGANIZER;CN="Institutional Biosafety Committee":MAILTO:BiosafetyAdmin@pennstatehealth.psu.edu
END:VEVENT
BEGIN:VEVENT
DTSTART;TZID=America/New_York:20300110T120000
DTEND;TZID=America/New_York:20300110T133000
DTSTAMP:20260422T142557
CREATED:20221026T151310Z
LAST-MODIFIED:20240201T133648Z
UID:10004572-1894276800-1894282200@pennstatehealthnews.org
SUMMARY:Institutional Biosafety Committee (IBC) Meeting
DESCRIPTION:Monthly Institutional Biosafety Committee (IBC) review meeting.
URL:https://pennstatehealthnews.org/event/webinar-institutional-biosafety-committee-ibc-meeting/2030-01-10/
LOCATION:Webconference
ORGANIZER;CN="Institutional Biosafety Committee":MAILTO:BiosafetyAdmin@pennstatehealth.psu.edu
END:VEVENT
BEGIN:VEVENT
DTSTART;TZID=America/New_York:20300214T120000
DTEND;TZID=America/New_York:20300214T133000
DTSTAMP:20260422T142557
CREATED:20221026T151310Z
LAST-MODIFIED:20240201T133648Z
UID:10004643-1897300800-1897306200@pennstatehealthnews.org
SUMMARY:Institutional Biosafety Committee (IBC) Meeting
DESCRIPTION:Monthly Institutional Biosafety Committee (IBC) review meeting.
URL:https://pennstatehealthnews.org/event/webinar-institutional-biosafety-committee-ibc-meeting/2030-02-14/
LOCATION:Webconference
ORGANIZER;CN="Institutional Biosafety Committee":MAILTO:BiosafetyAdmin@pennstatehealth.psu.edu
END:VEVENT
BEGIN:VEVENT
DTSTART;TZID=America/New_York:20300314T120000
DTEND;TZID=America/New_York:20300314T133000
DTSTAMP:20260422T142557
CREATED:20221026T151310Z
LAST-MODIFIED:20240201T133648Z
UID:10004768-1899720000-1899725400@pennstatehealthnews.org
SUMMARY:Institutional Biosafety Committee (IBC) Meeting
DESCRIPTION:Monthly Institutional Biosafety Committee (IBC) review meeting.
URL:https://pennstatehealthnews.org/event/webinar-institutional-biosafety-committee-ibc-meeting/2030-03-14/
LOCATION:Webconference
ORGANIZER;CN="Institutional Biosafety Committee":MAILTO:BiosafetyAdmin@pennstatehealth.psu.edu
END:VEVENT
BEGIN:VEVENT
DTSTART;TZID=America/New_York:20300411T120000
DTEND;TZID=America/New_York:20300411T133000
DTSTAMP:20260422T142557
CREATED:20221026T151310Z
LAST-MODIFIED:20240201T133648Z
UID:10005115-1902139200-1902144600@pennstatehealthnews.org
SUMMARY:Institutional Biosafety Committee (IBC) Meeting
DESCRIPTION:Monthly Institutional Biosafety Committee (IBC) review meeting.
URL:https://pennstatehealthnews.org/event/webinar-institutional-biosafety-committee-ibc-meeting/2030-04-11/
LOCATION:Webconference
ORGANIZER;CN="Institutional Biosafety Committee":MAILTO:BiosafetyAdmin@pennstatehealth.psu.edu
END:VEVENT
BEGIN:VEVENT
DTSTART;TZID=America/New_York:20300509T120000
DTEND;TZID=America/New_York:20300509T133000
DTSTAMP:20260422T142557
CREATED:20221026T151310Z
LAST-MODIFIED:20240201T133648Z
UID:10005245-1904558400-1904563800@pennstatehealthnews.org
SUMMARY:Institutional Biosafety Committee (IBC) Meeting
DESCRIPTION:Monthly Institutional Biosafety Committee (IBC) review meeting.
URL:https://pennstatehealthnews.org/event/webinar-institutional-biosafety-committee-ibc-meeting/2030-05-09/
LOCATION:Webconference
ORGANIZER;CN="Institutional Biosafety Committee":MAILTO:BiosafetyAdmin@pennstatehealth.psu.edu
END:VEVENT
BEGIN:VEVENT
DTSTART;TZID=America/New_York:20300613T120000
DTEND;TZID=America/New_York:20300613T133000
DTSTAMP:20260422T142557
CREATED:20221026T151310Z
LAST-MODIFIED:20240201T133648Z
UID:10006068-1907582400-1907587800@pennstatehealthnews.org
SUMMARY:Institutional Biosafety Committee (IBC) Meeting
DESCRIPTION:Monthly Institutional Biosafety Committee (IBC) review meeting.
URL:https://pennstatehealthnews.org/event/webinar-institutional-biosafety-committee-ibc-meeting/2030-06-13/
LOCATION:Webconference
ORGANIZER;CN="Institutional Biosafety Committee":MAILTO:BiosafetyAdmin@pennstatehealth.psu.edu
END:VEVENT
BEGIN:VEVENT
DTSTART;TZID=America/New_York:20300711T120000
DTEND;TZID=America/New_York:20300711T133000
DTSTAMP:20260422T142557
CREATED:20221026T151310Z
LAST-MODIFIED:20240201T133648Z
UID:10006069-1910001600-1910007000@pennstatehealthnews.org
SUMMARY:Institutional Biosafety Committee (IBC) Meeting
DESCRIPTION:Monthly Institutional Biosafety Committee (IBC) review meeting.
URL:https://pennstatehealthnews.org/event/webinar-institutional-biosafety-committee-ibc-meeting/2030-07-11/
LOCATION:Webconference
ORGANIZER;CN="Institutional Biosafety Committee":MAILTO:BiosafetyAdmin@pennstatehealth.psu.edu
END:VEVENT
BEGIN:VEVENT
DTSTART;TZID=America/New_York:20300808T120000
DTEND;TZID=America/New_York:20300808T133000
DTSTAMP:20260422T142557
CREATED:20221026T151310Z
LAST-MODIFIED:20240201T133648Z
UID:10006289-1912420800-1912426200@pennstatehealthnews.org
SUMMARY:Institutional Biosafety Committee (IBC) Meeting
DESCRIPTION:Monthly Institutional Biosafety Committee (IBC) review meeting.
URL:https://pennstatehealthnews.org/event/webinar-institutional-biosafety-committee-ibc-meeting/2030-08-08/
LOCATION:Webconference
ORGANIZER;CN="Institutional Biosafety Committee":MAILTO:BiosafetyAdmin@pennstatehealth.psu.edu
END:VEVENT
BEGIN:VEVENT
DTSTART;TZID=America/New_York:20300912T120000
DTEND;TZID=America/New_York:20300912T133000
DTSTAMP:20260422T142557
CREATED:20221026T151310Z
LAST-MODIFIED:20240201T133648Z
UID:10006729-1915444800-1915450200@pennstatehealthnews.org
SUMMARY:Institutional Biosafety Committee (IBC) Meeting
DESCRIPTION:Monthly Institutional Biosafety Committee (IBC) review meeting.
URL:https://pennstatehealthnews.org/event/webinar-institutional-biosafety-committee-ibc-meeting/2030-09-12/
LOCATION:Webconference
ORGANIZER;CN="Institutional Biosafety Committee":MAILTO:BiosafetyAdmin@pennstatehealth.psu.edu
END:VEVENT
BEGIN:VEVENT
DTSTART;TZID=America/New_York:20301010T120000
DTEND;TZID=America/New_York:20301010T133000
DTSTAMP:20260422T142557
CREATED:20221026T151310Z
LAST-MODIFIED:20240201T133648Z
UID:10007680-1917864000-1917869400@pennstatehealthnews.org
SUMMARY:Institutional Biosafety Committee (IBC) Meeting
DESCRIPTION:Monthly Institutional Biosafety Committee (IBC) review meeting.
URL:https://pennstatehealthnews.org/event/webinar-institutional-biosafety-committee-ibc-meeting/2030-10-10/
LOCATION:Webconference
ORGANIZER;CN="Institutional Biosafety Committee":MAILTO:BiosafetyAdmin@pennstatehealth.psu.edu
END:VEVENT
BEGIN:VEVENT
DTSTART;TZID=America/New_York:20301114T120000
DTEND;TZID=America/New_York:20301114T133000
DTSTAMP:20260422T142557
CREATED:20221026T151310Z
LAST-MODIFIED:20240201T133648Z
UID:10007916-1920888000-1920893400@pennstatehealthnews.org
SUMMARY:Institutional Biosafety Committee (IBC) Meeting
DESCRIPTION:Monthly Institutional Biosafety Committee (IBC) review meeting.
URL:https://pennstatehealthnews.org/event/webinar-institutional-biosafety-committee-ibc-meeting/2030-11-14/
LOCATION:Webconference
ORGANIZER;CN="Institutional Biosafety Committee":MAILTO:BiosafetyAdmin@pennstatehealth.psu.edu
END:VEVENT
END:VCALENDAR