BEGIN:VCALENDAR
VERSION:2.0
PRODID:-//Penn State Health News - ECPv6.15.20//NONSGML v1.0//EN
CALSCALE:GREGORIAN
METHOD:PUBLISH
X-ORIGINAL-URL:https://pennstatehealthnews.org
X-WR-CALDESC:Events for Penn State Health News
REFRESH-INTERVAL;VALUE=DURATION:PT1H
X-Robots-Tag:noindex
X-PUBLISHED-TTL:PT1H
BEGIN:VTIMEZONE
TZID:America/New_York
BEGIN:DAYLIGHT
TZOFFSETFROM:-0500
TZOFFSETTO:-0400
TZNAME:EDT
DTSTART:20260308T070000
END:DAYLIGHT
BEGIN:STANDARD
TZOFFSETFROM:-0400
TZOFFSETTO:-0500
TZNAME:EST
DTSTART:20261101T060000
END:STANDARD
BEGIN:DAYLIGHT
TZOFFSETFROM:-0500
TZOFFSETTO:-0400
TZNAME:EDT
DTSTART:20270314T070000
END:DAYLIGHT
BEGIN:STANDARD
TZOFFSETFROM:-0400
TZOFFSETTO:-0500
TZNAME:EST
DTSTART:20271107T060000
END:STANDARD
BEGIN:DAYLIGHT
TZOFFSETFROM:-0500
TZOFFSETTO:-0400
TZNAME:EDT
DTSTART:20280312T070000
END:DAYLIGHT
BEGIN:STANDARD
TZOFFSETFROM:-0400
TZOFFSETTO:-0500
TZNAME:EST
DTSTART:20281105T060000
END:STANDARD
END:VTIMEZONE
BEGIN:VEVENT
DTSTART;TZID=America/New_York:20270313T110000
DTEND;TZID=America/New_York:20270313T140000
DTSTAMP:20260423T133328
CREATED:20260224T212615Z
LAST-MODIFIED:20260409T210640Z
UID:10009841-1804935600-1804946400@pennstatehealthnews.org
SUMMARY:One Health Event: PSU\, Pets\, and People
DESCRIPTION:Come see us at the Philipsburg YMCA to receive free preventative screening tests\, such as Blood Pressure and Blood Sugar\, free of charge. No insurance required.
URL:https://pennstatehealthnews.org/event/one-health-event-psu-pets-and-people/2027-03-13/
LOCATION:113 N 14th St\, Philipsburg\, PA 16866\, 113 N 14th St.\, Philipsburg\, 16866
CATEGORIES:Community
ORGANIZER;CN="LION Mobile Clinic":MAILTO:lionmobileclinic@pennstatehealth.psu.edu
END:VEVENT
BEGIN:VEVENT
DTSTART;TZID=America/New_York:20270410T110000
DTEND;TZID=America/New_York:20270410T140000
DTSTAMP:20260423T133328
CREATED:20260224T212615Z
LAST-MODIFIED:20260409T210640Z
UID:10009842-1807354800-1807365600@pennstatehealthnews.org
SUMMARY:One Health Event: PSU\, Pets\, and People
DESCRIPTION:Come see us at the Philipsburg YMCA to receive free preventative screening tests\, such as Blood Pressure and Blood Sugar\, free of charge. No insurance required.
URL:https://pennstatehealthnews.org/event/one-health-event-psu-pets-and-people/2027-04-10/
LOCATION:113 N 14th St\, Philipsburg\, PA 16866\, 113 N 14th St.\, Philipsburg\, 16866
CATEGORIES:Community
ORGANIZER;CN="LION Mobile Clinic":MAILTO:lionmobileclinic@pennstatehealth.psu.edu
END:VEVENT
BEGIN:VEVENT
DTSTART;TZID=America/New_York:20270508T110000
DTEND;TZID=America/New_York:20270508T140000
DTSTAMP:20260423T133328
CREATED:20260224T212615Z
LAST-MODIFIED:20260409T210640Z
UID:10009843-1809774000-1809784800@pennstatehealthnews.org
SUMMARY:One Health Event: PSU\, Pets\, and People
DESCRIPTION:Come see us at the Philipsburg YMCA to receive free preventative screening tests\, such as Blood Pressure and Blood Sugar\, free of charge. No insurance required.
URL:https://pennstatehealthnews.org/event/one-health-event-psu-pets-and-people/2027-05-08/
LOCATION:113 N 14th St\, Philipsburg\, PA 16866\, 113 N 14th St.\, Philipsburg\, 16866
CATEGORIES:Community
ORGANIZER;CN="LION Mobile Clinic":MAILTO:lionmobileclinic@pennstatehealth.psu.edu
END:VEVENT
BEGIN:VEVENT
DTSTART;TZID=America/New_York:20270612T110000
DTEND;TZID=America/New_York:20270612T140000
DTSTAMP:20260423T133328
CREATED:20260224T212615Z
LAST-MODIFIED:20260409T210640Z
UID:10009844-1812798000-1812808800@pennstatehealthnews.org
SUMMARY:One Health Event: PSU\, Pets\, and People
DESCRIPTION:Come see us at the Philipsburg YMCA to receive free preventative screening tests\, such as Blood Pressure and Blood Sugar\, free of charge. No insurance required.
URL:https://pennstatehealthnews.org/event/one-health-event-psu-pets-and-people/2027-06-12/
LOCATION:113 N 14th St\, Philipsburg\, PA 16866\, 113 N 14th St.\, Philipsburg\, 16866
CATEGORIES:Community
ORGANIZER;CN="LION Mobile Clinic":MAILTO:lionmobileclinic@pennstatehealth.psu.edu
END:VEVENT
BEGIN:VEVENT
DTSTART;TZID=America/New_York:20270710T110000
DTEND;TZID=America/New_York:20270710T140000
DTSTAMP:20260423T133328
CREATED:20260224T212615Z
LAST-MODIFIED:20260409T210640Z
UID:10009845-1815217200-1815228000@pennstatehealthnews.org
SUMMARY:One Health Event: PSU\, Pets\, and People
DESCRIPTION:Come see us at the Philipsburg YMCA to receive free preventative screening tests\, such as Blood Pressure and Blood Sugar\, free of charge. No insurance required.
URL:https://pennstatehealthnews.org/event/one-health-event-psu-pets-and-people/2027-07-10/
LOCATION:113 N 14th St\, Philipsburg\, PA 16866\, 113 N 14th St.\, Philipsburg\, 16866
CATEGORIES:Community
ORGANIZER;CN="LION Mobile Clinic":MAILTO:lionmobileclinic@pennstatehealth.psu.edu
END:VEVENT
END:VCALENDAR