BEGIN:VCALENDAR
VERSION:2.0
PRODID:-//Penn State Health News - ECPv6.15.20//NONSGML v1.0//EN
CALSCALE:GREGORIAN
METHOD:PUBLISH
X-ORIGINAL-URL:https://pennstatehealthnews.org
X-WR-CALDESC:Events for Penn State Health News
REFRESH-INTERVAL;VALUE=DURATION:PT1H
X-Robots-Tag:noindex
X-PUBLISHED-TTL:PT1H
BEGIN:VTIMEZONE
TZID:America/New_York
BEGIN:DAYLIGHT
TZOFFSETFROM:-0500
TZOFFSETTO:-0400
TZNAME:EDT
DTSTART:20250309T070000
END:DAYLIGHT
BEGIN:STANDARD
TZOFFSETFROM:-0400
TZOFFSETTO:-0500
TZNAME:EST
DTSTART:20251102T060000
END:STANDARD
BEGIN:DAYLIGHT
TZOFFSETFROM:-0500
TZOFFSETTO:-0400
TZNAME:EDT
DTSTART:20260308T070000
END:DAYLIGHT
BEGIN:STANDARD
TZOFFSETFROM:-0400
TZOFFSETTO:-0500
TZNAME:EST
DTSTART:20261101T060000
END:STANDARD
BEGIN:DAYLIGHT
TZOFFSETFROM:-0500
TZOFFSETTO:-0400
TZNAME:EDT
DTSTART:20270314T070000
END:DAYLIGHT
BEGIN:STANDARD
TZOFFSETFROM:-0400
TZOFFSETTO:-0500
TZNAME:EST
DTSTART:20271107T060000
END:STANDARD
END:VTIMEZONE
BEGIN:VEVENT
DTSTART;TZID=America/New_York:20260422T120000
DTEND;TZID=America/New_York:20260422T130000
DTSTAMP:20260422T142606
CREATED:20260318T125741Z
LAST-MODIFIED:20260417T135235Z
UID:10009615-1776859200-1776862800@pennstatehealthnews.org
SUMMARY:Managing Challenging Emotions during Challenging Times
DESCRIPTION:The Office for Professional Mental Health is hosting a multiple session workshop on Managing Challenging Emotions during Challenging Times. We recognize there are times when individuals feel uncertain about the future and how changes will impact their academic and personal lives. You may be worried about how ongoing changes will impact your friends\, family and colleagues. These concerns can directly impact your emotional and physical well-being. This workshop will provide tools to help navigate these difficult and challenging emotions. Each session will focus on a different skill.  Pizza will be provided. Registration is required. \nThe sessions will be held on the following dates from noon to 1 p.m.: \n4/15: HG305\n4/22: HG305\n4/29: HG305
URL:https://pennstatehealthnews.org/event/managing-challenging-emotions-during-challenging-times/2026-04-22/
LOCATION:Room HG305 (Anteroom) – Penn State Health Milton S. Hershey Medical Center\, 500 University Drive\, Hershey\, PA\, 17033\, United States
CATEGORIES:Wellness
ORGANIZER;CN="Martha Peaslee-Levine":MAILTO:mlevine1@pennstatehealth.psu.edu
GEO:40.2640375;-76.6766783
X-APPLE-STRUCTURED-LOCATION;VALUE=URI;X-ADDRESS=Room HG305 (Anteroom) – Penn State Health Milton S. Hershey Medical Center 500 University Drive Hershey PA 17033 United States;X-APPLE-RADIUS=500;X-TITLE=500 University Drive:geo:-76.6766783,40.2640375
END:VEVENT
BEGIN:VEVENT
DTSTART;TZID=America/New_York:20260415T120000
DTEND;TZID=America/New_York:20260415T130000
DTSTAMP:20260422T142606
CREATED:20260318T125741Z
LAST-MODIFIED:20260417T135235Z
UID:10009614-1776254400-1776258000@pennstatehealthnews.org
SUMMARY:Managing Challenging Emotions during Challenging Times
DESCRIPTION:The Office for Professional Mental Health is hosting a multiple session workshop on Managing Challenging Emotions during Challenging Times. We recognize there are times when individuals feel uncertain about the future and how changes will impact their academic and personal lives. You may be worried about how ongoing changes will impact your friends\, family and colleagues. These concerns can directly impact your emotional and physical well-being. This workshop will provide tools to help navigate these difficult and challenging emotions. Each session will focus on a different skill.  Pizza will be provided. Registration is required. \nThe sessions will be held on the following dates from noon to 1 p.m.: \n4/15: HG305\n4/22: HG305\n4/29: HG305
URL:https://pennstatehealthnews.org/event/managing-challenging-emotions-during-challenging-times/2026-04-15/
LOCATION:Room HG305 (Anteroom) – Penn State Health Milton S. Hershey Medical Center\, 500 University Drive\, Hershey\, PA\, 17033\, United States
CATEGORIES:Wellness
ORGANIZER;CN="Martha Peaslee-Levine":MAILTO:mlevine1@pennstatehealth.psu.edu
GEO:40.2640375;-76.6766783
X-APPLE-STRUCTURED-LOCATION;VALUE=URI;X-ADDRESS=Room HG305 (Anteroom) – Penn State Health Milton S. Hershey Medical Center 500 University Drive Hershey PA 17033 United States;X-APPLE-RADIUS=500;X-TITLE=500 University Drive:geo:-76.6766783,40.2640375
END:VEVENT
BEGIN:VEVENT
DTSTART;TZID=America/New_York:20260331T120000
DTEND;TZID=America/New_York:20260331T130000
DTSTAMP:20260422T142606
CREATED:20260128T135709Z
LAST-MODIFIED:20260304T135839Z
UID:10008306-1774958400-1774962000@pennstatehealthnews.org
SUMMARY:Silver Linings: Dealing with Unexpected Changes
DESCRIPTION:Life is full of changes; some that are completely unexpected. Perhaps\, an exam didn’t go the way you expected. Perhaps\, your job offer/Match is at a place you didn’t expect to be. Perhaps\, you’re struggling with a break-up or changes in other relationships. This session will help you consider new perspectives to find a silver lining. \nIt will provide coping strategies to navigate unanticipated change. We often have to deal with the unexpected but that doesn’t mean we need to be unprepared. \nPlease register here.
URL:https://pennstatehealthnews.org/event/silver-linings-dealing-with-unexpected-changes/
LOCATION:Room C1804 – Penn State College of Medicine\, 700 HMC Crescent Road\, Hershey\, PA\, 17033\, United States
CATEGORIES:Wellness
ORGANIZER;CN="Martha Peaslee-Levine":MAILTO:mlevine1@pennstatehealth.psu.edu
GEO:40.2640375;-76.6766783
X-APPLE-STRUCTURED-LOCATION;VALUE=URI;X-ADDRESS=Room C1804 – Penn State College of Medicine 700 HMC Crescent Road Hershey PA 17033 United States;X-APPLE-RADIUS=500;X-TITLE=700 HMC Crescent Road:geo:-76.6766783,40.2640375
END:VEVENT
END:VCALENDAR