BEGIN:VCALENDAR
VERSION:2.0
PRODID:-//Penn State Health News - ECPv6.15.20//NONSGML v1.0//EN
CALSCALE:GREGORIAN
METHOD:PUBLISH
X-ORIGINAL-URL:https://pennstatehealthnews.org
X-WR-CALDESC:Events for Penn State Health News
REFRESH-INTERVAL;VALUE=DURATION:PT1H
X-Robots-Tag:noindex
X-PUBLISHED-TTL:PT1H
BEGIN:VTIMEZONE
TZID:America/New_York
BEGIN:DAYLIGHT
TZOFFSETFROM:-0500
TZOFFSETTO:-0400
TZNAME:EDT
DTSTART:20250309T070000
END:DAYLIGHT
BEGIN:STANDARD
TZOFFSETFROM:-0400
TZOFFSETTO:-0500
TZNAME:EST
DTSTART:20251102T060000
END:STANDARD
BEGIN:DAYLIGHT
TZOFFSETFROM:-0500
TZOFFSETTO:-0400
TZNAME:EDT
DTSTART:20260308T070000
END:DAYLIGHT
BEGIN:STANDARD
TZOFFSETFROM:-0400
TZOFFSETTO:-0500
TZNAME:EST
DTSTART:20261101T060000
END:STANDARD
BEGIN:DAYLIGHT
TZOFFSETFROM:-0500
TZOFFSETTO:-0400
TZNAME:EDT
DTSTART:20270314T070000
END:DAYLIGHT
BEGIN:STANDARD
TZOFFSETFROM:-0400
TZOFFSETTO:-0500
TZNAME:EST
DTSTART:20271107T060000
END:STANDARD
END:VTIMEZONE
BEGIN:VEVENT
DTSTART;TZID=America/New_York:20260409T120000
DTEND;TZID=America/New_York:20260409T130000
DTSTAMP:20260419T172612
CREATED:20251105T170032Z
LAST-MODIFIED:20251105T202900Z
UID:10007868-1775736000-1775739600@pennstatehealthnews.org
SUMMARY:Pediatric Oncology ECHO
DESCRIPTION:Training for Primary Care Providers\n(CME credits available)\nNo-cost Monthly Sessions  |  12-1 p.m. EST  |  Dec. 11\, 2025 – Jul. 9\, 2026  |  100% Virtual\nNo matter your level of experience\, this program provides the knowledge and community support to strengthen your role in caring for children with cancer.  \n\nExpand your role in pediatric cancer care\, even if you’re not in a specialty center. \nAccess knowledge and support whether you’re in a rural setting or an urban clinic. \nExplore timely\, practice-relevant topics like:\n\nEarly signs of pediatric brain tumors\nBest practices in adolescent and young adult oncology\nSurvivorship care after pediatric cancer\nIntegrative approaches and precision medicine\n\n\n\nRegister Here \nEnhance Your Pediatric Care From Anywhere. \nJoin a dynamic community of general physicians\, pediatricians\, and experts for this free\, virtual tele-mentoring program designed to empower primary care providers with the latest knowledge in pediatric oncology.  \nThrough 8 monthly sessions\, gain the insights and confidence to support young patients facing cancer — from diagnosis to survivorship.  \nHow It Works\n\nMonthly live Zoom sessions (12–1 p.m. EST)\nRolling registration—sign up once and attend as you’re able\nEach session features real participant cases + 15-minute expert “FlashTalks”\nRegistration is free and open now. Sign up once to access all sessions.\n\n\n\n\n\nSchedule & Curriculum\n\n\n\n\n\n\n\n\n\n\n Session Time 12–1 p.m. EST | ️ Upcoming Dates & Topics\n\n\n\n\n\n\n\n\n\n\n\n\nDec. 11\, 2025 – Adolescent & Young Adult Oncology\n\n\nJan. 8\, 2026 – Pediatric Acute Leukemia\n\n\nFeb. 12\, 2026 – Precision Medicine\n\n\nMar. 12\, 2026 – Pediatric Solid Tumors\n\n\nApr. 9\, 2026 – Surviving After Pediatric Cancer\n\n\nMay 14\, 2026 – Integrative Oncology\n\n\nJun. 11\, 2026 – Genetic Predisposition to Cancer\n\n\nJul. 9\, 2026 – Pediatric Brain Tumors\n\n\n\n\n\n\n\n 
URL:https://pennstatehealthnews.org/event/pediatric-oncology-echo/2026-04-09/
LOCATION:Zoom
CATEGORIES:Other
ATTACH;FMTTYPE=image/jpeg:https://pennstatehealthnews.org/wp-content/uploads/2025/11/COM-EventHdr_PedPnc_Dec25.jpg
ORGANIZER;CN="Penn State Project ECHO":MAILTO:echo@psu.edu
END:VEVENT
BEGIN:VEVENT
DTSTART;TZID=America/New_York:20260402T130000
DTEND;TZID=America/New_York:20260402T140000
DTSTAMP:20260419T172612
CREATED:20250814T201850Z
LAST-MODIFIED:20250814T201850Z
UID:10006313-1775134800-1775138400@pennstatehealthnews.org
SUMMARY:Long-Term Care RISE ECHO Program
DESCRIPTION:TRAINING FOR NURSING HOME PROFESSIONALS \n(CE & NHA CREDITS AVAILABLE) \nNo-cost Monthly Sessions  |  1-2 p.m. EST  |  Sep. 4\, 2025 – May 7\, 2026  |  100% Virtual\nAre you working in long-term care or assisted living settings and want to: \n\nIncrease high-quality care for residents?\nJoin insightful conversations with experts & peers?\nFoster confidence in providing specialized care?\n\nRegister Here \nGrow Your Skills. Strengthen Your Network. Champion Long-Term Care.\nJOIN our innovative\, no-cost\, virtual program—a monthly series designed to help long-term care facility leaders & staff improve health outcomes for residents—especially those facing age-related care challenges. \nSessions provide an evidence-based approach to increasing high-quality care for residents by bringing together specialists and non-specialists to improve care for residents in the communities where they live.  \nHow It Works\n\nMonthly live Zoom sessions (1–2 p.m. EST)\nRolling registration—sign up once and attend as you’re able\nEach session features real participant cases + 15-minute expert “FlashTalks”\n\nThis South Central LTC-RISE program is offered in partnership with Project ECHO at Penn State College of Medicine\, a trusted model that connects specialists with on-the-ground care teams to share knowledge and build community-based capacity. \nRegistration is free and open now. Sign up once to access all sessions \n\n\n\n\nSchedule & Curriculum\n\n\n\n\n\n\n\n\n\n\n Session Time 1–2 p.m. EST | ️ Upcoming Dates & Topics\n\n\n\n\n\n\n\n\n\n\n\n\nSep. 4\, 2025 – Resident Councils\n\n\nOct. 2\, 2025 – Family Councils\n\n\nNov. 6\, 2025 – Advanced Care Planning in Assisted Living & Personal Care\n\n\nDec. 4\, 2025 – Medication Reconciliation in Personal Care & Assisted Living\n\n\nFeb. 5\, 2026 – Introduction to the 4Ms of Behavioral Health Training from E4\n\n\nMar. 5\, 2026 – Non-Ageist Approach to Care\n\n\nApr. 2\, 2026 – Trauma-Informed Care\n\n\nMay 7\, 2026 – How to Effectively Collaborate with Ombudsman\n\n\n\n\n\n\n\n 
URL:https://pennstatehealthnews.org/event/long-term-care-rise-echo-program/2026-04-02/
LOCATION:Zoom
CATEGORIES:Community,Continuing Education,Lectures/Seminars/Academic Presentations,Other,Professional Development
ATTACH;FMTTYPE=image/jpeg:https://pennstatehealthnews.org/wp-content/uploads/2025/08/COM-EventHdr_LTCRise_Sep25.jpg
ORGANIZER;CN="Penn State Project ECHO":MAILTO:echo@psu.edu
END:VEVENT
BEGIN:VEVENT
DTSTART;TZID=America/New_York:20260326T120000
DTEND;TZID=America/New_York:20260326T130000
DTSTAMP:20260419T172612
CREATED:20250728T194810Z
LAST-MODIFIED:20250806T181557Z
UID:10006122-1774526400-1774530000@pennstatehealthnews.org
SUMMARY:Nese Project ECHO: Empowering Rural Primary Care Through Online Collaboration
DESCRIPTION:NO-COST\, CME-ELIGIBLE PROGRAM\nMonthly Sessions  |  12-1 p.m. EST  |  Sep. 25\, 2025 – Mar. 26\, 2026  |  100% Virtual \n Are you interested in?  \n\nThe newest developments in treatments. \nExchanging knowledge with experts and peers. \nThe role of primary care to treat complex\, medical scenarios.\n\nRegister Here \nGrowing a Learning Community to Champion Primary Care Providers. \nAttend this innovative\, CME-eligible program to learn about trending topics and receive timely information to expand the scope of your primary care practice. Held monthly\, this “all teach\, all learn” community offers you the opportunity to:  \n\nJoin a supportive network of primary care providers regardless of your location. \nImprove access to information\, especially if you are in a low resource area. \nReceive expert insight to treat advanced or specialized conditions in your patients. \nExplore the role of primary care to treat a variety of medical scenarios. \n\nConnecting Providers Across Communities \nPrimary care providers in rural and high need communities are experiencing unprecedented barriers in accessing health care resources. In a survey\, clinicians identified practical and timely information sharing through a multi-disciplinary network of specialists as an impactful way to uplift primary health care in limited access areas.  \nSCHEDULE & CURRICULUM \n\n\n\nSession Date \nBrief Lecture Topic \nFlash Talk Presenter \n\n\n\n\nSep. 25\, 2025 \nAdult ADHD \nJames Waxmonsky\, MD \n\n\nOct. 23\, 2025 \nTo Be Announced \nTo Be Announced \n\n\nNov. 20\, 2025 \nConcussion \nMatt Silvis\, MD \n\n\nDec. 18\, 2025 \nGenitourinary Syndrome\nof Menopause  \nCynthia Chuang\, MD\, MSc \n\n\nJan 22\, 2026 \nAssessing Red Eye\nChristine Callahan\, MD \n\n\nFeb. 26\, 2026 \nAlcohol Use Disorder \nPaul Williams\, MD\, FACP \n\n\nMar. 26\, 2026 \nPsoriasis Treatment \nSara Ferguson\, MD 
URL:https://pennstatehealthnews.org/event/nese-project-echo-empowering-rural-primary-care-through-online-collaboration/2026-03-26/
LOCATION:Zoom
CATEGORIES:Community,Continuing Education,Lectures/Seminars/Academic Presentations,Professional Development
ATTACH;FMTTYPE=image/jpeg:https://pennstatehealthnews.org/wp-content/uploads/2025/07/COMEventHeader_Nese_Sep25.jpg
ORGANIZER;CN="Penn State Project ECHO":MAILTO:echo@psu.edu
END:VEVENT
END:VCALENDAR