BEGIN:VCALENDAR
VERSION:2.0
PRODID:-//Penn State Health News - ECPv6.15.20//NONSGML v1.0//EN
CALSCALE:GREGORIAN
METHOD:PUBLISH
X-ORIGINAL-URL:https://pennstatehealthnews.org
X-WR-CALDESC:Events for Penn State Health News
REFRESH-INTERVAL;VALUE=DURATION:PT1H
X-Robots-Tag:noindex
X-PUBLISHED-TTL:PT1H
BEGIN:VTIMEZONE
TZID:America/New_York
BEGIN:DAYLIGHT
TZOFFSETFROM:-0500
TZOFFSETTO:-0400
TZNAME:EDT
DTSTART:20280312T070000
END:DAYLIGHT
BEGIN:STANDARD
TZOFFSETFROM:-0400
TZOFFSETTO:-0500
TZNAME:EST
DTSTART:20281105T060000
END:STANDARD
BEGIN:DAYLIGHT
TZOFFSETFROM:-0500
TZOFFSETTO:-0400
TZNAME:EDT
DTSTART:20290311T070000
END:DAYLIGHT
BEGIN:STANDARD
TZOFFSETFROM:-0400
TZOFFSETTO:-0500
TZNAME:EST
DTSTART:20291104T060000
END:STANDARD
BEGIN:DAYLIGHT
TZOFFSETFROM:-0500
TZOFFSETTO:-0400
TZNAME:EDT
DTSTART:20300310T070000
END:DAYLIGHT
BEGIN:STANDARD
TZOFFSETFROM:-0400
TZOFFSETTO:-0500
TZNAME:EST
DTSTART:20301103T060000
END:STANDARD
BEGIN:DAYLIGHT
TZOFFSETFROM:-0500
TZOFFSETTO:-0400
TZNAME:EDT
DTSTART:20310309T070000
END:DAYLIGHT
BEGIN:STANDARD
TZOFFSETFROM:-0400
TZOFFSETTO:-0500
TZNAME:EST
DTSTART:20311102T060000
END:STANDARD
END:VTIMEZONE
BEGIN:VEVENT
DTSTART;TZID=America/New_York:20290215T180000
DTEND;TZID=America/New_York:20290215T200000
DTSTAMP:20260419T082232
CREATED:20241126T201755Z
LAST-MODIFIED:20241126T201755Z
UID:10004435-1865872800-1865880000@pennstatehealthnews.org
SUMMARY:Condensed Childbirth Preparation
DESCRIPTION:This one-evening\, two-hour class is a condensed version of our weekend childbirth preparation class\, focusing on comfort measures and breathing techniques for labor. It can also be taken as a refresher class if you’ve given birth before. Class runs from 6-8 p.m.
URL:https://pennstatehealthnews.org/event/condensed-childbirth-preparation/2029-02-15/
LOCATION:Auditorium – Penn State Health Holy Spirit Medical Center\, 503 N. 21st St.\, Camp Hill\, PA\, 17011\, United States
CATEGORIES:Community,Wellness
END:VEVENT
BEGIN:VEVENT
DTSTART;TZID=America/New_York:20290303T090000
DTEND;TZID=America/New_York:20290303T160000
DTSTAMP:20260419T082232
CREATED:20241126T201759Z
LAST-MODIFIED:20241126T201759Z
UID:10004377-1867222800-1867248000@pennstatehealthnews.org
SUMMARY:Weekend Childbirth Preparation
DESCRIPTION:This all day class covers phases/stages of labor and delivery\, comfort measures and breathing techniques to use during labor\, pain medication options and what to expect postpartum.  It is best if taken in the last 4 months of pregnancy. For registration information\, call 717-981-8238 or e-mail hmoretz@pennstatehealth.psu.edu.
URL:https://pennstatehealthnews.org/event/weekend-childbirth-preparation/2029-03-03/
LOCATION:Auditorium – Penn State Health Holy Spirit Medical Center\, 503 N. 21st St.\, Camp Hill\, PA\, 17011\, United States
CATEGORIES:Community,Wellness
END:VEVENT
BEGIN:VEVENT
DTSTART;TZID=America/New_York:20290315T180000
DTEND;TZID=America/New_York:20290315T200000
DTSTAMP:20260419T082232
CREATED:20241126T201755Z
LAST-MODIFIED:20241126T201755Z
UID:10004436-1868292000-1868299200@pennstatehealthnews.org
SUMMARY:Condensed Childbirth Preparation
DESCRIPTION:This one-evening\, two-hour class is a condensed version of our weekend childbirth preparation class\, focusing on comfort measures and breathing techniques for labor. It can also be taken as a refresher class if you’ve given birth before. Class runs from 6-8 p.m.
URL:https://pennstatehealthnews.org/event/condensed-childbirth-preparation/2029-03-15/
LOCATION:Auditorium – Penn State Health Holy Spirit Medical Center\, 503 N. 21st St.\, Camp Hill\, PA\, 17011\, United States
CATEGORIES:Community,Wellness
END:VEVENT
BEGIN:VEVENT
DTSTART;TZID=America/New_York:20290407T090000
DTEND;TZID=America/New_York:20290407T160000
DTSTAMP:20260419T082232
CREATED:20241126T201759Z
LAST-MODIFIED:20241126T201759Z
UID:10004378-1870246800-1870272000@pennstatehealthnews.org
SUMMARY:Weekend Childbirth Preparation
DESCRIPTION:This all day class covers phases/stages of labor and delivery\, comfort measures and breathing techniques to use during labor\, pain medication options and what to expect postpartum.  It is best if taken in the last 4 months of pregnancy. For registration information\, call 717-981-8238 or e-mail hmoretz@pennstatehealth.psu.edu.
URL:https://pennstatehealthnews.org/event/weekend-childbirth-preparation/2029-04-07/
LOCATION:Auditorium – Penn State Health Holy Spirit Medical Center\, 503 N. 21st St.\, Camp Hill\, PA\, 17011\, United States
CATEGORIES:Community,Wellness
END:VEVENT
BEGIN:VEVENT
DTSTART;TZID=America/New_York:20290419T180000
DTEND;TZID=America/New_York:20290419T200000
DTSTAMP:20260419T082232
CREATED:20241126T201755Z
LAST-MODIFIED:20241126T201755Z
UID:10004437-1871316000-1871323200@pennstatehealthnews.org
SUMMARY:Condensed Childbirth Preparation
DESCRIPTION:This one-evening\, two-hour class is a condensed version of our weekend childbirth preparation class\, focusing on comfort measures and breathing techniques for labor. It can also be taken as a refresher class if you’ve given birth before. Class runs from 6-8 p.m.
URL:https://pennstatehealthnews.org/event/condensed-childbirth-preparation/2029-04-19/
LOCATION:Auditorium – Penn State Health Holy Spirit Medical Center\, 503 N. 21st St.\, Camp Hill\, PA\, 17011\, United States
CATEGORIES:Community,Wellness
END:VEVENT
BEGIN:VEVENT
DTSTART;TZID=America/New_York:20290505T090000
DTEND;TZID=America/New_York:20290505T160000
DTSTAMP:20260419T082232
CREATED:20241126T201759Z
LAST-MODIFIED:20241126T201759Z
UID:10004379-1872666000-1872691200@pennstatehealthnews.org
SUMMARY:Weekend Childbirth Preparation
DESCRIPTION:This all day class covers phases/stages of labor and delivery\, comfort measures and breathing techniques to use during labor\, pain medication options and what to expect postpartum.  It is best if taken in the last 4 months of pregnancy. For registration information\, call 717-981-8238 or e-mail hmoretz@pennstatehealth.psu.edu.
URL:https://pennstatehealthnews.org/event/weekend-childbirth-preparation/2029-05-05/
LOCATION:Auditorium – Penn State Health Holy Spirit Medical Center\, 503 N. 21st St.\, Camp Hill\, PA\, 17011\, United States
CATEGORIES:Community,Wellness
END:VEVENT
BEGIN:VEVENT
DTSTART;TZID=America/New_York:20290517T180000
DTEND;TZID=America/New_York:20290517T200000
DTSTAMP:20260419T082232
CREATED:20241126T201755Z
LAST-MODIFIED:20241126T201755Z
UID:10004438-1873735200-1873742400@pennstatehealthnews.org
SUMMARY:Condensed Childbirth Preparation
DESCRIPTION:This one-evening\, two-hour class is a condensed version of our weekend childbirth preparation class\, focusing on comfort measures and breathing techniques for labor. It can also be taken as a refresher class if you’ve given birth before. Class runs from 6-8 p.m.
URL:https://pennstatehealthnews.org/event/condensed-childbirth-preparation/2029-05-17/
LOCATION:Auditorium – Penn State Health Holy Spirit Medical Center\, 503 N. 21st St.\, Camp Hill\, PA\, 17011\, United States
CATEGORIES:Community,Wellness
END:VEVENT
BEGIN:VEVENT
DTSTART;TZID=America/New_York:20290602T090000
DTEND;TZID=America/New_York:20290602T160000
DTSTAMP:20260419T082232
CREATED:20241126T201759Z
LAST-MODIFIED:20241126T201759Z
UID:10004380-1875085200-1875110400@pennstatehealthnews.org
SUMMARY:Weekend Childbirth Preparation
DESCRIPTION:This all day class covers phases/stages of labor and delivery\, comfort measures and breathing techniques to use during labor\, pain medication options and what to expect postpartum.  It is best if taken in the last 4 months of pregnancy. For registration information\, call 717-981-8238 or e-mail hmoretz@pennstatehealth.psu.edu.
URL:https://pennstatehealthnews.org/event/weekend-childbirth-preparation/2029-06-02/
LOCATION:Auditorium – Penn State Health Holy Spirit Medical Center\, 503 N. 21st St.\, Camp Hill\, PA\, 17011\, United States
CATEGORIES:Community,Wellness
END:VEVENT
BEGIN:VEVENT
DTSTART;TZID=America/New_York:20290621T180000
DTEND;TZID=America/New_York:20290621T200000
DTSTAMP:20260419T082232
CREATED:20241126T201755Z
LAST-MODIFIED:20241126T201755Z
UID:10004439-1876759200-1876766400@pennstatehealthnews.org
SUMMARY:Condensed Childbirth Preparation
DESCRIPTION:This one-evening\, two-hour class is a condensed version of our weekend childbirth preparation class\, focusing on comfort measures and breathing techniques for labor. It can also be taken as a refresher class if you’ve given birth before. Class runs from 6-8 p.m.
URL:https://pennstatehealthnews.org/event/condensed-childbirth-preparation/2029-06-21/
LOCATION:Auditorium – Penn State Health Holy Spirit Medical Center\, 503 N. 21st St.\, Camp Hill\, PA\, 17011\, United States
CATEGORIES:Community,Wellness
END:VEVENT
BEGIN:VEVENT
DTSTART;TZID=America/New_York:20290707T090000
DTEND;TZID=America/New_York:20290707T160000
DTSTAMP:20260419T082232
CREATED:20241126T201759Z
LAST-MODIFIED:20241126T201759Z
UID:10004381-1878109200-1878134400@pennstatehealthnews.org
SUMMARY:Weekend Childbirth Preparation
DESCRIPTION:This all day class covers phases/stages of labor and delivery\, comfort measures and breathing techniques to use during labor\, pain medication options and what to expect postpartum.  It is best if taken in the last 4 months of pregnancy. For registration information\, call 717-981-8238 or e-mail hmoretz@pennstatehealth.psu.edu.
URL:https://pennstatehealthnews.org/event/weekend-childbirth-preparation/2029-07-07/
LOCATION:Auditorium – Penn State Health Holy Spirit Medical Center\, 503 N. 21st St.\, Camp Hill\, PA\, 17011\, United States
CATEGORIES:Community,Wellness
END:VEVENT
BEGIN:VEVENT
DTSTART;TZID=America/New_York:20290719T180000
DTEND;TZID=America/New_York:20290719T200000
DTSTAMP:20260419T082232
CREATED:20241126T201755Z
LAST-MODIFIED:20241126T201755Z
UID:10004440-1879178400-1879185600@pennstatehealthnews.org
SUMMARY:Condensed Childbirth Preparation
DESCRIPTION:This one-evening\, two-hour class is a condensed version of our weekend childbirth preparation class\, focusing on comfort measures and breathing techniques for labor. It can also be taken as a refresher class if you’ve given birth before. Class runs from 6-8 p.m.
URL:https://pennstatehealthnews.org/event/condensed-childbirth-preparation/2029-07-19/
LOCATION:Auditorium – Penn State Health Holy Spirit Medical Center\, 503 N. 21st St.\, Camp Hill\, PA\, 17011\, United States
CATEGORIES:Community,Wellness
END:VEVENT
BEGIN:VEVENT
DTSTART;TZID=America/New_York:20290804T090000
DTEND;TZID=America/New_York:20290804T160000
DTSTAMP:20260419T082232
CREATED:20241126T201759Z
LAST-MODIFIED:20241126T201759Z
UID:10004382-1880528400-1880553600@pennstatehealthnews.org
SUMMARY:Weekend Childbirth Preparation
DESCRIPTION:This all day class covers phases/stages of labor and delivery\, comfort measures and breathing techniques to use during labor\, pain medication options and what to expect postpartum.  It is best if taken in the last 4 months of pregnancy. For registration information\, call 717-981-8238 or e-mail hmoretz@pennstatehealth.psu.edu.
URL:https://pennstatehealthnews.org/event/weekend-childbirth-preparation/2029-08-04/
LOCATION:Auditorium – Penn State Health Holy Spirit Medical Center\, 503 N. 21st St.\, Camp Hill\, PA\, 17011\, United States
CATEGORIES:Community,Wellness
END:VEVENT
BEGIN:VEVENT
DTSTART;TZID=America/New_York:20290816T180000
DTEND;TZID=America/New_York:20290816T200000
DTSTAMP:20260419T082232
CREATED:20241126T201755Z
LAST-MODIFIED:20241126T201755Z
UID:10004441-1881597600-1881604800@pennstatehealthnews.org
SUMMARY:Condensed Childbirth Preparation
DESCRIPTION:This one-evening\, two-hour class is a condensed version of our weekend childbirth preparation class\, focusing on comfort measures and breathing techniques for labor. It can also be taken as a refresher class if you’ve given birth before. Class runs from 6-8 p.m.
URL:https://pennstatehealthnews.org/event/condensed-childbirth-preparation/2029-08-16/
LOCATION:Auditorium – Penn State Health Holy Spirit Medical Center\, 503 N. 21st St.\, Camp Hill\, PA\, 17011\, United States
CATEGORIES:Community,Wellness
END:VEVENT
BEGIN:VEVENT
DTSTART;TZID=America/New_York:20290901T090000
DTEND;TZID=America/New_York:20290901T160000
DTSTAMP:20260419T082232
CREATED:20241126T201759Z
LAST-MODIFIED:20241126T201759Z
UID:10004383-1882947600-1882972800@pennstatehealthnews.org
SUMMARY:Weekend Childbirth Preparation
DESCRIPTION:This all day class covers phases/stages of labor and delivery\, comfort measures and breathing techniques to use during labor\, pain medication options and what to expect postpartum.  It is best if taken in the last 4 months of pregnancy. For registration information\, call 717-981-8238 or e-mail hmoretz@pennstatehealth.psu.edu.
URL:https://pennstatehealthnews.org/event/weekend-childbirth-preparation/2029-09-01/
LOCATION:Auditorium – Penn State Health Holy Spirit Medical Center\, 503 N. 21st St.\, Camp Hill\, PA\, 17011\, United States
CATEGORIES:Community,Wellness
END:VEVENT
BEGIN:VEVENT
DTSTART;TZID=America/New_York:20290920T180000
DTEND;TZID=America/New_York:20290920T200000
DTSTAMP:20260419T082232
CREATED:20241126T201755Z
LAST-MODIFIED:20241126T201755Z
UID:10004442-1884621600-1884628800@pennstatehealthnews.org
SUMMARY:Condensed Childbirth Preparation
DESCRIPTION:This one-evening\, two-hour class is a condensed version of our weekend childbirth preparation class\, focusing on comfort measures and breathing techniques for labor. It can also be taken as a refresher class if you’ve given birth before. Class runs from 6-8 p.m.
URL:https://pennstatehealthnews.org/event/condensed-childbirth-preparation/2029-09-20/
LOCATION:Auditorium – Penn State Health Holy Spirit Medical Center\, 503 N. 21st St.\, Camp Hill\, PA\, 17011\, United States
CATEGORIES:Community,Wellness
END:VEVENT
BEGIN:VEVENT
DTSTART;TZID=America/New_York:20291006T090000
DTEND;TZID=America/New_York:20291006T160000
DTSTAMP:20260419T082232
CREATED:20241126T201759Z
LAST-MODIFIED:20241126T201759Z
UID:10004384-1885971600-1885996800@pennstatehealthnews.org
SUMMARY:Weekend Childbirth Preparation
DESCRIPTION:This all day class covers phases/stages of labor and delivery\, comfort measures and breathing techniques to use during labor\, pain medication options and what to expect postpartum.  It is best if taken in the last 4 months of pregnancy. For registration information\, call 717-981-8238 or e-mail hmoretz@pennstatehealth.psu.edu.
URL:https://pennstatehealthnews.org/event/weekend-childbirth-preparation/2029-10-06/
LOCATION:Auditorium – Penn State Health Holy Spirit Medical Center\, 503 N. 21st St.\, Camp Hill\, PA\, 17011\, United States
CATEGORIES:Community,Wellness
END:VEVENT
BEGIN:VEVENT
DTSTART;TZID=America/New_York:20291018T180000
DTEND;TZID=America/New_York:20291018T200000
DTSTAMP:20260419T082232
CREATED:20241126T201755Z
LAST-MODIFIED:20241126T201755Z
UID:10004443-1887040800-1887048000@pennstatehealthnews.org
SUMMARY:Condensed Childbirth Preparation
DESCRIPTION:This one-evening\, two-hour class is a condensed version of our weekend childbirth preparation class\, focusing on comfort measures and breathing techniques for labor. It can also be taken as a refresher class if you’ve given birth before. Class runs from 6-8 p.m.
URL:https://pennstatehealthnews.org/event/condensed-childbirth-preparation/2029-10-18/
LOCATION:Auditorium – Penn State Health Holy Spirit Medical Center\, 503 N. 21st St.\, Camp Hill\, PA\, 17011\, United States
CATEGORIES:Community,Wellness
END:VEVENT
BEGIN:VEVENT
DTSTART;TZID=America/New_York:20291103T090000
DTEND;TZID=America/New_York:20291103T160000
DTSTAMP:20260419T082232
CREATED:20241126T201759Z
LAST-MODIFIED:20241126T201759Z
UID:10004385-1888390800-1888416000@pennstatehealthnews.org
SUMMARY:Weekend Childbirth Preparation
DESCRIPTION:This all day class covers phases/stages of labor and delivery\, comfort measures and breathing techniques to use during labor\, pain medication options and what to expect postpartum.  It is best if taken in the last 4 months of pregnancy. For registration information\, call 717-981-8238 or e-mail hmoretz@pennstatehealth.psu.edu.
URL:https://pennstatehealthnews.org/event/weekend-childbirth-preparation/2029-11-03/
LOCATION:Auditorium – Penn State Health Holy Spirit Medical Center\, 503 N. 21st St.\, Camp Hill\, PA\, 17011\, United States
CATEGORIES:Community,Wellness
END:VEVENT
BEGIN:VEVENT
DTSTART;TZID=America/New_York:20291115T180000
DTEND;TZID=America/New_York:20291115T200000
DTSTAMP:20260419T082232
CREATED:20241126T201755Z
LAST-MODIFIED:20241126T201755Z
UID:10004444-1889460000-1889467200@pennstatehealthnews.org
SUMMARY:Condensed Childbirth Preparation
DESCRIPTION:This one-evening\, two-hour class is a condensed version of our weekend childbirth preparation class\, focusing on comfort measures and breathing techniques for labor. It can also be taken as a refresher class if you’ve given birth before. Class runs from 6-8 p.m.
URL:https://pennstatehealthnews.org/event/condensed-childbirth-preparation/2029-11-15/
LOCATION:Auditorium – Penn State Health Holy Spirit Medical Center\, 503 N. 21st St.\, Camp Hill\, PA\, 17011\, United States
CATEGORIES:Community,Wellness
END:VEVENT
BEGIN:VEVENT
DTSTART;TZID=America/New_York:20291201T090000
DTEND;TZID=America/New_York:20291201T160000
DTSTAMP:20260419T082232
CREATED:20241126T201759Z
LAST-MODIFIED:20241126T201759Z
UID:10004632-1890810000-1890835200@pennstatehealthnews.org
SUMMARY:Weekend Childbirth Preparation
DESCRIPTION:This all day class covers phases/stages of labor and delivery\, comfort measures and breathing techniques to use during labor\, pain medication options and what to expect postpartum.  It is best if taken in the last 4 months of pregnancy. For registration information\, call 717-981-8238 or e-mail hmoretz@pennstatehealth.psu.edu.
URL:https://pennstatehealthnews.org/event/weekend-childbirth-preparation/2029-12-01/
LOCATION:Auditorium – Penn State Health Holy Spirit Medical Center\, 503 N. 21st St.\, Camp Hill\, PA\, 17011\, United States
CATEGORIES:Community,Wellness
END:VEVENT
BEGIN:VEVENT
DTSTART;TZID=America/New_York:20291220T180000
DTEND;TZID=America/New_York:20291220T200000
DTSTAMP:20260419T082232
CREATED:20241126T201755Z
LAST-MODIFIED:20241126T201755Z
UID:10004644-1892484000-1892491200@pennstatehealthnews.org
SUMMARY:Condensed Childbirth Preparation
DESCRIPTION:This one-evening\, two-hour class is a condensed version of our weekend childbirth preparation class\, focusing on comfort measures and breathing techniques for labor. It can also be taken as a refresher class if you’ve given birth before. Class runs from 6-8 p.m.
URL:https://pennstatehealthnews.org/event/condensed-childbirth-preparation/2029-12-20/
LOCATION:Auditorium – Penn State Health Holy Spirit Medical Center\, 503 N. 21st St.\, Camp Hill\, PA\, 17011\, United States
CATEGORIES:Community,Wellness
END:VEVENT
BEGIN:VEVENT
DTSTART;TZID=America/New_York:20300105T090000
DTEND;TZID=America/New_York:20300105T160000
DTSTAMP:20260419T082232
CREATED:20241126T201759Z
LAST-MODIFIED:20241126T201759Z
UID:10004633-1893834000-1893859200@pennstatehealthnews.org
SUMMARY:Weekend Childbirth Preparation
DESCRIPTION:This all day class covers phases/stages of labor and delivery\, comfort measures and breathing techniques to use during labor\, pain medication options and what to expect postpartum.  It is best if taken in the last 4 months of pregnancy. For registration information\, call 717-981-8238 or e-mail hmoretz@pennstatehealth.psu.edu.
URL:https://pennstatehealthnews.org/event/weekend-childbirth-preparation/2030-01-05/
LOCATION:Auditorium – Penn State Health Holy Spirit Medical Center\, 503 N. 21st St.\, Camp Hill\, PA\, 17011\, United States
CATEGORIES:Community,Wellness
END:VEVENT
BEGIN:VEVENT
DTSTART;TZID=America/New_York:20300117T180000
DTEND;TZID=America/New_York:20300117T200000
DTSTAMP:20260419T082232
CREATED:20241126T201755Z
LAST-MODIFIED:20241126T201755Z
UID:10004645-1894903200-1894910400@pennstatehealthnews.org
SUMMARY:Condensed Childbirth Preparation
DESCRIPTION:This one-evening\, two-hour class is a condensed version of our weekend childbirth preparation class\, focusing on comfort measures and breathing techniques for labor. It can also be taken as a refresher class if you’ve given birth before. Class runs from 6-8 p.m.
URL:https://pennstatehealthnews.org/event/condensed-childbirth-preparation/2030-01-17/
LOCATION:Auditorium – Penn State Health Holy Spirit Medical Center\, 503 N. 21st St.\, Camp Hill\, PA\, 17011\, United States
CATEGORIES:Community,Wellness
END:VEVENT
BEGIN:VEVENT
DTSTART;TZID=America/New_York:20300202T090000
DTEND;TZID=America/New_York:20300202T160000
DTSTAMP:20260419T082232
CREATED:20241126T201759Z
LAST-MODIFIED:20241126T201759Z
UID:10004634-1896253200-1896278400@pennstatehealthnews.org
SUMMARY:Weekend Childbirth Preparation
DESCRIPTION:This all day class covers phases/stages of labor and delivery\, comfort measures and breathing techniques to use during labor\, pain medication options and what to expect postpartum.  It is best if taken in the last 4 months of pregnancy. For registration information\, call 717-981-8238 or e-mail hmoretz@pennstatehealth.psu.edu.
URL:https://pennstatehealthnews.org/event/weekend-childbirth-preparation/2030-02-02/
LOCATION:Auditorium – Penn State Health Holy Spirit Medical Center\, 503 N. 21st St.\, Camp Hill\, PA\, 17011\, United States
CATEGORIES:Community,Wellness
END:VEVENT
BEGIN:VEVENT
DTSTART;TZID=America/New_York:20300221T180000
DTEND;TZID=America/New_York:20300221T200000
DTSTAMP:20260419T082232
CREATED:20241126T201755Z
LAST-MODIFIED:20241126T201755Z
UID:10004646-1897927200-1897934400@pennstatehealthnews.org
SUMMARY:Condensed Childbirth Preparation
DESCRIPTION:This one-evening\, two-hour class is a condensed version of our weekend childbirth preparation class\, focusing on comfort measures and breathing techniques for labor. It can also be taken as a refresher class if you’ve given birth before. Class runs from 6-8 p.m.
URL:https://pennstatehealthnews.org/event/condensed-childbirth-preparation/2030-02-21/
LOCATION:Auditorium – Penn State Health Holy Spirit Medical Center\, 503 N. 21st St.\, Camp Hill\, PA\, 17011\, United States
CATEGORIES:Community,Wellness
END:VEVENT
BEGIN:VEVENT
DTSTART;TZID=America/New_York:20300302T090000
DTEND;TZID=America/New_York:20300302T160000
DTSTAMP:20260419T082232
CREATED:20241126T201759Z
LAST-MODIFIED:20241126T201759Z
UID:10004731-1898672400-1898697600@pennstatehealthnews.org
SUMMARY:Weekend Childbirth Preparation
DESCRIPTION:This all day class covers phases/stages of labor and delivery\, comfort measures and breathing techniques to use during labor\, pain medication options and what to expect postpartum.  It is best if taken in the last 4 months of pregnancy. For registration information\, call 717-981-8238 or e-mail hmoretz@pennstatehealth.psu.edu.
URL:https://pennstatehealthnews.org/event/weekend-childbirth-preparation/2030-03-02/
LOCATION:Auditorium – Penn State Health Holy Spirit Medical Center\, 503 N. 21st St.\, Camp Hill\, PA\, 17011\, United States
CATEGORIES:Community,Wellness
END:VEVENT
BEGIN:VEVENT
DTSTART;TZID=America/New_York:20300321T180000
DTEND;TZID=America/New_York:20300321T200000
DTSTAMP:20260419T082232
CREATED:20241126T201755Z
LAST-MODIFIED:20241126T201755Z
UID:10004778-1900346400-1900353600@pennstatehealthnews.org
SUMMARY:Condensed Childbirth Preparation
DESCRIPTION:This one-evening\, two-hour class is a condensed version of our weekend childbirth preparation class\, focusing on comfort measures and breathing techniques for labor. It can also be taken as a refresher class if you’ve given birth before. Class runs from 6-8 p.m.
URL:https://pennstatehealthnews.org/event/condensed-childbirth-preparation/2030-03-21/
LOCATION:Auditorium – Penn State Health Holy Spirit Medical Center\, 503 N. 21st St.\, Camp Hill\, PA\, 17011\, United States
CATEGORIES:Community,Wellness
END:VEVENT
BEGIN:VEVENT
DTSTART;TZID=America/New_York:20300406T090000
DTEND;TZID=America/New_York:20300406T160000
DTSTAMP:20260419T082232
CREATED:20241126T201759Z
LAST-MODIFIED:20241126T201759Z
UID:10005229-1901696400-1901721600@pennstatehealthnews.org
SUMMARY:Weekend Childbirth Preparation
DESCRIPTION:This all day class covers phases/stages of labor and delivery\, comfort measures and breathing techniques to use during labor\, pain medication options and what to expect postpartum.  It is best if taken in the last 4 months of pregnancy. For registration information\, call 717-981-8238 or e-mail hmoretz@pennstatehealth.psu.edu.
URL:https://pennstatehealthnews.org/event/weekend-childbirth-preparation/2030-04-06/
LOCATION:Auditorium – Penn State Health Holy Spirit Medical Center\, 503 N. 21st St.\, Camp Hill\, PA\, 17011\, United States
CATEGORIES:Community,Wellness
END:VEVENT
BEGIN:VEVENT
DTSTART;TZID=America/New_York:20300418T180000
DTEND;TZID=America/New_York:20300418T200000
DTSTAMP:20260419T082232
CREATED:20241126T201755Z
LAST-MODIFIED:20241126T201755Z
UID:10005212-1902765600-1902772800@pennstatehealthnews.org
SUMMARY:Condensed Childbirth Preparation
DESCRIPTION:This one-evening\, two-hour class is a condensed version of our weekend childbirth preparation class\, focusing on comfort measures and breathing techniques for labor. It can also be taken as a refresher class if you’ve given birth before. Class runs from 6-8 p.m.
URL:https://pennstatehealthnews.org/event/condensed-childbirth-preparation/2030-04-18/
LOCATION:Auditorium – Penn State Health Holy Spirit Medical Center\, 503 N. 21st St.\, Camp Hill\, PA\, 17011\, United States
CATEGORIES:Community,Wellness
END:VEVENT
BEGIN:VEVENT
DTSTART;TZID=America/New_York:20300504T090000
DTEND;TZID=America/New_York:20300504T160000
DTSTAMP:20260419T082232
CREATED:20241126T201759Z
LAST-MODIFIED:20241126T201759Z
UID:10005230-1904115600-1904140800@pennstatehealthnews.org
SUMMARY:Weekend Childbirth Preparation
DESCRIPTION:This all day class covers phases/stages of labor and delivery\, comfort measures and breathing techniques to use during labor\, pain medication options and what to expect postpartum.  It is best if taken in the last 4 months of pregnancy. For registration information\, call 717-981-8238 or e-mail hmoretz@pennstatehealth.psu.edu.
URL:https://pennstatehealthnews.org/event/weekend-childbirth-preparation/2030-05-04/
LOCATION:Auditorium – Penn State Health Holy Spirit Medical Center\, 503 N. 21st St.\, Camp Hill\, PA\, 17011\, United States
CATEGORIES:Community,Wellness
END:VEVENT
END:VCALENDAR