BEGIN:VCALENDAR
VERSION:2.0
PRODID:-//Penn State Health News - ECPv6.15.20//NONSGML v1.0//EN
CALSCALE:GREGORIAN
METHOD:PUBLISH
X-ORIGINAL-URL:https://pennstatehealthnews.org
X-WR-CALDESC:Events for Penn State Health News
REFRESH-INTERVAL;VALUE=DURATION:PT1H
X-Robots-Tag:noindex
X-PUBLISHED-TTL:PT1H
BEGIN:VTIMEZONE
TZID:America/New_York
BEGIN:DAYLIGHT
TZOFFSETFROM:-0500
TZOFFSETTO:-0400
TZNAME:EDT
DTSTART:20290311T070000
END:DAYLIGHT
BEGIN:STANDARD
TZOFFSETFROM:-0400
TZOFFSETTO:-0500
TZNAME:EST
DTSTART:20291104T060000
END:STANDARD
BEGIN:DAYLIGHT
TZOFFSETFROM:-0500
TZOFFSETTO:-0400
TZNAME:EDT
DTSTART:20300310T070000
END:DAYLIGHT
BEGIN:STANDARD
TZOFFSETFROM:-0400
TZOFFSETTO:-0500
TZNAME:EST
DTSTART:20301103T060000
END:STANDARD
BEGIN:DAYLIGHT
TZOFFSETFROM:-0500
TZOFFSETTO:-0400
TZNAME:EDT
DTSTART:20310309T070000
END:DAYLIGHT
BEGIN:STANDARD
TZOFFSETFROM:-0400
TZOFFSETTO:-0500
TZNAME:EST
DTSTART:20311102T060000
END:STANDARD
BEGIN:DAYLIGHT
TZOFFSETFROM:-0500
TZOFFSETTO:-0400
TZNAME:EDT
DTSTART:20320314T070000
END:DAYLIGHT
BEGIN:STANDARD
TZOFFSETFROM:-0400
TZOFFSETTO:-0500
TZNAME:EST
DTSTART:20321107T060000
END:STANDARD
END:VTIMEZONE
BEGIN:VEVENT
DTSTART;TZID=America/New_York:20300302T090000
DTEND;TZID=America/New_York:20300302T160000
DTSTAMP:20260419T094048
CREATED:20241126T201759Z
LAST-MODIFIED:20241126T201759Z
UID:10004731-1898672400-1898697600@pennstatehealthnews.org
SUMMARY:Weekend Childbirth Preparation
DESCRIPTION:This all day class covers phases/stages of labor and delivery\, comfort measures and breathing techniques to use during labor\, pain medication options and what to expect postpartum.  It is best if taken in the last 4 months of pregnancy. For registration information\, call 717-981-8238 or e-mail hmoretz@pennstatehealth.psu.edu.
URL:https://pennstatehealthnews.org/event/weekend-childbirth-preparation/2030-03-02/
LOCATION:Auditorium – Penn State Health Holy Spirit Medical Center\, 503 N. 21st St.\, Camp Hill\, PA\, 17011\, United States
CATEGORIES:Community,Wellness
END:VEVENT
BEGIN:VEVENT
DTSTART;TZID=America/New_York:20300321T180000
DTEND;TZID=America/New_York:20300321T200000
DTSTAMP:20260419T094048
CREATED:20241126T201755Z
LAST-MODIFIED:20241126T201755Z
UID:10004778-1900346400-1900353600@pennstatehealthnews.org
SUMMARY:Condensed Childbirth Preparation
DESCRIPTION:This one-evening\, two-hour class is a condensed version of our weekend childbirth preparation class\, focusing on comfort measures and breathing techniques for labor. It can also be taken as a refresher class if you’ve given birth before. Class runs from 6-8 p.m.
URL:https://pennstatehealthnews.org/event/condensed-childbirth-preparation/2030-03-21/
LOCATION:Auditorium – Penn State Health Holy Spirit Medical Center\, 503 N. 21st St.\, Camp Hill\, PA\, 17011\, United States
CATEGORIES:Community,Wellness
END:VEVENT
BEGIN:VEVENT
DTSTART;TZID=America/New_York:20300406T090000
DTEND;TZID=America/New_York:20300406T160000
DTSTAMP:20260419T094048
CREATED:20241126T201759Z
LAST-MODIFIED:20241126T201759Z
UID:10005229-1901696400-1901721600@pennstatehealthnews.org
SUMMARY:Weekend Childbirth Preparation
DESCRIPTION:This all day class covers phases/stages of labor and delivery\, comfort measures and breathing techniques to use during labor\, pain medication options and what to expect postpartum.  It is best if taken in the last 4 months of pregnancy. For registration information\, call 717-981-8238 or e-mail hmoretz@pennstatehealth.psu.edu.
URL:https://pennstatehealthnews.org/event/weekend-childbirth-preparation/2030-04-06/
LOCATION:Auditorium – Penn State Health Holy Spirit Medical Center\, 503 N. 21st St.\, Camp Hill\, PA\, 17011\, United States
CATEGORIES:Community,Wellness
END:VEVENT
BEGIN:VEVENT
DTSTART;TZID=America/New_York:20300418T180000
DTEND;TZID=America/New_York:20300418T200000
DTSTAMP:20260419T094048
CREATED:20241126T201755Z
LAST-MODIFIED:20241126T201755Z
UID:10005212-1902765600-1902772800@pennstatehealthnews.org
SUMMARY:Condensed Childbirth Preparation
DESCRIPTION:This one-evening\, two-hour class is a condensed version of our weekend childbirth preparation class\, focusing on comfort measures and breathing techniques for labor. It can also be taken as a refresher class if you’ve given birth before. Class runs from 6-8 p.m.
URL:https://pennstatehealthnews.org/event/condensed-childbirth-preparation/2030-04-18/
LOCATION:Auditorium – Penn State Health Holy Spirit Medical Center\, 503 N. 21st St.\, Camp Hill\, PA\, 17011\, United States
CATEGORIES:Community,Wellness
END:VEVENT
BEGIN:VEVENT
DTSTART;TZID=America/New_York:20300504T090000
DTEND;TZID=America/New_York:20300504T160000
DTSTAMP:20260419T094048
CREATED:20241126T201759Z
LAST-MODIFIED:20241126T201759Z
UID:10005230-1904115600-1904140800@pennstatehealthnews.org
SUMMARY:Weekend Childbirth Preparation
DESCRIPTION:This all day class covers phases/stages of labor and delivery\, comfort measures and breathing techniques to use during labor\, pain medication options and what to expect postpartum.  It is best if taken in the last 4 months of pregnancy. For registration information\, call 717-981-8238 or e-mail hmoretz@pennstatehealth.psu.edu.
URL:https://pennstatehealthnews.org/event/weekend-childbirth-preparation/2030-05-04/
LOCATION:Auditorium – Penn State Health Holy Spirit Medical Center\, 503 N. 21st St.\, Camp Hill\, PA\, 17011\, United States
CATEGORIES:Community,Wellness
END:VEVENT
BEGIN:VEVENT
DTSTART;TZID=America/New_York:20300516T180000
DTEND;TZID=America/New_York:20300516T200000
DTSTAMP:20260419T094048
CREATED:20241126T201755Z
LAST-MODIFIED:20241126T201755Z
UID:10005325-1905184800-1905192000@pennstatehealthnews.org
SUMMARY:Condensed Childbirth Preparation
DESCRIPTION:This one-evening\, two-hour class is a condensed version of our weekend childbirth preparation class\, focusing on comfort measures and breathing techniques for labor. It can also be taken as a refresher class if you’ve given birth before. Class runs from 6-8 p.m.
URL:https://pennstatehealthnews.org/event/condensed-childbirth-preparation/2030-05-16/
LOCATION:Auditorium – Penn State Health Holy Spirit Medical Center\, 503 N. 21st St.\, Camp Hill\, PA\, 17011\, United States
CATEGORIES:Community,Wellness
END:VEVENT
BEGIN:VEVENT
DTSTART;TZID=America/New_York:20300601T090000
DTEND;TZID=America/New_York:20300601T160000
DTSTAMP:20260419T094048
CREATED:20241126T201759Z
LAST-MODIFIED:20241126T201759Z
UID:10005618-1906534800-1906560000@pennstatehealthnews.org
SUMMARY:Weekend Childbirth Preparation
DESCRIPTION:This all day class covers phases/stages of labor and delivery\, comfort measures and breathing techniques to use during labor\, pain medication options and what to expect postpartum.  It is best if taken in the last 4 months of pregnancy. For registration information\, call 717-981-8238 or e-mail hmoretz@pennstatehealth.psu.edu.
URL:https://pennstatehealthnews.org/event/weekend-childbirth-preparation/2030-06-01/
LOCATION:Auditorium – Penn State Health Holy Spirit Medical Center\, 503 N. 21st St.\, Camp Hill\, PA\, 17011\, United States
CATEGORIES:Community,Wellness
END:VEVENT
BEGIN:VEVENT
DTSTART;TZID=America/New_York:20300620T180000
DTEND;TZID=America/New_York:20300620T200000
DTSTAMP:20260419T094048
CREATED:20241126T201755Z
LAST-MODIFIED:20241126T201755Z
UID:10006098-1908208800-1908216000@pennstatehealthnews.org
SUMMARY:Condensed Childbirth Preparation
DESCRIPTION:This one-evening\, two-hour class is a condensed version of our weekend childbirth preparation class\, focusing on comfort measures and breathing techniques for labor. It can also be taken as a refresher class if you’ve given birth before. Class runs from 6-8 p.m.
URL:https://pennstatehealthnews.org/event/condensed-childbirth-preparation/2030-06-20/
LOCATION:Auditorium – Penn State Health Holy Spirit Medical Center\, 503 N. 21st St.\, Camp Hill\, PA\, 17011\, United States
CATEGORIES:Community,Wellness
END:VEVENT
BEGIN:VEVENT
DTSTART;TZID=America/New_York:20300706T090000
DTEND;TZID=America/New_York:20300706T160000
DTSTAMP:20260419T094048
CREATED:20241126T201759Z
LAST-MODIFIED:20241126T201759Z
UID:10006060-1909558800-1909584000@pennstatehealthnews.org
SUMMARY:Weekend Childbirth Preparation
DESCRIPTION:This all day class covers phases/stages of labor and delivery\, comfort measures and breathing techniques to use during labor\, pain medication options and what to expect postpartum.  It is best if taken in the last 4 months of pregnancy. For registration information\, call 717-981-8238 or e-mail hmoretz@pennstatehealth.psu.edu.
URL:https://pennstatehealthnews.org/event/weekend-childbirth-preparation/2030-07-06/
LOCATION:Auditorium – Penn State Health Holy Spirit Medical Center\, 503 N. 21st St.\, Camp Hill\, PA\, 17011\, United States
CATEGORIES:Community,Wellness
END:VEVENT
BEGIN:VEVENT
DTSTART;TZID=America/New_York:20300718T180000
DTEND;TZID=America/New_York:20300718T200000
DTSTAMP:20260419T094048
CREATED:20241126T201755Z
LAST-MODIFIED:20241126T201755Z
UID:10006099-1910628000-1910635200@pennstatehealthnews.org
SUMMARY:Condensed Childbirth Preparation
DESCRIPTION:This one-evening\, two-hour class is a condensed version of our weekend childbirth preparation class\, focusing on comfort measures and breathing techniques for labor. It can also be taken as a refresher class if you’ve given birth before. Class runs from 6-8 p.m.
URL:https://pennstatehealthnews.org/event/condensed-childbirth-preparation/2030-07-18/
LOCATION:Auditorium – Penn State Health Holy Spirit Medical Center\, 503 N. 21st St.\, Camp Hill\, PA\, 17011\, United States
CATEGORIES:Community,Wellness
END:VEVENT
BEGIN:VEVENT
DTSTART;TZID=America/New_York:20300803T090000
DTEND;TZID=America/New_York:20300803T160000
DTSTAMP:20260419T094048
CREATED:20241126T201759Z
LAST-MODIFIED:20241126T201759Z
UID:10006269-1911978000-1912003200@pennstatehealthnews.org
SUMMARY:Weekend Childbirth Preparation
DESCRIPTION:This all day class covers phases/stages of labor and delivery\, comfort measures and breathing techniques to use during labor\, pain medication options and what to expect postpartum.  It is best if taken in the last 4 months of pregnancy. For registration information\, call 717-981-8238 or e-mail hmoretz@pennstatehealth.psu.edu.
URL:https://pennstatehealthnews.org/event/weekend-childbirth-preparation/2030-08-03/
LOCATION:Auditorium – Penn State Health Holy Spirit Medical Center\, 503 N. 21st St.\, Camp Hill\, PA\, 17011\, United States
CATEGORIES:Community,Wellness
END:VEVENT
BEGIN:VEVENT
DTSTART;TZID=America/New_York:20300815T180000
DTEND;TZID=America/New_York:20300815T200000
DTSTAMP:20260419T094048
CREATED:20241126T201755Z
LAST-MODIFIED:20241126T201755Z
UID:10006346-1913047200-1913054400@pennstatehealthnews.org
SUMMARY:Condensed Childbirth Preparation
DESCRIPTION:This one-evening\, two-hour class is a condensed version of our weekend childbirth preparation class\, focusing on comfort measures and breathing techniques for labor. It can also be taken as a refresher class if you’ve given birth before. Class runs from 6-8 p.m.
URL:https://pennstatehealthnews.org/event/condensed-childbirth-preparation/2030-08-15/
LOCATION:Auditorium – Penn State Health Holy Spirit Medical Center\, 503 N. 21st St.\, Camp Hill\, PA\, 17011\, United States
CATEGORIES:Community,Wellness
END:VEVENT
BEGIN:VEVENT
DTSTART;TZID=America/New_York:20300907T090000
DTEND;TZID=America/New_York:20300907T160000
DTSTAMP:20260419T094048
CREATED:20241126T201759Z
LAST-MODIFIED:20241126T201759Z
UID:10007663-1915002000-1915027200@pennstatehealthnews.org
SUMMARY:Weekend Childbirth Preparation
DESCRIPTION:This all day class covers phases/stages of labor and delivery\, comfort measures and breathing techniques to use during labor\, pain medication options and what to expect postpartum.  It is best if taken in the last 4 months of pregnancy. For registration information\, call 717-981-8238 or e-mail hmoretz@pennstatehealth.psu.edu.
URL:https://pennstatehealthnews.org/event/weekend-childbirth-preparation/2030-09-07/
LOCATION:Auditorium – Penn State Health Holy Spirit Medical Center\, 503 N. 21st St.\, Camp Hill\, PA\, 17011\, United States
CATEGORIES:Community,Wellness
END:VEVENT
BEGIN:VEVENT
DTSTART;TZID=America/New_York:20300919T180000
DTEND;TZID=America/New_York:20300919T200000
DTSTAMP:20260419T094048
CREATED:20241126T201755Z
LAST-MODIFIED:20241126T201755Z
UID:10006730-1916071200-1916078400@pennstatehealthnews.org
SUMMARY:Condensed Childbirth Preparation
DESCRIPTION:This one-evening\, two-hour class is a condensed version of our weekend childbirth preparation class\, focusing on comfort measures and breathing techniques for labor. It can also be taken as a refresher class if you’ve given birth before. Class runs from 6-8 p.m.
URL:https://pennstatehealthnews.org/event/condensed-childbirth-preparation/2030-09-19/
LOCATION:Auditorium – Penn State Health Holy Spirit Medical Center\, 503 N. 21st St.\, Camp Hill\, PA\, 17011\, United States
CATEGORIES:Community,Wellness
END:VEVENT
BEGIN:VEVENT
DTSTART;TZID=America/New_York:20301005T090000
DTEND;TZID=America/New_York:20301005T160000
DTSTAMP:20260419T094048
CREATED:20241126T201759Z
LAST-MODIFIED:20241126T201759Z
UID:10007664-1917421200-1917446400@pennstatehealthnews.org
SUMMARY:Weekend Childbirth Preparation
DESCRIPTION:This all day class covers phases/stages of labor and delivery\, comfort measures and breathing techniques to use during labor\, pain medication options and what to expect postpartum.  It is best if taken in the last 4 months of pregnancy. For registration information\, call 717-981-8238 or e-mail hmoretz@pennstatehealth.psu.edu.
URL:https://pennstatehealthnews.org/event/weekend-childbirth-preparation/2030-10-05/
LOCATION:Auditorium – Penn State Health Holy Spirit Medical Center\, 503 N. 21st St.\, Camp Hill\, PA\, 17011\, United States
CATEGORIES:Community,Wellness
END:VEVENT
BEGIN:VEVENT
DTSTART;TZID=America/New_York:20301017T180000
DTEND;TZID=America/New_York:20301017T200000
DTSTAMP:20260419T094048
CREATED:20241126T201755Z
LAST-MODIFIED:20241126T201755Z
UID:10007846-1918490400-1918497600@pennstatehealthnews.org
SUMMARY:Condensed Childbirth Preparation
DESCRIPTION:This one-evening\, two-hour class is a condensed version of our weekend childbirth preparation class\, focusing on comfort measures and breathing techniques for labor. It can also be taken as a refresher class if you’ve given birth before. Class runs from 6-8 p.m.
URL:https://pennstatehealthnews.org/event/condensed-childbirth-preparation/2030-10-17/
LOCATION:Auditorium – Penn State Health Holy Spirit Medical Center\, 503 N. 21st St.\, Camp Hill\, PA\, 17011\, United States
CATEGORIES:Community,Wellness
END:VEVENT
BEGIN:VEVENT
DTSTART;TZID=America/New_York:20301102T090000
DTEND;TZID=America/New_York:20301102T160000
DTSTAMP:20260419T094048
CREATED:20241126T201759Z
LAST-MODIFIED:20241126T201759Z
UID:10007902-1919840400-1919865600@pennstatehealthnews.org
SUMMARY:Weekend Childbirth Preparation
DESCRIPTION:This all day class covers phases/stages of labor and delivery\, comfort measures and breathing techniques to use during labor\, pain medication options and what to expect postpartum.  It is best if taken in the last 4 months of pregnancy. For registration information\, call 717-981-8238 or e-mail hmoretz@pennstatehealth.psu.edu.
URL:https://pennstatehealthnews.org/event/weekend-childbirth-preparation/2030-11-02/
LOCATION:Auditorium – Penn State Health Holy Spirit Medical Center\, 503 N. 21st St.\, Camp Hill\, PA\, 17011\, United States
CATEGORIES:Community,Wellness
END:VEVENT
BEGIN:VEVENT
DTSTART;TZID=America/New_York:20301121T180000
DTEND;TZID=America/New_York:20301121T200000
DTSTAMP:20260419T094048
CREATED:20241126T201755Z
LAST-MODIFIED:20241126T201755Z
UID:10008073-1921514400-1921521600@pennstatehealthnews.org
SUMMARY:Condensed Childbirth Preparation
DESCRIPTION:This one-evening\, two-hour class is a condensed version of our weekend childbirth preparation class\, focusing on comfort measures and breathing techniques for labor. It can also be taken as a refresher class if you’ve given birth before. Class runs from 6-8 p.m.
URL:https://pennstatehealthnews.org/event/condensed-childbirth-preparation/2030-11-21/
LOCATION:Auditorium – Penn State Health Holy Spirit Medical Center\, 503 N. 21st St.\, Camp Hill\, PA\, 17011\, United States
CATEGORIES:Community,Wellness
END:VEVENT
BEGIN:VEVENT
DTSTART;TZID=America/New_York:20301207T090000
DTEND;TZID=America/New_York:20301207T160000
DTSTAMP:20260419T094048
CREATED:20241126T201759Z
LAST-MODIFIED:20241126T201759Z
UID:10008117-1922864400-1922889600@pennstatehealthnews.org
SUMMARY:Weekend Childbirth Preparation
DESCRIPTION:This all day class covers phases/stages of labor and delivery\, comfort measures and breathing techniques to use during labor\, pain medication options and what to expect postpartum.  It is best if taken in the last 4 months of pregnancy. For registration information\, call 717-981-8238 or e-mail hmoretz@pennstatehealth.psu.edu.
URL:https://pennstatehealthnews.org/event/weekend-childbirth-preparation/2030-12-07/
LOCATION:Auditorium – Penn State Health Holy Spirit Medical Center\, 503 N. 21st St.\, Camp Hill\, PA\, 17011\, United States
CATEGORIES:Community,Wellness
END:VEVENT
BEGIN:VEVENT
DTSTART;TZID=America/New_York:20301219T180000
DTEND;TZID=America/New_York:20301219T200000
DTSTAMP:20260419T094049
CREATED:20241126T201755Z
LAST-MODIFIED:20241126T201755Z
UID:10008074-1923933600-1923940800@pennstatehealthnews.org
SUMMARY:Condensed Childbirth Preparation
DESCRIPTION:This one-evening\, two-hour class is a condensed version of our weekend childbirth preparation class\, focusing on comfort measures and breathing techniques for labor. It can also be taken as a refresher class if you’ve given birth before. Class runs from 6-8 p.m.
URL:https://pennstatehealthnews.org/event/condensed-childbirth-preparation/2030-12-19/
LOCATION:Auditorium – Penn State Health Holy Spirit Medical Center\, 503 N. 21st St.\, Camp Hill\, PA\, 17011\, United States
CATEGORIES:Community,Wellness
END:VEVENT
BEGIN:VEVENT
DTSTART;TZID=America/New_York:20310104T090000
DTEND;TZID=America/New_York:20310104T160000
DTSTAMP:20260419T094049
CREATED:20241126T201759Z
LAST-MODIFIED:20241126T201759Z
UID:10008118-1925283600-1925308800@pennstatehealthnews.org
SUMMARY:Weekend Childbirth Preparation
DESCRIPTION:This all day class covers phases/stages of labor and delivery\, comfort measures and breathing techniques to use during labor\, pain medication options and what to expect postpartum.  It is best if taken in the last 4 months of pregnancy. For registration information\, call 717-981-8238 or e-mail hmoretz@pennstatehealth.psu.edu.
URL:https://pennstatehealthnews.org/event/weekend-childbirth-preparation/2031-01-04/
LOCATION:Auditorium – Penn State Health Holy Spirit Medical Center\, 503 N. 21st St.\, Camp Hill\, PA\, 17011\, United States
CATEGORIES:Community,Wellness
END:VEVENT
BEGIN:VEVENT
DTSTART;TZID=America/New_York:20310116T180000
DTEND;TZID=America/New_York:20310116T200000
DTSTAMP:20260419T094049
CREATED:20241126T201755Z
LAST-MODIFIED:20241126T201755Z
UID:10008274-1926352800-1926360000@pennstatehealthnews.org
SUMMARY:Condensed Childbirth Preparation
DESCRIPTION:This one-evening\, two-hour class is a condensed version of our weekend childbirth preparation class\, focusing on comfort measures and breathing techniques for labor. It can also be taken as a refresher class if you’ve given birth before. Class runs from 6-8 p.m.
URL:https://pennstatehealthnews.org/event/condensed-childbirth-preparation/2031-01-16/
LOCATION:Auditorium – Penn State Health Holy Spirit Medical Center\, 503 N. 21st St.\, Camp Hill\, PA\, 17011\, United States
CATEGORIES:Community,Wellness
END:VEVENT
BEGIN:VEVENT
DTSTART;TZID=America/New_York:20310201T090000
DTEND;TZID=America/New_York:20310201T160000
DTSTAMP:20260419T094049
CREATED:20241126T201759Z
LAST-MODIFIED:20241126T201759Z
UID:10008318-1927702800-1927728000@pennstatehealthnews.org
SUMMARY:Weekend Childbirth Preparation
DESCRIPTION:This all day class covers phases/stages of labor and delivery\, comfort measures and breathing techniques to use during labor\, pain medication options and what to expect postpartum.  It is best if taken in the last 4 months of pregnancy. For registration information\, call 717-981-8238 or e-mail hmoretz@pennstatehealth.psu.edu.
URL:https://pennstatehealthnews.org/event/weekend-childbirth-preparation/2031-02-01/
LOCATION:Auditorium – Penn State Health Holy Spirit Medical Center\, 503 N. 21st St.\, Camp Hill\, PA\, 17011\, United States
CATEGORIES:Community,Wellness
END:VEVENT
BEGIN:VEVENT
DTSTART;TZID=America/New_York:20310220T180000
DTEND;TZID=America/New_York:20310220T200000
DTSTAMP:20260419T094049
CREATED:20241126T201755Z
LAST-MODIFIED:20241126T201755Z
UID:10008472-1929376800-1929384000@pennstatehealthnews.org
SUMMARY:Condensed Childbirth Preparation
DESCRIPTION:This one-evening\, two-hour class is a condensed version of our weekend childbirth preparation class\, focusing on comfort measures and breathing techniques for labor. It can also be taken as a refresher class if you’ve given birth before. Class runs from 6-8 p.m.
URL:https://pennstatehealthnews.org/event/condensed-childbirth-preparation/2031-02-20/
LOCATION:Auditorium – Penn State Health Holy Spirit Medical Center\, 503 N. 21st St.\, Camp Hill\, PA\, 17011\, United States
CATEGORIES:Community,Wellness
END:VEVENT
BEGIN:VEVENT
DTSTART;TZID=America/New_York:20310301T090000
DTEND;TZID=America/New_York:20310301T160000
DTSTAMP:20260419T094049
CREATED:20241126T201759Z
LAST-MODIFIED:20241126T201759Z
UID:10009542-1930122000-1930147200@pennstatehealthnews.org
SUMMARY:Weekend Childbirth Preparation
DESCRIPTION:This all day class covers phases/stages of labor and delivery\, comfort measures and breathing techniques to use during labor\, pain medication options and what to expect postpartum.  It is best if taken in the last 4 months of pregnancy. For registration information\, call 717-981-8238 or e-mail hmoretz@pennstatehealth.psu.edu.
URL:https://pennstatehealthnews.org/event/weekend-childbirth-preparation/2031-03-01/
LOCATION:Auditorium – Penn State Health Holy Spirit Medical Center\, 503 N. 21st St.\, Camp Hill\, PA\, 17011\, United States
CATEGORIES:Community,Wellness
END:VEVENT
BEGIN:VEVENT
DTSTART;TZID=America/New_York:20310320T180000
DTEND;TZID=America/New_York:20310320T200000
DTSTAMP:20260419T094049
CREATED:20241126T201755Z
LAST-MODIFIED:20241126T201755Z
UID:10009749-1931796000-1931803200@pennstatehealthnews.org
SUMMARY:Condensed Childbirth Preparation
DESCRIPTION:This one-evening\, two-hour class is a condensed version of our weekend childbirth preparation class\, focusing on comfort measures and breathing techniques for labor. It can also be taken as a refresher class if you’ve given birth before. Class runs from 6-8 p.m.
URL:https://pennstatehealthnews.org/event/condensed-childbirth-preparation/2031-03-20/
LOCATION:Auditorium – Penn State Health Holy Spirit Medical Center\, 503 N. 21st St.\, Camp Hill\, PA\, 17011\, United States
CATEGORIES:Community,Wellness
END:VEVENT
BEGIN:VEVENT
DTSTART;TZID=America/New_York:20310405T090000
DTEND;TZID=America/New_York:20310405T160000
DTSTAMP:20260419T094049
CREATED:20241126T201759Z
LAST-MODIFIED:20241126T201759Z
UID:10009765-1933146000-1933171200@pennstatehealthnews.org
SUMMARY:Weekend Childbirth Preparation
DESCRIPTION:This all day class covers phases/stages of labor and delivery\, comfort measures and breathing techniques to use during labor\, pain medication options and what to expect postpartum.  It is best if taken in the last 4 months of pregnancy. For registration information\, call 717-981-8238 or e-mail hmoretz@pennstatehealth.psu.edu.
URL:https://pennstatehealthnews.org/event/weekend-childbirth-preparation/2031-04-05/
LOCATION:Auditorium – Penn State Health Holy Spirit Medical Center\, 503 N. 21st St.\, Camp Hill\, PA\, 17011\, United States
CATEGORIES:Community,Wellness
END:VEVENT
END:VCALENDAR