BEGIN:VCALENDAR
VERSION:2.0
PRODID:-//Penn State Health News - ECPv6.15.20//NONSGML v1.0//EN
CALSCALE:GREGORIAN
METHOD:PUBLISH
X-ORIGINAL-URL:https://pennstatehealthnews.org
X-WR-CALDESC:Events for Penn State Health News
REFRESH-INTERVAL;VALUE=DURATION:PT1H
X-Robots-Tag:noindex
X-PUBLISHED-TTL:PT1H
BEGIN:VTIMEZONE
TZID:America/New_York
BEGIN:DAYLIGHT
TZOFFSETFROM:-0500
TZOFFSETTO:-0400
TZNAME:EDT
DTSTART:20250309T070000
END:DAYLIGHT
BEGIN:STANDARD
TZOFFSETFROM:-0400
TZOFFSETTO:-0500
TZNAME:EST
DTSTART:20251102T060000
END:STANDARD
BEGIN:DAYLIGHT
TZOFFSETFROM:-0500
TZOFFSETTO:-0400
TZNAME:EDT
DTSTART:20260308T070000
END:DAYLIGHT
BEGIN:STANDARD
TZOFFSETFROM:-0400
TZOFFSETTO:-0500
TZNAME:EST
DTSTART:20261101T060000
END:STANDARD
BEGIN:DAYLIGHT
TZOFFSETFROM:-0500
TZOFFSETTO:-0400
TZNAME:EDT
DTSTART:20270314T070000
END:DAYLIGHT
BEGIN:STANDARD
TZOFFSETFROM:-0400
TZOFFSETTO:-0500
TZNAME:EST
DTSTART:20271107T060000
END:STANDARD
END:VTIMEZONE
BEGIN:VEVENT
DTSTART;TZID=America/New_York:20260423T160000
DTEND;TZID=America/New_York:20260423T190000
DTSTAMP:20260424T142308
CREATED:20260331T181407Z
LAST-MODIFIED:20260331T181407Z
UID:10009754-1776960000-1776970800@pennstatehealthnews.org
SUMMARY:Esteem Cosmetic Associates Spring Open House
DESCRIPTION:Join Esteem Penn State Health Cosmetic Associates for our Spring Open House. Learn more about cosmetic services and treatments\, meet the team\, and spin the wheel for a chance to win prizes. \nTo RSVP\, please call 717‑531‑1386 or email esteemcosmeticcenter@pennstatehealth.psu.edu.
URL:https://pennstatehealthnews.org/event/esteem-cosmetic-associates-spring-open-house/
LOCATION:Esteem Penn State Health Cosmetic Associates\, 5 Capital Dr.\, Harrisburg\, PA\, 17110\, United States
CATEGORIES:Community,Wellness
END:VEVENT
END:VCALENDAR