BEGIN:VCALENDAR
VERSION:2.0
PRODID:-//Penn State Health News - ECPv6.15.20//NONSGML v1.0//EN
CALSCALE:GREGORIAN
METHOD:PUBLISH
X-ORIGINAL-URL:https://pennstatehealthnews.org
X-WR-CALDESC:Events for Penn State Health News
REFRESH-INTERVAL;VALUE=DURATION:PT1H
X-Robots-Tag:noindex
X-PUBLISHED-TTL:PT1H
BEGIN:VTIMEZONE
TZID:America/New_York
BEGIN:DAYLIGHT
TZOFFSETFROM:-0500
TZOFFSETTO:-0400
TZNAME:EDT
DTSTART:20250309T070000
END:DAYLIGHT
BEGIN:STANDARD
TZOFFSETFROM:-0400
TZOFFSETTO:-0500
TZNAME:EST
DTSTART:20251102T060000
END:STANDARD
BEGIN:DAYLIGHT
TZOFFSETFROM:-0500
TZOFFSETTO:-0400
TZNAME:EDT
DTSTART:20260308T070000
END:DAYLIGHT
BEGIN:STANDARD
TZOFFSETFROM:-0400
TZOFFSETTO:-0500
TZNAME:EST
DTSTART:20261101T060000
END:STANDARD
BEGIN:DAYLIGHT
TZOFFSETFROM:-0500
TZOFFSETTO:-0400
TZNAME:EDT
DTSTART:20270314T070000
END:DAYLIGHT
BEGIN:STANDARD
TZOFFSETFROM:-0400
TZOFFSETTO:-0500
TZNAME:EST
DTSTART:20271107T060000
END:STANDARD
END:VTIMEZONE
BEGIN:VEVENT
DTSTART;TZID=America/New_York:20260421T173000
DTEND;TZID=America/New_York:20260421T193000
DTSTAMP:20260423T162311
CREATED:20260330T134105Z
LAST-MODIFIED:20260330T134105Z
UID:10009687-1776792600-1776799800@pennstatehealthnews.org
SUMMARY:A Night at the Kristen Olewine Milke CARE Center
DESCRIPTION:A Night at the Kristen Olewine Milke CARE Center: Arts & Nutrition with CARE is an in-person event series featuring varied forms of art workshops and live music/easel artists who offer unique windows into the healing power of art\, music and creativity\, as well as culinary nutrition education and tastings offered by our Food As Medicine partners. \nFor more information or to register\, email Keeley Engle\, PSCI Center Stage Arts in Health program coordinator at kengle@pennstatehealth.psu.edu.  Event begins at 5:30PM. \nThis event is a coordination between the Kristen Olewine Milke CARE Center and the Center Stage Arts in Health program\, and is offered in January\, April\, July\, and October.
URL:https://pennstatehealthnews.org/event/a-night-at-the-kristen-olewine-milke-care-center/
LOCATION:Kristen Olewine Milke CARE Center\, 400 University Drive\, Hershey\, 17033
CATEGORIES:Community,Wellness
END:VEVENT
END:VCALENDAR