BEGIN:VCALENDAR
VERSION:2.0
PRODID:-//Penn State Health News - ECPv6.15.20//NONSGML v1.0//EN
CALSCALE:GREGORIAN
METHOD:PUBLISH
X-ORIGINAL-URL:https://pennstatehealthnews.org
X-WR-CALDESC:Events for Penn State Health News
REFRESH-INTERVAL;VALUE=DURATION:PT1H
X-Robots-Tag:noindex
X-PUBLISHED-TTL:PT1H
BEGIN:VTIMEZONE
TZID:America/New_York
BEGIN:DAYLIGHT
TZOFFSETFROM:-0500
TZOFFSETTO:-0400
TZNAME:EDT
DTSTART:20260308T070000
END:DAYLIGHT
BEGIN:STANDARD
TZOFFSETFROM:-0400
TZOFFSETTO:-0500
TZNAME:EST
DTSTART:20261101T060000
END:STANDARD
BEGIN:DAYLIGHT
TZOFFSETFROM:-0500
TZOFFSETTO:-0400
TZNAME:EDT
DTSTART:20270314T070000
END:DAYLIGHT
BEGIN:STANDARD
TZOFFSETFROM:-0400
TZOFFSETTO:-0500
TZNAME:EST
DTSTART:20271107T060000
END:STANDARD
BEGIN:DAYLIGHT
TZOFFSETFROM:-0500
TZOFFSETTO:-0400
TZNAME:EDT
DTSTART:20280312T070000
END:DAYLIGHT
BEGIN:STANDARD
TZOFFSETFROM:-0400
TZOFFSETTO:-0500
TZNAME:EST
DTSTART:20281105T060000
END:STANDARD
END:VTIMEZONE
BEGIN:VEVENT
DTSTART;TZID=America/New_York:20270331T110000
DTEND;TZID=America/New_York:20270331T120000
DTSTAMP:20260423T082543
CREATED:20241126T201804Z
LAST-MODIFIED:20250529T114610Z
UID:10005450-1806490800-1806494400@pennstatehealthnews.org
SUMMARY:Mothers Circle
DESCRIPTION:All are welcome!  Share your journey and connect with other moms and future moms at our weekly support group every Wednesday.  Our lactation team will be available to answer your questions and address your concerns regarding any type of feeding.  We will be sharing our stories and discussing anything and everything motherhood related.
URL:https://pennstatehealthnews.org/event/mothers-circle-2/2027-03-31/
LOCATION:Penn State Health Hampden Medical Center\, 2200 Good Hope Rd\, Enola\, PA\, 17025\, United States
CATEGORIES:Community,Wellness
END:VEVENT
BEGIN:VEVENT
DTSTART;TZID=America/New_York:20270407T110000
DTEND;TZID=America/New_York:20270407T120000
DTSTAMP:20260423T082543
CREATED:20241126T201804Z
LAST-MODIFIED:20250529T114610Z
UID:10005451-1807095600-1807099200@pennstatehealthnews.org
SUMMARY:Mothers Circle
DESCRIPTION:All are welcome!  Share your journey and connect with other moms and future moms at our weekly support group every Wednesday.  Our lactation team will be available to answer your questions and address your concerns regarding any type of feeding.  We will be sharing our stories and discussing anything and everything motherhood related.
URL:https://pennstatehealthnews.org/event/mothers-circle-2/2027-04-07/
LOCATION:Penn State Health Hampden Medical Center\, 2200 Good Hope Rd\, Enola\, PA\, 17025\, United States
CATEGORIES:Community,Wellness
END:VEVENT
BEGIN:VEVENT
DTSTART;TZID=America/New_York:20270414T110000
DTEND;TZID=America/New_York:20270414T120000
DTSTAMP:20260423T082543
CREATED:20241126T201804Z
LAST-MODIFIED:20250529T114610Z
UID:10005452-1807700400-1807704000@pennstatehealthnews.org
SUMMARY:Mothers Circle
DESCRIPTION:All are welcome!  Share your journey and connect with other moms and future moms at our weekly support group every Wednesday.  Our lactation team will be available to answer your questions and address your concerns regarding any type of feeding.  We will be sharing our stories and discussing anything and everything motherhood related.
URL:https://pennstatehealthnews.org/event/mothers-circle-2/2027-04-14/
LOCATION:Penn State Health Hampden Medical Center\, 2200 Good Hope Rd\, Enola\, PA\, 17025\, United States
CATEGORIES:Community,Wellness
END:VEVENT
BEGIN:VEVENT
DTSTART;TZID=America/New_York:20270421T110000
DTEND;TZID=America/New_York:20270421T120000
DTSTAMP:20260423T082543
CREATED:20241126T201804Z
LAST-MODIFIED:20250529T114610Z
UID:10005453-1808305200-1808308800@pennstatehealthnews.org
SUMMARY:Mothers Circle
DESCRIPTION:All are welcome!  Share your journey and connect with other moms and future moms at our weekly support group every Wednesday.  Our lactation team will be available to answer your questions and address your concerns regarding any type of feeding.  We will be sharing our stories and discussing anything and everything motherhood related.
URL:https://pennstatehealthnews.org/event/mothers-circle-2/2027-04-21/
LOCATION:Penn State Health Hampden Medical Center\, 2200 Good Hope Rd\, Enola\, PA\, 17025\, United States
CATEGORIES:Community,Wellness
END:VEVENT
BEGIN:VEVENT
DTSTART;TZID=America/New_York:20270428T110000
DTEND;TZID=America/New_York:20270428T120000
DTSTAMP:20260423T082543
CREATED:20241126T201804Z
LAST-MODIFIED:20250529T114610Z
UID:10005454-1808910000-1808913600@pennstatehealthnews.org
SUMMARY:Mothers Circle
DESCRIPTION:All are welcome!  Share your journey and connect with other moms and future moms at our weekly support group every Wednesday.  Our lactation team will be available to answer your questions and address your concerns regarding any type of feeding.  We will be sharing our stories and discussing anything and everything motherhood related.
URL:https://pennstatehealthnews.org/event/mothers-circle-2/2027-04-28/
LOCATION:Penn State Health Hampden Medical Center\, 2200 Good Hope Rd\, Enola\, PA\, 17025\, United States
CATEGORIES:Community,Wellness
END:VEVENT
BEGIN:VEVENT
DTSTART;TZID=America/New_York:20270505T110000
DTEND;TZID=America/New_York:20270505T120000
DTSTAMP:20260423T082543
CREATED:20241126T201804Z
LAST-MODIFIED:20250529T114610Z
UID:10005455-1809514800-1809518400@pennstatehealthnews.org
SUMMARY:Mothers Circle
DESCRIPTION:All are welcome!  Share your journey and connect with other moms and future moms at our weekly support group every Wednesday.  Our lactation team will be available to answer your questions and address your concerns regarding any type of feeding.  We will be sharing our stories and discussing anything and everything motherhood related.
URL:https://pennstatehealthnews.org/event/mothers-circle-2/2027-05-05/
LOCATION:Penn State Health Hampden Medical Center\, 2200 Good Hope Rd\, Enola\, PA\, 17025\, United States
CATEGORIES:Community,Wellness
END:VEVENT
BEGIN:VEVENT
DTSTART;TZID=America/New_York:20270512T110000
DTEND;TZID=America/New_York:20270512T120000
DTSTAMP:20260423T082543
CREATED:20241126T201804Z
LAST-MODIFIED:20250529T114610Z
UID:10005456-1810119600-1810123200@pennstatehealthnews.org
SUMMARY:Mothers Circle
DESCRIPTION:All are welcome!  Share your journey and connect with other moms and future moms at our weekly support group every Wednesday.  Our lactation team will be available to answer your questions and address your concerns regarding any type of feeding.  We will be sharing our stories and discussing anything and everything motherhood related.
URL:https://pennstatehealthnews.org/event/mothers-circle-2/2027-05-12/
LOCATION:Penn State Health Hampden Medical Center\, 2200 Good Hope Rd\, Enola\, PA\, 17025\, United States
CATEGORIES:Community,Wellness
END:VEVENT
BEGIN:VEVENT
DTSTART;TZID=America/New_York:20270519T110000
DTEND;TZID=America/New_York:20270519T120000
DTSTAMP:20260423T082543
CREATED:20241126T201804Z
LAST-MODIFIED:20250529T114610Z
UID:10005457-1810724400-1810728000@pennstatehealthnews.org
SUMMARY:Mothers Circle
DESCRIPTION:All are welcome!  Share your journey and connect with other moms and future moms at our weekly support group every Wednesday.  Our lactation team will be available to answer your questions and address your concerns regarding any type of feeding.  We will be sharing our stories and discussing anything and everything motherhood related.
URL:https://pennstatehealthnews.org/event/mothers-circle-2/2027-05-19/
LOCATION:Penn State Health Hampden Medical Center\, 2200 Good Hope Rd\, Enola\, PA\, 17025\, United States
CATEGORIES:Community,Wellness
END:VEVENT
BEGIN:VEVENT
DTSTART;TZID=America/New_York:20270526T110000
DTEND;TZID=America/New_York:20270526T120000
DTSTAMP:20260423T082543
CREATED:20241126T201804Z
LAST-MODIFIED:20250529T114610Z
UID:10005458-1811329200-1811332800@pennstatehealthnews.org
SUMMARY:Mothers Circle
DESCRIPTION:All are welcome!  Share your journey and connect with other moms and future moms at our weekly support group every Wednesday.  Our lactation team will be available to answer your questions and address your concerns regarding any type of feeding.  We will be sharing our stories and discussing anything and everything motherhood related.
URL:https://pennstatehealthnews.org/event/mothers-circle-2/2027-05-26/
LOCATION:Penn State Health Hampden Medical Center\, 2200 Good Hope Rd\, Enola\, PA\, 17025\, United States
CATEGORIES:Community,Wellness
END:VEVENT
BEGIN:VEVENT
DTSTART;TZID=America/New_York:20270602T110000
DTEND;TZID=America/New_York:20270602T120000
DTSTAMP:20260423T082543
CREATED:20241126T201804Z
LAST-MODIFIED:20250529T114610Z
UID:10005459-1811934000-1811937600@pennstatehealthnews.org
SUMMARY:Mothers Circle
DESCRIPTION:All are welcome!  Share your journey and connect with other moms and future moms at our weekly support group every Wednesday.  Our lactation team will be available to answer your questions and address your concerns regarding any type of feeding.  We will be sharing our stories and discussing anything and everything motherhood related.
URL:https://pennstatehealthnews.org/event/mothers-circle-2/2027-06-02/
LOCATION:Penn State Health Hampden Medical Center\, 2200 Good Hope Rd\, Enola\, PA\, 17025\, United States
CATEGORIES:Community,Wellness
END:VEVENT
BEGIN:VEVENT
DTSTART;TZID=America/New_York:20270609T110000
DTEND;TZID=America/New_York:20270609T120000
DTSTAMP:20260423T082544
CREATED:20241126T201804Z
LAST-MODIFIED:20250529T114610Z
UID:10005460-1812538800-1812542400@pennstatehealthnews.org
SUMMARY:Mothers Circle
DESCRIPTION:All are welcome!  Share your journey and connect with other moms and future moms at our weekly support group every Wednesday.  Our lactation team will be available to answer your questions and address your concerns regarding any type of feeding.  We will be sharing our stories and discussing anything and everything motherhood related.
URL:https://pennstatehealthnews.org/event/mothers-circle-2/2027-06-09/
LOCATION:Penn State Health Hampden Medical Center\, 2200 Good Hope Rd\, Enola\, PA\, 17025\, United States
CATEGORIES:Community,Wellness
END:VEVENT
BEGIN:VEVENT
DTSTART;TZID=America/New_York:20270616T110000
DTEND;TZID=America/New_York:20270616T120000
DTSTAMP:20260423T082544
CREATED:20241126T201804Z
LAST-MODIFIED:20250529T114610Z
UID:10005461-1813143600-1813147200@pennstatehealthnews.org
SUMMARY:Mothers Circle
DESCRIPTION:All are welcome!  Share your journey and connect with other moms and future moms at our weekly support group every Wednesday.  Our lactation team will be available to answer your questions and address your concerns regarding any type of feeding.  We will be sharing our stories and discussing anything and everything motherhood related.
URL:https://pennstatehealthnews.org/event/mothers-circle-2/2027-06-16/
LOCATION:Penn State Health Hampden Medical Center\, 2200 Good Hope Rd\, Enola\, PA\, 17025\, United States
CATEGORIES:Community,Wellness
END:VEVENT
BEGIN:VEVENT
DTSTART;TZID=America/New_York:20270623T110000
DTEND;TZID=America/New_York:20270623T120000
DTSTAMP:20260423T082544
CREATED:20241126T201804Z
LAST-MODIFIED:20250529T114610Z
UID:10005462-1813748400-1813752000@pennstatehealthnews.org
SUMMARY:Mothers Circle
DESCRIPTION:All are welcome!  Share your journey and connect with other moms and future moms at our weekly support group every Wednesday.  Our lactation team will be available to answer your questions and address your concerns regarding any type of feeding.  We will be sharing our stories and discussing anything and everything motherhood related.
URL:https://pennstatehealthnews.org/event/mothers-circle-2/2027-06-23/
LOCATION:Penn State Health Hampden Medical Center\, 2200 Good Hope Rd\, Enola\, PA\, 17025\, United States
CATEGORIES:Community,Wellness
END:VEVENT
BEGIN:VEVENT
DTSTART;TZID=America/New_York:20270630T110000
DTEND;TZID=America/New_York:20270630T120000
DTSTAMP:20260423T082544
CREATED:20241126T201804Z
LAST-MODIFIED:20250529T114610Z
UID:10005463-1814353200-1814356800@pennstatehealthnews.org
SUMMARY:Mothers Circle
DESCRIPTION:All are welcome!  Share your journey and connect with other moms and future moms at our weekly support group every Wednesday.  Our lactation team will be available to answer your questions and address your concerns regarding any type of feeding.  We will be sharing our stories and discussing anything and everything motherhood related.
URL:https://pennstatehealthnews.org/event/mothers-circle-2/2027-06-30/
LOCATION:Penn State Health Hampden Medical Center\, 2200 Good Hope Rd\, Enola\, PA\, 17025\, United States
CATEGORIES:Community,Wellness
END:VEVENT
BEGIN:VEVENT
DTSTART;TZID=America/New_York:20270707T110000
DTEND;TZID=America/New_York:20270707T120000
DTSTAMP:20260423T082544
CREATED:20241126T201804Z
LAST-MODIFIED:20250529T114610Z
UID:10005464-1814958000-1814961600@pennstatehealthnews.org
SUMMARY:Mothers Circle
DESCRIPTION:All are welcome!  Share your journey and connect with other moms and future moms at our weekly support group every Wednesday.  Our lactation team will be available to answer your questions and address your concerns regarding any type of feeding.  We will be sharing our stories and discussing anything and everything motherhood related.
URL:https://pennstatehealthnews.org/event/mothers-circle-2/2027-07-07/
LOCATION:Penn State Health Hampden Medical Center\, 2200 Good Hope Rd\, Enola\, PA\, 17025\, United States
CATEGORIES:Community,Wellness
END:VEVENT
BEGIN:VEVENT
DTSTART;TZID=America/New_York:20270714T110000
DTEND;TZID=America/New_York:20270714T120000
DTSTAMP:20260423T082544
CREATED:20241126T201804Z
LAST-MODIFIED:20250529T114610Z
UID:10005465-1815562800-1815566400@pennstatehealthnews.org
SUMMARY:Mothers Circle
DESCRIPTION:All are welcome!  Share your journey and connect with other moms and future moms at our weekly support group every Wednesday.  Our lactation team will be available to answer your questions and address your concerns regarding any type of feeding.  We will be sharing our stories and discussing anything and everything motherhood related.
URL:https://pennstatehealthnews.org/event/mothers-circle-2/2027-07-14/
LOCATION:Penn State Health Hampden Medical Center\, 2200 Good Hope Rd\, Enola\, PA\, 17025\, United States
CATEGORIES:Community,Wellness
END:VEVENT
BEGIN:VEVENT
DTSTART;TZID=America/New_York:20270721T110000
DTEND;TZID=America/New_York:20270721T120000
DTSTAMP:20260423T082544
CREATED:20241126T201804Z
LAST-MODIFIED:20250529T114610Z
UID:10005466-1816167600-1816171200@pennstatehealthnews.org
SUMMARY:Mothers Circle
DESCRIPTION:All are welcome!  Share your journey and connect with other moms and future moms at our weekly support group every Wednesday.  Our lactation team will be available to answer your questions and address your concerns regarding any type of feeding.  We will be sharing our stories and discussing anything and everything motherhood related.
URL:https://pennstatehealthnews.org/event/mothers-circle-2/2027-07-21/
LOCATION:Penn State Health Hampden Medical Center\, 2200 Good Hope Rd\, Enola\, PA\, 17025\, United States
CATEGORIES:Community,Wellness
END:VEVENT
BEGIN:VEVENT
DTSTART;TZID=America/New_York:20270728T110000
DTEND;TZID=America/New_York:20270728T120000
DTSTAMP:20260423T082544
CREATED:20241126T201804Z
LAST-MODIFIED:20250529T114610Z
UID:10005467-1816772400-1816776000@pennstatehealthnews.org
SUMMARY:Mothers Circle
DESCRIPTION:All are welcome!  Share your journey and connect with other moms and future moms at our weekly support group every Wednesday.  Our lactation team will be available to answer your questions and address your concerns regarding any type of feeding.  We will be sharing our stories and discussing anything and everything motherhood related.
URL:https://pennstatehealthnews.org/event/mothers-circle-2/2027-07-28/
LOCATION:Penn State Health Hampden Medical Center\, 2200 Good Hope Rd\, Enola\, PA\, 17025\, United States
CATEGORIES:Community,Wellness
END:VEVENT
BEGIN:VEVENT
DTSTART;TZID=America/New_York:20270804T110000
DTEND;TZID=America/New_York:20270804T120000
DTSTAMP:20260423T082544
CREATED:20241126T201804Z
LAST-MODIFIED:20250529T114610Z
UID:10005468-1817377200-1817380800@pennstatehealthnews.org
SUMMARY:Mothers Circle
DESCRIPTION:All are welcome!  Share your journey and connect with other moms and future moms at our weekly support group every Wednesday.  Our lactation team will be available to answer your questions and address your concerns regarding any type of feeding.  We will be sharing our stories and discussing anything and everything motherhood related.
URL:https://pennstatehealthnews.org/event/mothers-circle-2/2027-08-04/
LOCATION:Penn State Health Hampden Medical Center\, 2200 Good Hope Rd\, Enola\, PA\, 17025\, United States
CATEGORIES:Community,Wellness
END:VEVENT
BEGIN:VEVENT
DTSTART;TZID=America/New_York:20270811T110000
DTEND;TZID=America/New_York:20270811T120000
DTSTAMP:20260423T082544
CREATED:20241126T201804Z
LAST-MODIFIED:20250529T114610Z
UID:10005469-1817982000-1817985600@pennstatehealthnews.org
SUMMARY:Mothers Circle
DESCRIPTION:All are welcome!  Share your journey and connect with other moms and future moms at our weekly support group every Wednesday.  Our lactation team will be available to answer your questions and address your concerns regarding any type of feeding.  We will be sharing our stories and discussing anything and everything motherhood related.
URL:https://pennstatehealthnews.org/event/mothers-circle-2/2027-08-11/
LOCATION:Penn State Health Hampden Medical Center\, 2200 Good Hope Rd\, Enola\, PA\, 17025\, United States
CATEGORIES:Community,Wellness
END:VEVENT
BEGIN:VEVENT
DTSTART;TZID=America/New_York:20270818T110000
DTEND;TZID=America/New_York:20270818T120000
DTSTAMP:20260423T082544
CREATED:20241126T201804Z
LAST-MODIFIED:20250529T114610Z
UID:10005470-1818586800-1818590400@pennstatehealthnews.org
SUMMARY:Mothers Circle
DESCRIPTION:All are welcome!  Share your journey and connect with other moms and future moms at our weekly support group every Wednesday.  Our lactation team will be available to answer your questions and address your concerns regarding any type of feeding.  We will be sharing our stories and discussing anything and everything motherhood related.
URL:https://pennstatehealthnews.org/event/mothers-circle-2/2027-08-18/
LOCATION:Penn State Health Hampden Medical Center\, 2200 Good Hope Rd\, Enola\, PA\, 17025\, United States
CATEGORIES:Community,Wellness
END:VEVENT
BEGIN:VEVENT
DTSTART;TZID=America/New_York:20270825T110000
DTEND;TZID=America/New_York:20270825T120000
DTSTAMP:20260423T082544
CREATED:20241126T201804Z
LAST-MODIFIED:20250529T114610Z
UID:10005471-1819191600-1819195200@pennstatehealthnews.org
SUMMARY:Mothers Circle
DESCRIPTION:All are welcome!  Share your journey and connect with other moms and future moms at our weekly support group every Wednesday.  Our lactation team will be available to answer your questions and address your concerns regarding any type of feeding.  We will be sharing our stories and discussing anything and everything motherhood related.
URL:https://pennstatehealthnews.org/event/mothers-circle-2/2027-08-25/
LOCATION:Penn State Health Hampden Medical Center\, 2200 Good Hope Rd\, Enola\, PA\, 17025\, United States
CATEGORIES:Community,Wellness
END:VEVENT
BEGIN:VEVENT
DTSTART;TZID=America/New_York:20270901T110000
DTEND;TZID=America/New_York:20270901T120000
DTSTAMP:20260423T082544
CREATED:20241126T201804Z
LAST-MODIFIED:20250529T114610Z
UID:10005472-1819796400-1819800000@pennstatehealthnews.org
SUMMARY:Mothers Circle
DESCRIPTION:All are welcome!  Share your journey and connect with other moms and future moms at our weekly support group every Wednesday.  Our lactation team will be available to answer your questions and address your concerns regarding any type of feeding.  We will be sharing our stories and discussing anything and everything motherhood related.
URL:https://pennstatehealthnews.org/event/mothers-circle-2/2027-09-01/
LOCATION:Penn State Health Hampden Medical Center\, 2200 Good Hope Rd\, Enola\, PA\, 17025\, United States
CATEGORIES:Community,Wellness
END:VEVENT
BEGIN:VEVENT
DTSTART;TZID=America/New_York:20270908T110000
DTEND;TZID=America/New_York:20270908T120000
DTSTAMP:20260423T082544
CREATED:20241126T201804Z
LAST-MODIFIED:20250529T114610Z
UID:10005473-1820401200-1820404800@pennstatehealthnews.org
SUMMARY:Mothers Circle
DESCRIPTION:All are welcome!  Share your journey and connect with other moms and future moms at our weekly support group every Wednesday.  Our lactation team will be available to answer your questions and address your concerns regarding any type of feeding.  We will be sharing our stories and discussing anything and everything motherhood related.
URL:https://pennstatehealthnews.org/event/mothers-circle-2/2027-09-08/
LOCATION:Penn State Health Hampden Medical Center\, 2200 Good Hope Rd\, Enola\, PA\, 17025\, United States
CATEGORIES:Community,Wellness
END:VEVENT
BEGIN:VEVENT
DTSTART;TZID=America/New_York:20270915T110000
DTEND;TZID=America/New_York:20270915T120000
DTSTAMP:20260423T082544
CREATED:20241126T201804Z
LAST-MODIFIED:20250529T114610Z
UID:10005474-1821006000-1821009600@pennstatehealthnews.org
SUMMARY:Mothers Circle
DESCRIPTION:All are welcome!  Share your journey and connect with other moms and future moms at our weekly support group every Wednesday.  Our lactation team will be available to answer your questions and address your concerns regarding any type of feeding.  We will be sharing our stories and discussing anything and everything motherhood related.
URL:https://pennstatehealthnews.org/event/mothers-circle-2/2027-09-15/
LOCATION:Penn State Health Hampden Medical Center\, 2200 Good Hope Rd\, Enola\, PA\, 17025\, United States
CATEGORIES:Community,Wellness
END:VEVENT
BEGIN:VEVENT
DTSTART;TZID=America/New_York:20270922T110000
DTEND;TZID=America/New_York:20270922T120000
DTSTAMP:20260423T082544
CREATED:20241126T201804Z
LAST-MODIFIED:20250529T114610Z
UID:10005475-1821610800-1821614400@pennstatehealthnews.org
SUMMARY:Mothers Circle
DESCRIPTION:All are welcome!  Share your journey and connect with other moms and future moms at our weekly support group every Wednesday.  Our lactation team will be available to answer your questions and address your concerns regarding any type of feeding.  We will be sharing our stories and discussing anything and everything motherhood related.
URL:https://pennstatehealthnews.org/event/mothers-circle-2/2027-09-22/
LOCATION:Penn State Health Hampden Medical Center\, 2200 Good Hope Rd\, Enola\, PA\, 17025\, United States
CATEGORIES:Community,Wellness
END:VEVENT
BEGIN:VEVENT
DTSTART;TZID=America/New_York:20270929T110000
DTEND;TZID=America/New_York:20270929T120000
DTSTAMP:20260423T082544
CREATED:20241126T201804Z
LAST-MODIFIED:20250529T114610Z
UID:10005476-1822215600-1822219200@pennstatehealthnews.org
SUMMARY:Mothers Circle
DESCRIPTION:All are welcome!  Share your journey and connect with other moms and future moms at our weekly support group every Wednesday.  Our lactation team will be available to answer your questions and address your concerns regarding any type of feeding.  We will be sharing our stories and discussing anything and everything motherhood related.
URL:https://pennstatehealthnews.org/event/mothers-circle-2/2027-09-29/
LOCATION:Penn State Health Hampden Medical Center\, 2200 Good Hope Rd\, Enola\, PA\, 17025\, United States
CATEGORIES:Community,Wellness
END:VEVENT
BEGIN:VEVENT
DTSTART;TZID=America/New_York:20271006T110000
DTEND;TZID=America/New_York:20271006T120000
DTSTAMP:20260423T082544
CREATED:20241126T201804Z
LAST-MODIFIED:20250529T114610Z
UID:10005477-1822820400-1822824000@pennstatehealthnews.org
SUMMARY:Mothers Circle
DESCRIPTION:All are welcome!  Share your journey and connect with other moms and future moms at our weekly support group every Wednesday.  Our lactation team will be available to answer your questions and address your concerns regarding any type of feeding.  We will be sharing our stories and discussing anything and everything motherhood related.
URL:https://pennstatehealthnews.org/event/mothers-circle-2/2027-10-06/
LOCATION:Penn State Health Hampden Medical Center\, 2200 Good Hope Rd\, Enola\, PA\, 17025\, United States
CATEGORIES:Community,Wellness
END:VEVENT
BEGIN:VEVENT
DTSTART;TZID=America/New_York:20271013T110000
DTEND;TZID=America/New_York:20271013T120000
DTSTAMP:20260423T082544
CREATED:20241126T201804Z
LAST-MODIFIED:20250529T114610Z
UID:10005478-1823425200-1823428800@pennstatehealthnews.org
SUMMARY:Mothers Circle
DESCRIPTION:All are welcome!  Share your journey and connect with other moms and future moms at our weekly support group every Wednesday.  Our lactation team will be available to answer your questions and address your concerns regarding any type of feeding.  We will be sharing our stories and discussing anything and everything motherhood related.
URL:https://pennstatehealthnews.org/event/mothers-circle-2/2027-10-13/
LOCATION:Penn State Health Hampden Medical Center\, 2200 Good Hope Rd\, Enola\, PA\, 17025\, United States
CATEGORIES:Community,Wellness
END:VEVENT
BEGIN:VEVENT
DTSTART;TZID=America/New_York:20271020T110000
DTEND;TZID=America/New_York:20271020T120000
DTSTAMP:20260423T082544
CREATED:20241126T201804Z
LAST-MODIFIED:20250529T114610Z
UID:10005479-1824030000-1824033600@pennstatehealthnews.org
SUMMARY:Mothers Circle
DESCRIPTION:All are welcome!  Share your journey and connect with other moms and future moms at our weekly support group every Wednesday.  Our lactation team will be available to answer your questions and address your concerns regarding any type of feeding.  We will be sharing our stories and discussing anything and everything motherhood related.
URL:https://pennstatehealthnews.org/event/mothers-circle-2/2027-10-20/
LOCATION:Penn State Health Hampden Medical Center\, 2200 Good Hope Rd\, Enola\, PA\, 17025\, United States
CATEGORIES:Community,Wellness
END:VEVENT
END:VCALENDAR