BEGIN:VCALENDAR
VERSION:2.0
PRODID:-//Penn State Health News - ECPv6.15.20//NONSGML v1.0//EN
CALSCALE:GREGORIAN
METHOD:PUBLISH
X-ORIGINAL-URL:https://pennstatehealthnews.org
X-WR-CALDESC:Events for Penn State Health News
REFRESH-INTERVAL;VALUE=DURATION:PT1H
X-Robots-Tag:noindex
X-PUBLISHED-TTL:PT1H
BEGIN:VTIMEZONE
TZID:America/New_York
BEGIN:DAYLIGHT
TZOFFSETFROM:-0500
TZOFFSETTO:-0400
TZNAME:EDT
DTSTART:20270314T070000
END:DAYLIGHT
BEGIN:STANDARD
TZOFFSETFROM:-0400
TZOFFSETTO:-0500
TZNAME:EST
DTSTART:20271107T060000
END:STANDARD
BEGIN:DAYLIGHT
TZOFFSETFROM:-0500
TZOFFSETTO:-0400
TZNAME:EDT
DTSTART:20280312T070000
END:DAYLIGHT
BEGIN:STANDARD
TZOFFSETFROM:-0400
TZOFFSETTO:-0500
TZNAME:EST
DTSTART:20281105T060000
END:STANDARD
BEGIN:DAYLIGHT
TZOFFSETFROM:-0500
TZOFFSETTO:-0400
TZNAME:EDT
DTSTART:20290311T070000
END:DAYLIGHT
BEGIN:STANDARD
TZOFFSETFROM:-0400
TZOFFSETTO:-0500
TZNAME:EST
DTSTART:20291104T060000
END:STANDARD
END:VTIMEZONE
BEGIN:VEVENT
DTSTART;TZID=America/New_York:20280315T110000
DTEND;TZID=America/New_York:20280315T120000
DTSTAMP:20260423T135810
CREATED:20241126T201804Z
LAST-MODIFIED:20250529T114610Z
UID:10005500-1836730800-1836734400@pennstatehealthnews.org
SUMMARY:Mothers Circle
DESCRIPTION:All are welcome!  Share your journey and connect with other moms and future moms at our weekly support group every Wednesday.  Our lactation team will be available to answer your questions and address your concerns regarding any type of feeding.  We will be sharing our stories and discussing anything and everything motherhood related.
URL:https://pennstatehealthnews.org/event/mothers-circle-2/2028-03-15/
LOCATION:Penn State Health Hampden Medical Center\, 2200 Good Hope Rd\, Enola\, PA\, 17025\, United States
CATEGORIES:Community,Wellness
END:VEVENT
BEGIN:VEVENT
DTSTART;TZID=America/New_York:20280322T110000
DTEND;TZID=America/New_York:20280322T120000
DTSTAMP:20260423T135810
CREATED:20241126T201804Z
LAST-MODIFIED:20250529T114610Z
UID:10005501-1837335600-1837339200@pennstatehealthnews.org
SUMMARY:Mothers Circle
DESCRIPTION:All are welcome!  Share your journey and connect with other moms and future moms at our weekly support group every Wednesday.  Our lactation team will be available to answer your questions and address your concerns regarding any type of feeding.  We will be sharing our stories and discussing anything and everything motherhood related.
URL:https://pennstatehealthnews.org/event/mothers-circle-2/2028-03-22/
LOCATION:Penn State Health Hampden Medical Center\, 2200 Good Hope Rd\, Enola\, PA\, 17025\, United States
CATEGORIES:Community,Wellness
END:VEVENT
BEGIN:VEVENT
DTSTART;TZID=America/New_York:20280329T110000
DTEND;TZID=America/New_York:20280329T120000
DTSTAMP:20260423T135810
CREATED:20241126T201804Z
LAST-MODIFIED:20250529T114610Z
UID:10005502-1837940400-1837944000@pennstatehealthnews.org
SUMMARY:Mothers Circle
DESCRIPTION:All are welcome!  Share your journey and connect with other moms and future moms at our weekly support group every Wednesday.  Our lactation team will be available to answer your questions and address your concerns regarding any type of feeding.  We will be sharing our stories and discussing anything and everything motherhood related.
URL:https://pennstatehealthnews.org/event/mothers-circle-2/2028-03-29/
LOCATION:Penn State Health Hampden Medical Center\, 2200 Good Hope Rd\, Enola\, PA\, 17025\, United States
CATEGORIES:Community,Wellness
END:VEVENT
BEGIN:VEVENT
DTSTART;TZID=America/New_York:20280405T110000
DTEND;TZID=America/New_York:20280405T120000
DTSTAMP:20260423T135810
CREATED:20241126T201804Z
LAST-MODIFIED:20250529T114610Z
UID:10005503-1838545200-1838548800@pennstatehealthnews.org
SUMMARY:Mothers Circle
DESCRIPTION:All are welcome!  Share your journey and connect with other moms and future moms at our weekly support group every Wednesday.  Our lactation team will be available to answer your questions and address your concerns regarding any type of feeding.  We will be sharing our stories and discussing anything and everything motherhood related.
URL:https://pennstatehealthnews.org/event/mothers-circle-2/2028-04-05/
LOCATION:Penn State Health Hampden Medical Center\, 2200 Good Hope Rd\, Enola\, PA\, 17025\, United States
CATEGORIES:Community,Wellness
END:VEVENT
BEGIN:VEVENT
DTSTART;TZID=America/New_York:20280412T110000
DTEND;TZID=America/New_York:20280412T120000
DTSTAMP:20260423T135810
CREATED:20241126T201804Z
LAST-MODIFIED:20250529T114610Z
UID:10005504-1839150000-1839153600@pennstatehealthnews.org
SUMMARY:Mothers Circle
DESCRIPTION:All are welcome!  Share your journey and connect with other moms and future moms at our weekly support group every Wednesday.  Our lactation team will be available to answer your questions and address your concerns regarding any type of feeding.  We will be sharing our stories and discussing anything and everything motherhood related.
URL:https://pennstatehealthnews.org/event/mothers-circle-2/2028-04-12/
LOCATION:Penn State Health Hampden Medical Center\, 2200 Good Hope Rd\, Enola\, PA\, 17025\, United States
CATEGORIES:Community,Wellness
END:VEVENT
BEGIN:VEVENT
DTSTART;TZID=America/New_York:20280419T110000
DTEND;TZID=America/New_York:20280419T120000
DTSTAMP:20260423T135810
CREATED:20241126T201804Z
LAST-MODIFIED:20250529T114610Z
UID:10005505-1839754800-1839758400@pennstatehealthnews.org
SUMMARY:Mothers Circle
DESCRIPTION:All are welcome!  Share your journey and connect with other moms and future moms at our weekly support group every Wednesday.  Our lactation team will be available to answer your questions and address your concerns regarding any type of feeding.  We will be sharing our stories and discussing anything and everything motherhood related.
URL:https://pennstatehealthnews.org/event/mothers-circle-2/2028-04-19/
LOCATION:Penn State Health Hampden Medical Center\, 2200 Good Hope Rd\, Enola\, PA\, 17025\, United States
CATEGORIES:Community,Wellness
END:VEVENT
BEGIN:VEVENT
DTSTART;TZID=America/New_York:20280426T110000
DTEND;TZID=America/New_York:20280426T120000
DTSTAMP:20260423T135810
CREATED:20241126T201804Z
LAST-MODIFIED:20250529T114610Z
UID:10005506-1840359600-1840363200@pennstatehealthnews.org
SUMMARY:Mothers Circle
DESCRIPTION:All are welcome!  Share your journey and connect with other moms and future moms at our weekly support group every Wednesday.  Our lactation team will be available to answer your questions and address your concerns regarding any type of feeding.  We will be sharing our stories and discussing anything and everything motherhood related.
URL:https://pennstatehealthnews.org/event/mothers-circle-2/2028-04-26/
LOCATION:Penn State Health Hampden Medical Center\, 2200 Good Hope Rd\, Enola\, PA\, 17025\, United States
CATEGORIES:Community,Wellness
END:VEVENT
BEGIN:VEVENT
DTSTART;TZID=America/New_York:20280503T110000
DTEND;TZID=America/New_York:20280503T120000
DTSTAMP:20260423T135810
CREATED:20241126T201804Z
LAST-MODIFIED:20250529T114610Z
UID:10005507-1840964400-1840968000@pennstatehealthnews.org
SUMMARY:Mothers Circle
DESCRIPTION:All are welcome!  Share your journey and connect with other moms and future moms at our weekly support group every Wednesday.  Our lactation team will be available to answer your questions and address your concerns regarding any type of feeding.  We will be sharing our stories and discussing anything and everything motherhood related.
URL:https://pennstatehealthnews.org/event/mothers-circle-2/2028-05-03/
LOCATION:Penn State Health Hampden Medical Center\, 2200 Good Hope Rd\, Enola\, PA\, 17025\, United States
CATEGORIES:Community,Wellness
END:VEVENT
BEGIN:VEVENT
DTSTART;TZID=America/New_York:20280510T110000
DTEND;TZID=America/New_York:20280510T120000
DTSTAMP:20260423T135810
CREATED:20241126T201804Z
LAST-MODIFIED:20250529T114610Z
UID:10005508-1841569200-1841572800@pennstatehealthnews.org
SUMMARY:Mothers Circle
DESCRIPTION:All are welcome!  Share your journey and connect with other moms and future moms at our weekly support group every Wednesday.  Our lactation team will be available to answer your questions and address your concerns regarding any type of feeding.  We will be sharing our stories and discussing anything and everything motherhood related.
URL:https://pennstatehealthnews.org/event/mothers-circle-2/2028-05-10/
LOCATION:Penn State Health Hampden Medical Center\, 2200 Good Hope Rd\, Enola\, PA\, 17025\, United States
CATEGORIES:Community,Wellness
END:VEVENT
BEGIN:VEVENT
DTSTART;TZID=America/New_York:20280517T110000
DTEND;TZID=America/New_York:20280517T120000
DTSTAMP:20260423T135810
CREATED:20241126T201804Z
LAST-MODIFIED:20250529T114610Z
UID:10005509-1842174000-1842177600@pennstatehealthnews.org
SUMMARY:Mothers Circle
DESCRIPTION:All are welcome!  Share your journey and connect with other moms and future moms at our weekly support group every Wednesday.  Our lactation team will be available to answer your questions and address your concerns regarding any type of feeding.  We will be sharing our stories and discussing anything and everything motherhood related.
URL:https://pennstatehealthnews.org/event/mothers-circle-2/2028-05-17/
LOCATION:Penn State Health Hampden Medical Center\, 2200 Good Hope Rd\, Enola\, PA\, 17025\, United States
CATEGORIES:Community,Wellness
END:VEVENT
BEGIN:VEVENT
DTSTART;TZID=America/New_York:20280524T110000
DTEND;TZID=America/New_York:20280524T120000
DTSTAMP:20260423T135810
CREATED:20241126T201804Z
LAST-MODIFIED:20250529T114610Z
UID:10005510-1842778800-1842782400@pennstatehealthnews.org
SUMMARY:Mothers Circle
DESCRIPTION:All are welcome!  Share your journey and connect with other moms and future moms at our weekly support group every Wednesday.  Our lactation team will be available to answer your questions and address your concerns regarding any type of feeding.  We will be sharing our stories and discussing anything and everything motherhood related.
URL:https://pennstatehealthnews.org/event/mothers-circle-2/2028-05-24/
LOCATION:Penn State Health Hampden Medical Center\, 2200 Good Hope Rd\, Enola\, PA\, 17025\, United States
CATEGORIES:Community,Wellness
END:VEVENT
BEGIN:VEVENT
DTSTART;TZID=America/New_York:20280531T110000
DTEND;TZID=America/New_York:20280531T120000
DTSTAMP:20260423T135810
CREATED:20241126T201804Z
LAST-MODIFIED:20250529T114610Z
UID:10005511-1843383600-1843387200@pennstatehealthnews.org
SUMMARY:Mothers Circle
DESCRIPTION:All are welcome!  Share your journey and connect with other moms and future moms at our weekly support group every Wednesday.  Our lactation team will be available to answer your questions and address your concerns regarding any type of feeding.  We will be sharing our stories and discussing anything and everything motherhood related.
URL:https://pennstatehealthnews.org/event/mothers-circle-2/2028-05-31/
LOCATION:Penn State Health Hampden Medical Center\, 2200 Good Hope Rd\, Enola\, PA\, 17025\, United States
CATEGORIES:Community,Wellness
END:VEVENT
BEGIN:VEVENT
DTSTART;TZID=America/New_York:20280607T110000
DTEND;TZID=America/New_York:20280607T120000
DTSTAMP:20260423T135810
CREATED:20241126T201804Z
LAST-MODIFIED:20250529T114610Z
UID:10005512-1843988400-1843992000@pennstatehealthnews.org
SUMMARY:Mothers Circle
DESCRIPTION:All are welcome!  Share your journey and connect with other moms and future moms at our weekly support group every Wednesday.  Our lactation team will be available to answer your questions and address your concerns regarding any type of feeding.  We will be sharing our stories and discussing anything and everything motherhood related.
URL:https://pennstatehealthnews.org/event/mothers-circle-2/2028-06-07/
LOCATION:Penn State Health Hampden Medical Center\, 2200 Good Hope Rd\, Enola\, PA\, 17025\, United States
CATEGORIES:Community,Wellness
END:VEVENT
BEGIN:VEVENT
DTSTART;TZID=America/New_York:20280614T110000
DTEND;TZID=America/New_York:20280614T120000
DTSTAMP:20260423T135810
CREATED:20241126T201804Z
LAST-MODIFIED:20250529T114610Z
UID:10005513-1844593200-1844596800@pennstatehealthnews.org
SUMMARY:Mothers Circle
DESCRIPTION:All are welcome!  Share your journey and connect with other moms and future moms at our weekly support group every Wednesday.  Our lactation team will be available to answer your questions and address your concerns regarding any type of feeding.  We will be sharing our stories and discussing anything and everything motherhood related.
URL:https://pennstatehealthnews.org/event/mothers-circle-2/2028-06-14/
LOCATION:Penn State Health Hampden Medical Center\, 2200 Good Hope Rd\, Enola\, PA\, 17025\, United States
CATEGORIES:Community,Wellness
END:VEVENT
BEGIN:VEVENT
DTSTART;TZID=America/New_York:20280621T110000
DTEND;TZID=America/New_York:20280621T120000
DTSTAMP:20260423T135810
CREATED:20241126T201804Z
LAST-MODIFIED:20250529T114610Z
UID:10005514-1845198000-1845201600@pennstatehealthnews.org
SUMMARY:Mothers Circle
DESCRIPTION:All are welcome!  Share your journey and connect with other moms and future moms at our weekly support group every Wednesday.  Our lactation team will be available to answer your questions and address your concerns regarding any type of feeding.  We will be sharing our stories and discussing anything and everything motherhood related.
URL:https://pennstatehealthnews.org/event/mothers-circle-2/2028-06-21/
LOCATION:Penn State Health Hampden Medical Center\, 2200 Good Hope Rd\, Enola\, PA\, 17025\, United States
CATEGORIES:Community,Wellness
END:VEVENT
BEGIN:VEVENT
DTSTART;TZID=America/New_York:20280628T110000
DTEND;TZID=America/New_York:20280628T120000
DTSTAMP:20260423T135810
CREATED:20241126T201804Z
LAST-MODIFIED:20250529T114610Z
UID:10005515-1845802800-1845806400@pennstatehealthnews.org
SUMMARY:Mothers Circle
DESCRIPTION:All are welcome!  Share your journey and connect with other moms and future moms at our weekly support group every Wednesday.  Our lactation team will be available to answer your questions and address your concerns regarding any type of feeding.  We will be sharing our stories and discussing anything and everything motherhood related.
URL:https://pennstatehealthnews.org/event/mothers-circle-2/2028-06-28/
LOCATION:Penn State Health Hampden Medical Center\, 2200 Good Hope Rd\, Enola\, PA\, 17025\, United States
CATEGORIES:Community,Wellness
END:VEVENT
BEGIN:VEVENT
DTSTART;TZID=America/New_York:20280705T110000
DTEND;TZID=America/New_York:20280705T120000
DTSTAMP:20260423T135811
CREATED:20241126T201804Z
LAST-MODIFIED:20250529T114610Z
UID:10005516-1846407600-1846411200@pennstatehealthnews.org
SUMMARY:Mothers Circle
DESCRIPTION:All are welcome!  Share your journey and connect with other moms and future moms at our weekly support group every Wednesday.  Our lactation team will be available to answer your questions and address your concerns regarding any type of feeding.  We will be sharing our stories and discussing anything and everything motherhood related.
URL:https://pennstatehealthnews.org/event/mothers-circle-2/2028-07-05/
LOCATION:Penn State Health Hampden Medical Center\, 2200 Good Hope Rd\, Enola\, PA\, 17025\, United States
CATEGORIES:Community,Wellness
END:VEVENT
BEGIN:VEVENT
DTSTART;TZID=America/New_York:20280712T110000
DTEND;TZID=America/New_York:20280712T120000
DTSTAMP:20260423T135811
CREATED:20241126T201804Z
LAST-MODIFIED:20250529T114610Z
UID:10005517-1847012400-1847016000@pennstatehealthnews.org
SUMMARY:Mothers Circle
DESCRIPTION:All are welcome!  Share your journey and connect with other moms and future moms at our weekly support group every Wednesday.  Our lactation team will be available to answer your questions and address your concerns regarding any type of feeding.  We will be sharing our stories and discussing anything and everything motherhood related.
URL:https://pennstatehealthnews.org/event/mothers-circle-2/2028-07-12/
LOCATION:Penn State Health Hampden Medical Center\, 2200 Good Hope Rd\, Enola\, PA\, 17025\, United States
CATEGORIES:Community,Wellness
END:VEVENT
BEGIN:VEVENT
DTSTART;TZID=America/New_York:20280719T110000
DTEND;TZID=America/New_York:20280719T120000
DTSTAMP:20260423T135811
CREATED:20241126T201804Z
LAST-MODIFIED:20250529T114610Z
UID:10005518-1847617200-1847620800@pennstatehealthnews.org
SUMMARY:Mothers Circle
DESCRIPTION:All are welcome!  Share your journey and connect with other moms and future moms at our weekly support group every Wednesday.  Our lactation team will be available to answer your questions and address your concerns regarding any type of feeding.  We will be sharing our stories and discussing anything and everything motherhood related.
URL:https://pennstatehealthnews.org/event/mothers-circle-2/2028-07-19/
LOCATION:Penn State Health Hampden Medical Center\, 2200 Good Hope Rd\, Enola\, PA\, 17025\, United States
CATEGORIES:Community,Wellness
END:VEVENT
BEGIN:VEVENT
DTSTART;TZID=America/New_York:20280726T110000
DTEND;TZID=America/New_York:20280726T120000
DTSTAMP:20260423T135811
CREATED:20241126T201804Z
LAST-MODIFIED:20250529T114610Z
UID:10005519-1848222000-1848225600@pennstatehealthnews.org
SUMMARY:Mothers Circle
DESCRIPTION:All are welcome!  Share your journey and connect with other moms and future moms at our weekly support group every Wednesday.  Our lactation team will be available to answer your questions and address your concerns regarding any type of feeding.  We will be sharing our stories and discussing anything and everything motherhood related.
URL:https://pennstatehealthnews.org/event/mothers-circle-2/2028-07-26/
LOCATION:Penn State Health Hampden Medical Center\, 2200 Good Hope Rd\, Enola\, PA\, 17025\, United States
CATEGORIES:Community,Wellness
END:VEVENT
BEGIN:VEVENT
DTSTART;TZID=America/New_York:20280802T110000
DTEND;TZID=America/New_York:20280802T120000
DTSTAMP:20260423T135811
CREATED:20241126T201804Z
LAST-MODIFIED:20250529T114610Z
UID:10005520-1848826800-1848830400@pennstatehealthnews.org
SUMMARY:Mothers Circle
DESCRIPTION:All are welcome!  Share your journey and connect with other moms and future moms at our weekly support group every Wednesday.  Our lactation team will be available to answer your questions and address your concerns regarding any type of feeding.  We will be sharing our stories and discussing anything and everything motherhood related.
URL:https://pennstatehealthnews.org/event/mothers-circle-2/2028-08-02/
LOCATION:Penn State Health Hampden Medical Center\, 2200 Good Hope Rd\, Enola\, PA\, 17025\, United States
CATEGORIES:Community,Wellness
END:VEVENT
BEGIN:VEVENT
DTSTART;TZID=America/New_York:20280809T110000
DTEND;TZID=America/New_York:20280809T120000
DTSTAMP:20260423T135811
CREATED:20241126T201804Z
LAST-MODIFIED:20250529T114610Z
UID:10005521-1849431600-1849435200@pennstatehealthnews.org
SUMMARY:Mothers Circle
DESCRIPTION:All are welcome!  Share your journey and connect with other moms and future moms at our weekly support group every Wednesday.  Our lactation team will be available to answer your questions and address your concerns regarding any type of feeding.  We will be sharing our stories and discussing anything and everything motherhood related.
URL:https://pennstatehealthnews.org/event/mothers-circle-2/2028-08-09/
LOCATION:Penn State Health Hampden Medical Center\, 2200 Good Hope Rd\, Enola\, PA\, 17025\, United States
CATEGORIES:Community,Wellness
END:VEVENT
BEGIN:VEVENT
DTSTART;TZID=America/New_York:20280816T110000
DTEND;TZID=America/New_York:20280816T120000
DTSTAMP:20260423T135811
CREATED:20241126T201804Z
LAST-MODIFIED:20250529T114610Z
UID:10005522-1850036400-1850040000@pennstatehealthnews.org
SUMMARY:Mothers Circle
DESCRIPTION:All are welcome!  Share your journey and connect with other moms and future moms at our weekly support group every Wednesday.  Our lactation team will be available to answer your questions and address your concerns regarding any type of feeding.  We will be sharing our stories and discussing anything and everything motherhood related.
URL:https://pennstatehealthnews.org/event/mothers-circle-2/2028-08-16/
LOCATION:Penn State Health Hampden Medical Center\, 2200 Good Hope Rd\, Enola\, PA\, 17025\, United States
CATEGORIES:Community,Wellness
END:VEVENT
BEGIN:VEVENT
DTSTART;TZID=America/New_York:20280823T110000
DTEND;TZID=America/New_York:20280823T120000
DTSTAMP:20260423T135811
CREATED:20241126T201804Z
LAST-MODIFIED:20250529T114610Z
UID:10005523-1850641200-1850644800@pennstatehealthnews.org
SUMMARY:Mothers Circle
DESCRIPTION:All are welcome!  Share your journey and connect with other moms and future moms at our weekly support group every Wednesday.  Our lactation team will be available to answer your questions and address your concerns regarding any type of feeding.  We will be sharing our stories and discussing anything and everything motherhood related.
URL:https://pennstatehealthnews.org/event/mothers-circle-2/2028-08-23/
LOCATION:Penn State Health Hampden Medical Center\, 2200 Good Hope Rd\, Enola\, PA\, 17025\, United States
CATEGORIES:Community,Wellness
END:VEVENT
BEGIN:VEVENT
DTSTART;TZID=America/New_York:20280830T110000
DTEND;TZID=America/New_York:20280830T120000
DTSTAMP:20260423T135811
CREATED:20241126T201804Z
LAST-MODIFIED:20250529T114610Z
UID:10005524-1851246000-1851249600@pennstatehealthnews.org
SUMMARY:Mothers Circle
DESCRIPTION:All are welcome!  Share your journey and connect with other moms and future moms at our weekly support group every Wednesday.  Our lactation team will be available to answer your questions and address your concerns regarding any type of feeding.  We will be sharing our stories and discussing anything and everything motherhood related.
URL:https://pennstatehealthnews.org/event/mothers-circle-2/2028-08-30/
LOCATION:Penn State Health Hampden Medical Center\, 2200 Good Hope Rd\, Enola\, PA\, 17025\, United States
CATEGORIES:Community,Wellness
END:VEVENT
BEGIN:VEVENT
DTSTART;TZID=America/New_York:20280906T110000
DTEND;TZID=America/New_York:20280906T120000
DTSTAMP:20260423T135811
CREATED:20241126T201804Z
LAST-MODIFIED:20250529T114610Z
UID:10005525-1851850800-1851854400@pennstatehealthnews.org
SUMMARY:Mothers Circle
DESCRIPTION:All are welcome!  Share your journey and connect with other moms and future moms at our weekly support group every Wednesday.  Our lactation team will be available to answer your questions and address your concerns regarding any type of feeding.  We will be sharing our stories and discussing anything and everything motherhood related.
URL:https://pennstatehealthnews.org/event/mothers-circle-2/2028-09-06/
LOCATION:Penn State Health Hampden Medical Center\, 2200 Good Hope Rd\, Enola\, PA\, 17025\, United States
CATEGORIES:Community,Wellness
END:VEVENT
BEGIN:VEVENT
DTSTART;TZID=America/New_York:20280913T110000
DTEND;TZID=America/New_York:20280913T120000
DTSTAMP:20260423T135811
CREATED:20241126T201804Z
LAST-MODIFIED:20250529T114610Z
UID:10005526-1852455600-1852459200@pennstatehealthnews.org
SUMMARY:Mothers Circle
DESCRIPTION:All are welcome!  Share your journey and connect with other moms and future moms at our weekly support group every Wednesday.  Our lactation team will be available to answer your questions and address your concerns regarding any type of feeding.  We will be sharing our stories and discussing anything and everything motherhood related.
URL:https://pennstatehealthnews.org/event/mothers-circle-2/2028-09-13/
LOCATION:Penn State Health Hampden Medical Center\, 2200 Good Hope Rd\, Enola\, PA\, 17025\, United States
CATEGORIES:Community,Wellness
END:VEVENT
BEGIN:VEVENT
DTSTART;TZID=America/New_York:20280920T110000
DTEND;TZID=America/New_York:20280920T120000
DTSTAMP:20260423T135811
CREATED:20241126T201804Z
LAST-MODIFIED:20250529T114610Z
UID:10005527-1853060400-1853064000@pennstatehealthnews.org
SUMMARY:Mothers Circle
DESCRIPTION:All are welcome!  Share your journey and connect with other moms and future moms at our weekly support group every Wednesday.  Our lactation team will be available to answer your questions and address your concerns regarding any type of feeding.  We will be sharing our stories and discussing anything and everything motherhood related.
URL:https://pennstatehealthnews.org/event/mothers-circle-2/2028-09-20/
LOCATION:Penn State Health Hampden Medical Center\, 2200 Good Hope Rd\, Enola\, PA\, 17025\, United States
CATEGORIES:Community,Wellness
END:VEVENT
BEGIN:VEVENT
DTSTART;TZID=America/New_York:20280927T110000
DTEND;TZID=America/New_York:20280927T120000
DTSTAMP:20260423T135811
CREATED:20241126T201804Z
LAST-MODIFIED:20250529T114610Z
UID:10005528-1853665200-1853668800@pennstatehealthnews.org
SUMMARY:Mothers Circle
DESCRIPTION:All are welcome!  Share your journey and connect with other moms and future moms at our weekly support group every Wednesday.  Our lactation team will be available to answer your questions and address your concerns regarding any type of feeding.  We will be sharing our stories and discussing anything and everything motherhood related.
URL:https://pennstatehealthnews.org/event/mothers-circle-2/2028-09-27/
LOCATION:Penn State Health Hampden Medical Center\, 2200 Good Hope Rd\, Enola\, PA\, 17025\, United States
CATEGORIES:Community,Wellness
END:VEVENT
BEGIN:VEVENT
DTSTART;TZID=America/New_York:20281004T110000
DTEND;TZID=America/New_York:20281004T120000
DTSTAMP:20260423T135811
CREATED:20241126T201804Z
LAST-MODIFIED:20250529T114610Z
UID:10005529-1854270000-1854273600@pennstatehealthnews.org
SUMMARY:Mothers Circle
DESCRIPTION:All are welcome!  Share your journey and connect with other moms and future moms at our weekly support group every Wednesday.  Our lactation team will be available to answer your questions and address your concerns regarding any type of feeding.  We will be sharing our stories and discussing anything and everything motherhood related.
URL:https://pennstatehealthnews.org/event/mothers-circle-2/2028-10-04/
LOCATION:Penn State Health Hampden Medical Center\, 2200 Good Hope Rd\, Enola\, PA\, 17025\, United States
CATEGORIES:Community,Wellness
END:VEVENT
END:VCALENDAR