BEGIN:VCALENDAR
VERSION:2.0
PRODID:-//Penn State Health News - ECPv6.15.20//NONSGML v1.0//EN
CALSCALE:GREGORIAN
METHOD:PUBLISH
X-ORIGINAL-URL:https://pennstatehealthnews.org
X-WR-CALDESC:Events for Penn State Health News
REFRESH-INTERVAL;VALUE=DURATION:PT1H
X-Robots-Tag:noindex
X-PUBLISHED-TTL:PT1H
BEGIN:VTIMEZONE
TZID:America/New_York
BEGIN:DAYLIGHT
TZOFFSETFROM:-0500
TZOFFSETTO:-0400
TZNAME:EDT
DTSTART:20270314T070000
END:DAYLIGHT
BEGIN:STANDARD
TZOFFSETFROM:-0400
TZOFFSETTO:-0500
TZNAME:EST
DTSTART:20271107T060000
END:STANDARD
BEGIN:DAYLIGHT
TZOFFSETFROM:-0500
TZOFFSETTO:-0400
TZNAME:EDT
DTSTART:20280312T070000
END:DAYLIGHT
BEGIN:STANDARD
TZOFFSETFROM:-0400
TZOFFSETTO:-0500
TZNAME:EST
DTSTART:20281105T060000
END:STANDARD
BEGIN:DAYLIGHT
TZOFFSETFROM:-0500
TZOFFSETTO:-0400
TZNAME:EDT
DTSTART:20290311T070000
END:DAYLIGHT
BEGIN:STANDARD
TZOFFSETFROM:-0400
TZOFFSETTO:-0500
TZNAME:EST
DTSTART:20291104T060000
END:STANDARD
BEGIN:DAYLIGHT
TZOFFSETFROM:-0500
TZOFFSETTO:-0400
TZNAME:EDT
DTSTART:20300310T070000
END:DAYLIGHT
BEGIN:STANDARD
TZOFFSETFROM:-0400
TZOFFSETTO:-0500
TZNAME:EST
DTSTART:20301103T060000
END:STANDARD
END:VTIMEZONE
BEGIN:VEVENT
DTSTART;TZID=America/New_York:20280906T110000
DTEND;TZID=America/New_York:20280906T120000
DTSTAMP:20260423T202649
CREATED:20241126T201804Z
LAST-MODIFIED:20250529T114610Z
UID:10005525-1851850800-1851854400@pennstatehealthnews.org
SUMMARY:Mothers Circle
DESCRIPTION:All are welcome!  Share your journey and connect with other moms and future moms at our weekly support group every Wednesday.  Our lactation team will be available to answer your questions and address your concerns regarding any type of feeding.  We will be sharing our stories and discussing anything and everything motherhood related.
URL:https://pennstatehealthnews.org/event/mothers-circle-2/2028-09-06/
LOCATION:Penn State Health Hampden Medical Center\, 2200 Good Hope Rd\, Enola\, PA\, 17025\, United States
CATEGORIES:Community,Wellness
END:VEVENT
BEGIN:VEVENT
DTSTART;TZID=America/New_York:20280913T110000
DTEND;TZID=America/New_York:20280913T120000
DTSTAMP:20260423T202649
CREATED:20241126T201804Z
LAST-MODIFIED:20250529T114610Z
UID:10005526-1852455600-1852459200@pennstatehealthnews.org
SUMMARY:Mothers Circle
DESCRIPTION:All are welcome!  Share your journey and connect with other moms and future moms at our weekly support group every Wednesday.  Our lactation team will be available to answer your questions and address your concerns regarding any type of feeding.  We will be sharing our stories and discussing anything and everything motherhood related.
URL:https://pennstatehealthnews.org/event/mothers-circle-2/2028-09-13/
LOCATION:Penn State Health Hampden Medical Center\, 2200 Good Hope Rd\, Enola\, PA\, 17025\, United States
CATEGORIES:Community,Wellness
END:VEVENT
BEGIN:VEVENT
DTSTART;TZID=America/New_York:20280920T110000
DTEND;TZID=America/New_York:20280920T120000
DTSTAMP:20260423T202649
CREATED:20241126T201804Z
LAST-MODIFIED:20250529T114610Z
UID:10005527-1853060400-1853064000@pennstatehealthnews.org
SUMMARY:Mothers Circle
DESCRIPTION:All are welcome!  Share your journey and connect with other moms and future moms at our weekly support group every Wednesday.  Our lactation team will be available to answer your questions and address your concerns regarding any type of feeding.  We will be sharing our stories and discussing anything and everything motherhood related.
URL:https://pennstatehealthnews.org/event/mothers-circle-2/2028-09-20/
LOCATION:Penn State Health Hampden Medical Center\, 2200 Good Hope Rd\, Enola\, PA\, 17025\, United States
CATEGORIES:Community,Wellness
END:VEVENT
BEGIN:VEVENT
DTSTART;TZID=America/New_York:20280927T110000
DTEND;TZID=America/New_York:20280927T120000
DTSTAMP:20260423T202649
CREATED:20241126T201804Z
LAST-MODIFIED:20250529T114610Z
UID:10005528-1853665200-1853668800@pennstatehealthnews.org
SUMMARY:Mothers Circle
DESCRIPTION:All are welcome!  Share your journey and connect with other moms and future moms at our weekly support group every Wednesday.  Our lactation team will be available to answer your questions and address your concerns regarding any type of feeding.  We will be sharing our stories and discussing anything and everything motherhood related.
URL:https://pennstatehealthnews.org/event/mothers-circle-2/2028-09-27/
LOCATION:Penn State Health Hampden Medical Center\, 2200 Good Hope Rd\, Enola\, PA\, 17025\, United States
CATEGORIES:Community,Wellness
END:VEVENT
BEGIN:VEVENT
DTSTART;TZID=America/New_York:20281004T110000
DTEND;TZID=America/New_York:20281004T120000
DTSTAMP:20260423T202649
CREATED:20241126T201804Z
LAST-MODIFIED:20250529T114610Z
UID:10005529-1854270000-1854273600@pennstatehealthnews.org
SUMMARY:Mothers Circle
DESCRIPTION:All are welcome!  Share your journey and connect with other moms and future moms at our weekly support group every Wednesday.  Our lactation team will be available to answer your questions and address your concerns regarding any type of feeding.  We will be sharing our stories and discussing anything and everything motherhood related.
URL:https://pennstatehealthnews.org/event/mothers-circle-2/2028-10-04/
LOCATION:Penn State Health Hampden Medical Center\, 2200 Good Hope Rd\, Enola\, PA\, 17025\, United States
CATEGORIES:Community,Wellness
END:VEVENT
BEGIN:VEVENT
DTSTART;TZID=America/New_York:20281011T110000
DTEND;TZID=America/New_York:20281011T120000
DTSTAMP:20260423T202649
CREATED:20241126T201804Z
LAST-MODIFIED:20250529T114610Z
UID:10005530-1854874800-1854878400@pennstatehealthnews.org
SUMMARY:Mothers Circle
DESCRIPTION:All are welcome!  Share your journey and connect with other moms and future moms at our weekly support group every Wednesday.  Our lactation team will be available to answer your questions and address your concerns regarding any type of feeding.  We will be sharing our stories and discussing anything and everything motherhood related.
URL:https://pennstatehealthnews.org/event/mothers-circle-2/2028-10-11/
LOCATION:Penn State Health Hampden Medical Center\, 2200 Good Hope Rd\, Enola\, PA\, 17025\, United States
CATEGORIES:Community,Wellness
END:VEVENT
BEGIN:VEVENT
DTSTART;TZID=America/New_York:20281018T110000
DTEND;TZID=America/New_York:20281018T120000
DTSTAMP:20260423T202649
CREATED:20241126T201804Z
LAST-MODIFIED:20250529T114610Z
UID:10005531-1855479600-1855483200@pennstatehealthnews.org
SUMMARY:Mothers Circle
DESCRIPTION:All are welcome!  Share your journey and connect with other moms and future moms at our weekly support group every Wednesday.  Our lactation team will be available to answer your questions and address your concerns regarding any type of feeding.  We will be sharing our stories and discussing anything and everything motherhood related.
URL:https://pennstatehealthnews.org/event/mothers-circle-2/2028-10-18/
LOCATION:Penn State Health Hampden Medical Center\, 2200 Good Hope Rd\, Enola\, PA\, 17025\, United States
CATEGORIES:Community,Wellness
END:VEVENT
BEGIN:VEVENT
DTSTART;TZID=America/New_York:20281025T110000
DTEND;TZID=America/New_York:20281025T120000
DTSTAMP:20260423T202649
CREATED:20241126T201804Z
LAST-MODIFIED:20250529T114610Z
UID:10005532-1856084400-1856088000@pennstatehealthnews.org
SUMMARY:Mothers Circle
DESCRIPTION:All are welcome!  Share your journey and connect with other moms and future moms at our weekly support group every Wednesday.  Our lactation team will be available to answer your questions and address your concerns regarding any type of feeding.  We will be sharing our stories and discussing anything and everything motherhood related.
URL:https://pennstatehealthnews.org/event/mothers-circle-2/2028-10-25/
LOCATION:Penn State Health Hampden Medical Center\, 2200 Good Hope Rd\, Enola\, PA\, 17025\, United States
CATEGORIES:Community,Wellness
END:VEVENT
BEGIN:VEVENT
DTSTART;TZID=America/New_York:20281101T110000
DTEND;TZID=America/New_York:20281101T120000
DTSTAMP:20260423T202649
CREATED:20241126T201804Z
LAST-MODIFIED:20250529T114610Z
UID:10005533-1856689200-1856692800@pennstatehealthnews.org
SUMMARY:Mothers Circle
DESCRIPTION:All are welcome!  Share your journey and connect with other moms and future moms at our weekly support group every Wednesday.  Our lactation team will be available to answer your questions and address your concerns regarding any type of feeding.  We will be sharing our stories and discussing anything and everything motherhood related.
URL:https://pennstatehealthnews.org/event/mothers-circle-2/2028-11-01/
LOCATION:Penn State Health Hampden Medical Center\, 2200 Good Hope Rd\, Enola\, PA\, 17025\, United States
CATEGORIES:Community,Wellness
END:VEVENT
BEGIN:VEVENT
DTSTART;TZID=America/New_York:20281108T110000
DTEND;TZID=America/New_York:20281108T120000
DTSTAMP:20260423T202649
CREATED:20241126T201804Z
LAST-MODIFIED:20250529T114610Z
UID:10005534-1857294000-1857297600@pennstatehealthnews.org
SUMMARY:Mothers Circle
DESCRIPTION:All are welcome!  Share your journey and connect with other moms and future moms at our weekly support group every Wednesday.  Our lactation team will be available to answer your questions and address your concerns regarding any type of feeding.  We will be sharing our stories and discussing anything and everything motherhood related.
URL:https://pennstatehealthnews.org/event/mothers-circle-2/2028-11-08/
LOCATION:Penn State Health Hampden Medical Center\, 2200 Good Hope Rd\, Enola\, PA\, 17025\, United States
CATEGORIES:Community,Wellness
END:VEVENT
BEGIN:VEVENT
DTSTART;TZID=America/New_York:20281115T110000
DTEND;TZID=America/New_York:20281115T120000
DTSTAMP:20260423T202649
CREATED:20241126T201804Z
LAST-MODIFIED:20250529T114610Z
UID:10005535-1857898800-1857902400@pennstatehealthnews.org
SUMMARY:Mothers Circle
DESCRIPTION:All are welcome!  Share your journey and connect with other moms and future moms at our weekly support group every Wednesday.  Our lactation team will be available to answer your questions and address your concerns regarding any type of feeding.  We will be sharing our stories and discussing anything and everything motherhood related.
URL:https://pennstatehealthnews.org/event/mothers-circle-2/2028-11-15/
LOCATION:Penn State Health Hampden Medical Center\, 2200 Good Hope Rd\, Enola\, PA\, 17025\, United States
CATEGORIES:Community,Wellness
END:VEVENT
BEGIN:VEVENT
DTSTART;TZID=America/New_York:20281122T110000
DTEND;TZID=America/New_York:20281122T120000
DTSTAMP:20260423T202649
CREATED:20241126T201804Z
LAST-MODIFIED:20250529T114610Z
UID:10005536-1858503600-1858507200@pennstatehealthnews.org
SUMMARY:Mothers Circle
DESCRIPTION:All are welcome!  Share your journey and connect with other moms and future moms at our weekly support group every Wednesday.  Our lactation team will be available to answer your questions and address your concerns regarding any type of feeding.  We will be sharing our stories and discussing anything and everything motherhood related.
URL:https://pennstatehealthnews.org/event/mothers-circle-2/2028-11-22/
LOCATION:Penn State Health Hampden Medical Center\, 2200 Good Hope Rd\, Enola\, PA\, 17025\, United States
CATEGORIES:Community,Wellness
END:VEVENT
BEGIN:VEVENT
DTSTART;TZID=America/New_York:20281129T110000
DTEND;TZID=America/New_York:20281129T120000
DTSTAMP:20260423T202649
CREATED:20241126T201804Z
LAST-MODIFIED:20250529T114610Z
UID:10005537-1859108400-1859112000@pennstatehealthnews.org
SUMMARY:Mothers Circle
DESCRIPTION:All are welcome!  Share your journey and connect with other moms and future moms at our weekly support group every Wednesday.  Our lactation team will be available to answer your questions and address your concerns regarding any type of feeding.  We will be sharing our stories and discussing anything and everything motherhood related.
URL:https://pennstatehealthnews.org/event/mothers-circle-2/2028-11-29/
LOCATION:Penn State Health Hampden Medical Center\, 2200 Good Hope Rd\, Enola\, PA\, 17025\, United States
CATEGORIES:Community,Wellness
END:VEVENT
BEGIN:VEVENT
DTSTART;TZID=America/New_York:20281206T110000
DTEND;TZID=America/New_York:20281206T120000
DTSTAMP:20260423T202649
CREATED:20241126T201804Z
LAST-MODIFIED:20250529T114610Z
UID:10005538-1859713200-1859716800@pennstatehealthnews.org
SUMMARY:Mothers Circle
DESCRIPTION:All are welcome!  Share your journey and connect with other moms and future moms at our weekly support group every Wednesday.  Our lactation team will be available to answer your questions and address your concerns regarding any type of feeding.  We will be sharing our stories and discussing anything and everything motherhood related.
URL:https://pennstatehealthnews.org/event/mothers-circle-2/2028-12-06/
LOCATION:Penn State Health Hampden Medical Center\, 2200 Good Hope Rd\, Enola\, PA\, 17025\, United States
CATEGORIES:Community,Wellness
END:VEVENT
BEGIN:VEVENT
DTSTART;TZID=America/New_York:20281213T110000
DTEND;TZID=America/New_York:20281213T120000
DTSTAMP:20260423T202649
CREATED:20241126T201804Z
LAST-MODIFIED:20250529T114610Z
UID:10005539-1860318000-1860321600@pennstatehealthnews.org
SUMMARY:Mothers Circle
DESCRIPTION:All are welcome!  Share your journey and connect with other moms and future moms at our weekly support group every Wednesday.  Our lactation team will be available to answer your questions and address your concerns regarding any type of feeding.  We will be sharing our stories and discussing anything and everything motherhood related.
URL:https://pennstatehealthnews.org/event/mothers-circle-2/2028-12-13/
LOCATION:Penn State Health Hampden Medical Center\, 2200 Good Hope Rd\, Enola\, PA\, 17025\, United States
CATEGORIES:Community,Wellness
END:VEVENT
BEGIN:VEVENT
DTSTART;TZID=America/New_York:20281220T110000
DTEND;TZID=America/New_York:20281220T120000
DTSTAMP:20260423T202649
CREATED:20241126T201804Z
LAST-MODIFIED:20250529T114610Z
UID:10005540-1860922800-1860926400@pennstatehealthnews.org
SUMMARY:Mothers Circle
DESCRIPTION:All are welcome!  Share your journey and connect with other moms and future moms at our weekly support group every Wednesday.  Our lactation team will be available to answer your questions and address your concerns regarding any type of feeding.  We will be sharing our stories and discussing anything and everything motherhood related.
URL:https://pennstatehealthnews.org/event/mothers-circle-2/2028-12-20/
LOCATION:Penn State Health Hampden Medical Center\, 2200 Good Hope Rd\, Enola\, PA\, 17025\, United States
CATEGORIES:Community,Wellness
END:VEVENT
BEGIN:VEVENT
DTSTART;TZID=America/New_York:20281227T110000
DTEND;TZID=America/New_York:20281227T120000
DTSTAMP:20260423T202649
CREATED:20241126T201804Z
LAST-MODIFIED:20250529T114610Z
UID:10005541-1861527600-1861531200@pennstatehealthnews.org
SUMMARY:Mothers Circle
DESCRIPTION:All are welcome!  Share your journey and connect with other moms and future moms at our weekly support group every Wednesday.  Our lactation team will be available to answer your questions and address your concerns regarding any type of feeding.  We will be sharing our stories and discussing anything and everything motherhood related.
URL:https://pennstatehealthnews.org/event/mothers-circle-2/2028-12-27/
LOCATION:Penn State Health Hampden Medical Center\, 2200 Good Hope Rd\, Enola\, PA\, 17025\, United States
CATEGORIES:Community,Wellness
END:VEVENT
BEGIN:VEVENT
DTSTART;TZID=America/New_York:20290103T110000
DTEND;TZID=America/New_York:20290103T120000
DTSTAMP:20260423T202649
CREATED:20241126T201804Z
LAST-MODIFIED:20250529T114610Z
UID:10005542-1862132400-1862136000@pennstatehealthnews.org
SUMMARY:Mothers Circle
DESCRIPTION:All are welcome!  Share your journey and connect with other moms and future moms at our weekly support group every Wednesday.  Our lactation team will be available to answer your questions and address your concerns regarding any type of feeding.  We will be sharing our stories and discussing anything and everything motherhood related.
URL:https://pennstatehealthnews.org/event/mothers-circle-2/2029-01-03/
LOCATION:Penn State Health Hampden Medical Center\, 2200 Good Hope Rd\, Enola\, PA\, 17025\, United States
CATEGORIES:Community,Wellness
END:VEVENT
BEGIN:VEVENT
DTSTART;TZID=America/New_York:20290110T110000
DTEND;TZID=America/New_York:20290110T120000
DTSTAMP:20260423T202649
CREATED:20241126T201804Z
LAST-MODIFIED:20250529T114610Z
UID:10005543-1862737200-1862740800@pennstatehealthnews.org
SUMMARY:Mothers Circle
DESCRIPTION:All are welcome!  Share your journey and connect with other moms and future moms at our weekly support group every Wednesday.  Our lactation team will be available to answer your questions and address your concerns regarding any type of feeding.  We will be sharing our stories and discussing anything and everything motherhood related.
URL:https://pennstatehealthnews.org/event/mothers-circle-2/2029-01-10/
LOCATION:Penn State Health Hampden Medical Center\, 2200 Good Hope Rd\, Enola\, PA\, 17025\, United States
CATEGORIES:Community,Wellness
END:VEVENT
BEGIN:VEVENT
DTSTART;TZID=America/New_York:20290117T110000
DTEND;TZID=America/New_York:20290117T120000
DTSTAMP:20260423T202649
CREATED:20241126T201804Z
LAST-MODIFIED:20250529T114610Z
UID:10005544-1863342000-1863345600@pennstatehealthnews.org
SUMMARY:Mothers Circle
DESCRIPTION:All are welcome!  Share your journey and connect with other moms and future moms at our weekly support group every Wednesday.  Our lactation team will be available to answer your questions and address your concerns regarding any type of feeding.  We will be sharing our stories and discussing anything and everything motherhood related.
URL:https://pennstatehealthnews.org/event/mothers-circle-2/2029-01-17/
LOCATION:Penn State Health Hampden Medical Center\, 2200 Good Hope Rd\, Enola\, PA\, 17025\, United States
CATEGORIES:Community,Wellness
END:VEVENT
BEGIN:VEVENT
DTSTART;TZID=America/New_York:20290124T110000
DTEND;TZID=America/New_York:20290124T120000
DTSTAMP:20260423T202649
CREATED:20241126T201804Z
LAST-MODIFIED:20250529T114610Z
UID:10005545-1863946800-1863950400@pennstatehealthnews.org
SUMMARY:Mothers Circle
DESCRIPTION:All are welcome!  Share your journey and connect with other moms and future moms at our weekly support group every Wednesday.  Our lactation team will be available to answer your questions and address your concerns regarding any type of feeding.  We will be sharing our stories and discussing anything and everything motherhood related.
URL:https://pennstatehealthnews.org/event/mothers-circle-2/2029-01-24/
LOCATION:Penn State Health Hampden Medical Center\, 2200 Good Hope Rd\, Enola\, PA\, 17025\, United States
CATEGORIES:Community,Wellness
END:VEVENT
BEGIN:VEVENT
DTSTART;TZID=America/New_York:20290131T110000
DTEND;TZID=America/New_York:20290131T120000
DTSTAMP:20260423T202649
CREATED:20241126T201804Z
LAST-MODIFIED:20250529T114610Z
UID:10005546-1864551600-1864555200@pennstatehealthnews.org
SUMMARY:Mothers Circle
DESCRIPTION:All are welcome!  Share your journey and connect with other moms and future moms at our weekly support group every Wednesday.  Our lactation team will be available to answer your questions and address your concerns regarding any type of feeding.  We will be sharing our stories and discussing anything and everything motherhood related.
URL:https://pennstatehealthnews.org/event/mothers-circle-2/2029-01-31/
LOCATION:Penn State Health Hampden Medical Center\, 2200 Good Hope Rd\, Enola\, PA\, 17025\, United States
CATEGORIES:Community,Wellness
END:VEVENT
BEGIN:VEVENT
DTSTART;TZID=America/New_York:20290207T110000
DTEND;TZID=America/New_York:20290207T120000
DTSTAMP:20260423T202649
CREATED:20241126T201804Z
LAST-MODIFIED:20250529T114610Z
UID:10005547-1865156400-1865160000@pennstatehealthnews.org
SUMMARY:Mothers Circle
DESCRIPTION:All are welcome!  Share your journey and connect with other moms and future moms at our weekly support group every Wednesday.  Our lactation team will be available to answer your questions and address your concerns regarding any type of feeding.  We will be sharing our stories and discussing anything and everything motherhood related.
URL:https://pennstatehealthnews.org/event/mothers-circle-2/2029-02-07/
LOCATION:Penn State Health Hampden Medical Center\, 2200 Good Hope Rd\, Enola\, PA\, 17025\, United States
CATEGORIES:Community,Wellness
END:VEVENT
BEGIN:VEVENT
DTSTART;TZID=America/New_York:20290214T110000
DTEND;TZID=America/New_York:20290214T120000
DTSTAMP:20260423T202649
CREATED:20241126T201804Z
LAST-MODIFIED:20250529T114610Z
UID:10005548-1865761200-1865764800@pennstatehealthnews.org
SUMMARY:Mothers Circle
DESCRIPTION:All are welcome!  Share your journey and connect with other moms and future moms at our weekly support group every Wednesday.  Our lactation team will be available to answer your questions and address your concerns regarding any type of feeding.  We will be sharing our stories and discussing anything and everything motherhood related.
URL:https://pennstatehealthnews.org/event/mothers-circle-2/2029-02-14/
LOCATION:Penn State Health Hampden Medical Center\, 2200 Good Hope Rd\, Enola\, PA\, 17025\, United States
CATEGORIES:Community,Wellness
END:VEVENT
BEGIN:VEVENT
DTSTART;TZID=America/New_York:20290221T110000
DTEND;TZID=America/New_York:20290221T120000
DTSTAMP:20260423T202649
CREATED:20241126T201804Z
LAST-MODIFIED:20250529T114610Z
UID:10005549-1866366000-1866369600@pennstatehealthnews.org
SUMMARY:Mothers Circle
DESCRIPTION:All are welcome!  Share your journey and connect with other moms and future moms at our weekly support group every Wednesday.  Our lactation team will be available to answer your questions and address your concerns regarding any type of feeding.  We will be sharing our stories and discussing anything and everything motherhood related.
URL:https://pennstatehealthnews.org/event/mothers-circle-2/2029-02-21/
LOCATION:Penn State Health Hampden Medical Center\, 2200 Good Hope Rd\, Enola\, PA\, 17025\, United States
CATEGORIES:Community,Wellness
END:VEVENT
BEGIN:VEVENT
DTSTART;TZID=America/New_York:20290228T110000
DTEND;TZID=America/New_York:20290228T120000
DTSTAMP:20260423T202649
CREATED:20241126T201804Z
LAST-MODIFIED:20250529T114610Z
UID:10005550-1866970800-1866974400@pennstatehealthnews.org
SUMMARY:Mothers Circle
DESCRIPTION:All are welcome!  Share your journey and connect with other moms and future moms at our weekly support group every Wednesday.  Our lactation team will be available to answer your questions and address your concerns regarding any type of feeding.  We will be sharing our stories and discussing anything and everything motherhood related.
URL:https://pennstatehealthnews.org/event/mothers-circle-2/2029-02-28/
LOCATION:Penn State Health Hampden Medical Center\, 2200 Good Hope Rd\, Enola\, PA\, 17025\, United States
CATEGORIES:Community,Wellness
END:VEVENT
BEGIN:VEVENT
DTSTART;TZID=America/New_York:20290307T110000
DTEND;TZID=America/New_York:20290307T120000
DTSTAMP:20260423T202649
CREATED:20241126T201804Z
LAST-MODIFIED:20250529T114610Z
UID:10005551-1867575600-1867579200@pennstatehealthnews.org
SUMMARY:Mothers Circle
DESCRIPTION:All are welcome!  Share your journey and connect with other moms and future moms at our weekly support group every Wednesday.  Our lactation team will be available to answer your questions and address your concerns regarding any type of feeding.  We will be sharing our stories and discussing anything and everything motherhood related.
URL:https://pennstatehealthnews.org/event/mothers-circle-2/2029-03-07/
LOCATION:Penn State Health Hampden Medical Center\, 2200 Good Hope Rd\, Enola\, PA\, 17025\, United States
CATEGORIES:Community,Wellness
END:VEVENT
BEGIN:VEVENT
DTSTART;TZID=America/New_York:20290314T110000
DTEND;TZID=America/New_York:20290314T120000
DTSTAMP:20260423T202649
CREATED:20241126T201804Z
LAST-MODIFIED:20250529T114610Z
UID:10005552-1868180400-1868184000@pennstatehealthnews.org
SUMMARY:Mothers Circle
DESCRIPTION:All are welcome!  Share your journey and connect with other moms and future moms at our weekly support group every Wednesday.  Our lactation team will be available to answer your questions and address your concerns regarding any type of feeding.  We will be sharing our stories and discussing anything and everything motherhood related.
URL:https://pennstatehealthnews.org/event/mothers-circle-2/2029-03-14/
LOCATION:Penn State Health Hampden Medical Center\, 2200 Good Hope Rd\, Enola\, PA\, 17025\, United States
CATEGORIES:Community,Wellness
END:VEVENT
BEGIN:VEVENT
DTSTART;TZID=America/New_York:20290321T110000
DTEND;TZID=America/New_York:20290321T120000
DTSTAMP:20260423T202649
CREATED:20241126T201804Z
LAST-MODIFIED:20250529T114610Z
UID:10005553-1868785200-1868788800@pennstatehealthnews.org
SUMMARY:Mothers Circle
DESCRIPTION:All are welcome!  Share your journey and connect with other moms and future moms at our weekly support group every Wednesday.  Our lactation team will be available to answer your questions and address your concerns regarding any type of feeding.  We will be sharing our stories and discussing anything and everything motherhood related.
URL:https://pennstatehealthnews.org/event/mothers-circle-2/2029-03-21/
LOCATION:Penn State Health Hampden Medical Center\, 2200 Good Hope Rd\, Enola\, PA\, 17025\, United States
CATEGORIES:Community,Wellness
END:VEVENT
BEGIN:VEVENT
DTSTART;TZID=America/New_York:20290328T110000
DTEND;TZID=America/New_York:20290328T120000
DTSTAMP:20260423T202649
CREATED:20241126T201804Z
LAST-MODIFIED:20250529T114610Z
UID:10005554-1869390000-1869393600@pennstatehealthnews.org
SUMMARY:Mothers Circle
DESCRIPTION:All are welcome!  Share your journey and connect with other moms and future moms at our weekly support group every Wednesday.  Our lactation team will be available to answer your questions and address your concerns regarding any type of feeding.  We will be sharing our stories and discussing anything and everything motherhood related.
URL:https://pennstatehealthnews.org/event/mothers-circle-2/2029-03-28/
LOCATION:Penn State Health Hampden Medical Center\, 2200 Good Hope Rd\, Enola\, PA\, 17025\, United States
CATEGORIES:Community,Wellness
END:VEVENT
END:VCALENDAR