BEGIN:VCALENDAR
VERSION:2.0
PRODID:-//Penn State Health News - ECPv6.15.20//NONSGML v1.0//EN
CALSCALE:GREGORIAN
METHOD:PUBLISH
X-ORIGINAL-URL:https://pennstatehealthnews.org
X-WR-CALDESC:Events for Penn State Health News
REFRESH-INTERVAL;VALUE=DURATION:PT1H
X-Robots-Tag:noindex
X-PUBLISHED-TTL:PT1H
BEGIN:VTIMEZONE
TZID:America/New_York
BEGIN:DAYLIGHT
TZOFFSETFROM:-0500
TZOFFSETTO:-0400
TZNAME:EDT
DTSTART:20290311T070000
END:DAYLIGHT
BEGIN:STANDARD
TZOFFSETFROM:-0400
TZOFFSETTO:-0500
TZNAME:EST
DTSTART:20291104T060000
END:STANDARD
BEGIN:DAYLIGHT
TZOFFSETFROM:-0500
TZOFFSETTO:-0400
TZNAME:EDT
DTSTART:20300310T070000
END:DAYLIGHT
BEGIN:STANDARD
TZOFFSETFROM:-0400
TZOFFSETTO:-0500
TZNAME:EST
DTSTART:20301103T060000
END:STANDARD
BEGIN:DAYLIGHT
TZOFFSETFROM:-0500
TZOFFSETTO:-0400
TZNAME:EDT
DTSTART:20310309T070000
END:DAYLIGHT
BEGIN:STANDARD
TZOFFSETFROM:-0400
TZOFFSETTO:-0500
TZNAME:EST
DTSTART:20311102T060000
END:STANDARD
END:VTIMEZONE
BEGIN:VEVENT
DTSTART;TZID=America/New_York:20300213T110000
DTEND;TZID=America/New_York:20300213T120000
DTSTAMP:20260424T030455
CREATED:20241126T201804Z
LAST-MODIFIED:20250529T114610Z
UID:10005600-1897210800-1897214400@pennstatehealthnews.org
SUMMARY:Mothers Circle
DESCRIPTION:All are welcome!  Share your journey and connect with other moms and future moms at our weekly support group every Wednesday.  Our lactation team will be available to answer your questions and address your concerns regarding any type of feeding.  We will be sharing our stories and discussing anything and everything motherhood related.
URL:https://pennstatehealthnews.org/event/mothers-circle-2/2030-02-13/
LOCATION:Penn State Health Hampden Medical Center\, 2200 Good Hope Rd\, Enola\, PA\, 17025\, United States
CATEGORIES:Community,Wellness
END:VEVENT
BEGIN:VEVENT
DTSTART;TZID=America/New_York:20300220T110000
DTEND;TZID=America/New_York:20300220T120000
DTSTAMP:20260424T030455
CREATED:20241126T201804Z
LAST-MODIFIED:20250529T114610Z
UID:10005601-1897815600-1897819200@pennstatehealthnews.org
SUMMARY:Mothers Circle
DESCRIPTION:All are welcome!  Share your journey and connect with other moms and future moms at our weekly support group every Wednesday.  Our lactation team will be available to answer your questions and address your concerns regarding any type of feeding.  We will be sharing our stories and discussing anything and everything motherhood related.
URL:https://pennstatehealthnews.org/event/mothers-circle-2/2030-02-20/
LOCATION:Penn State Health Hampden Medical Center\, 2200 Good Hope Rd\, Enola\, PA\, 17025\, United States
CATEGORIES:Community,Wellness
END:VEVENT
BEGIN:VEVENT
DTSTART;TZID=America/New_York:20300227T110000
DTEND;TZID=America/New_York:20300227T120000
DTSTAMP:20260424T030455
CREATED:20241126T201804Z
LAST-MODIFIED:20250529T114610Z
UID:10005602-1898420400-1898424000@pennstatehealthnews.org
SUMMARY:Mothers Circle
DESCRIPTION:All are welcome!  Share your journey and connect with other moms and future moms at our weekly support group every Wednesday.  Our lactation team will be available to answer your questions and address your concerns regarding any type of feeding.  We will be sharing our stories and discussing anything and everything motherhood related.
URL:https://pennstatehealthnews.org/event/mothers-circle-2/2030-02-27/
LOCATION:Penn State Health Hampden Medical Center\, 2200 Good Hope Rd\, Enola\, PA\, 17025\, United States
CATEGORIES:Community,Wellness
END:VEVENT
BEGIN:VEVENT
DTSTART;TZID=America/New_York:20300306T110000
DTEND;TZID=America/New_York:20300306T120000
DTSTAMP:20260424T030456
CREATED:20241126T201804Z
LAST-MODIFIED:20250529T114610Z
UID:10005603-1899025200-1899028800@pennstatehealthnews.org
SUMMARY:Mothers Circle
DESCRIPTION:All are welcome!  Share your journey and connect with other moms and future moms at our weekly support group every Wednesday.  Our lactation team will be available to answer your questions and address your concerns regarding any type of feeding.  We will be sharing our stories and discussing anything and everything motherhood related.
URL:https://pennstatehealthnews.org/event/mothers-circle-2/2030-03-06/
LOCATION:Penn State Health Hampden Medical Center\, 2200 Good Hope Rd\, Enola\, PA\, 17025\, United States
CATEGORIES:Community,Wellness
END:VEVENT
BEGIN:VEVENT
DTSTART;TZID=America/New_York:20300313T110000
DTEND;TZID=America/New_York:20300313T120000
DTSTAMP:20260424T030456
CREATED:20241126T201804Z
LAST-MODIFIED:20250529T114610Z
UID:10005604-1899630000-1899633600@pennstatehealthnews.org
SUMMARY:Mothers Circle
DESCRIPTION:All are welcome!  Share your journey and connect with other moms and future moms at our weekly support group every Wednesday.  Our lactation team will be available to answer your questions and address your concerns regarding any type of feeding.  We will be sharing our stories and discussing anything and everything motherhood related.
URL:https://pennstatehealthnews.org/event/mothers-circle-2/2030-03-13/
LOCATION:Penn State Health Hampden Medical Center\, 2200 Good Hope Rd\, Enola\, PA\, 17025\, United States
CATEGORIES:Community,Wellness
END:VEVENT
BEGIN:VEVENT
DTSTART;TZID=America/New_York:20300320T110000
DTEND;TZID=America/New_York:20300320T120000
DTSTAMP:20260424T030456
CREATED:20241126T201804Z
LAST-MODIFIED:20250529T114610Z
UID:10005605-1900234800-1900238400@pennstatehealthnews.org
SUMMARY:Mothers Circle
DESCRIPTION:All are welcome!  Share your journey and connect with other moms and future moms at our weekly support group every Wednesday.  Our lactation team will be available to answer your questions and address your concerns regarding any type of feeding.  We will be sharing our stories and discussing anything and everything motherhood related.
URL:https://pennstatehealthnews.org/event/mothers-circle-2/2030-03-20/
LOCATION:Penn State Health Hampden Medical Center\, 2200 Good Hope Rd\, Enola\, PA\, 17025\, United States
CATEGORIES:Community,Wellness
END:VEVENT
BEGIN:VEVENT
DTSTART;TZID=America/New_York:20300327T110000
DTEND;TZID=America/New_York:20300327T120000
DTSTAMP:20260424T030456
CREATED:20241126T201804Z
LAST-MODIFIED:20250529T114610Z
UID:10005606-1900839600-1900843200@pennstatehealthnews.org
SUMMARY:Mothers Circle
DESCRIPTION:All are welcome!  Share your journey and connect with other moms and future moms at our weekly support group every Wednesday.  Our lactation team will be available to answer your questions and address your concerns regarding any type of feeding.  We will be sharing our stories and discussing anything and everything motherhood related.
URL:https://pennstatehealthnews.org/event/mothers-circle-2/2030-03-27/
LOCATION:Penn State Health Hampden Medical Center\, 2200 Good Hope Rd\, Enola\, PA\, 17025\, United States
CATEGORIES:Community,Wellness
END:VEVENT
BEGIN:VEVENT
DTSTART;TZID=America/New_York:20300403T110000
DTEND;TZID=America/New_York:20300403T120000
DTSTAMP:20260424T030456
CREATED:20241126T201804Z
LAST-MODIFIED:20250529T114610Z
UID:10005607-1901444400-1901448000@pennstatehealthnews.org
SUMMARY:Mothers Circle
DESCRIPTION:All are welcome!  Share your journey and connect with other moms and future moms at our weekly support group every Wednesday.  Our lactation team will be available to answer your questions and address your concerns regarding any type of feeding.  We will be sharing our stories and discussing anything and everything motherhood related.
URL:https://pennstatehealthnews.org/event/mothers-circle-2/2030-04-03/
LOCATION:Penn State Health Hampden Medical Center\, 2200 Good Hope Rd\, Enola\, PA\, 17025\, United States
CATEGORIES:Community,Wellness
END:VEVENT
BEGIN:VEVENT
DTSTART;TZID=America/New_York:20300410T110000
DTEND;TZID=America/New_York:20300410T120000
DTSTAMP:20260424T030456
CREATED:20241126T201804Z
LAST-MODIFIED:20250529T114610Z
UID:10005608-1902049200-1902052800@pennstatehealthnews.org
SUMMARY:Mothers Circle
DESCRIPTION:All are welcome!  Share your journey and connect with other moms and future moms at our weekly support group every Wednesday.  Our lactation team will be available to answer your questions and address your concerns regarding any type of feeding.  We will be sharing our stories and discussing anything and everything motherhood related.
URL:https://pennstatehealthnews.org/event/mothers-circle-2/2030-04-10/
LOCATION:Penn State Health Hampden Medical Center\, 2200 Good Hope Rd\, Enola\, PA\, 17025\, United States
CATEGORIES:Community,Wellness
END:VEVENT
BEGIN:VEVENT
DTSTART;TZID=America/New_York:20300417T110000
DTEND;TZID=America/New_York:20300417T120000
DTSTAMP:20260424T030456
CREATED:20241126T201804Z
LAST-MODIFIED:20250529T114610Z
UID:10005609-1902654000-1902657600@pennstatehealthnews.org
SUMMARY:Mothers Circle
DESCRIPTION:All are welcome!  Share your journey and connect with other moms and future moms at our weekly support group every Wednesday.  Our lactation team will be available to answer your questions and address your concerns regarding any type of feeding.  We will be sharing our stories and discussing anything and everything motherhood related.
URL:https://pennstatehealthnews.org/event/mothers-circle-2/2030-04-17/
LOCATION:Penn State Health Hampden Medical Center\, 2200 Good Hope Rd\, Enola\, PA\, 17025\, United States
CATEGORIES:Community,Wellness
END:VEVENT
BEGIN:VEVENT
DTSTART;TZID=America/New_York:20300424T110000
DTEND;TZID=America/New_York:20300424T120000
DTSTAMP:20260424T030456
CREATED:20241126T201804Z
LAST-MODIFIED:20250529T114610Z
UID:10005610-1903258800-1903262400@pennstatehealthnews.org
SUMMARY:Mothers Circle
DESCRIPTION:All are welcome!  Share your journey and connect with other moms and future moms at our weekly support group every Wednesday.  Our lactation team will be available to answer your questions and address your concerns regarding any type of feeding.  We will be sharing our stories and discussing anything and everything motherhood related.
URL:https://pennstatehealthnews.org/event/mothers-circle-2/2030-04-24/
LOCATION:Penn State Health Hampden Medical Center\, 2200 Good Hope Rd\, Enola\, PA\, 17025\, United States
CATEGORIES:Community,Wellness
END:VEVENT
BEGIN:VEVENT
DTSTART;TZID=America/New_York:20300501T110000
DTEND;TZID=America/New_York:20300501T120000
DTSTAMP:20260424T030456
CREATED:20241126T201804Z
LAST-MODIFIED:20250529T114610Z
UID:10005611-1903863600-1903867200@pennstatehealthnews.org
SUMMARY:Mothers Circle
DESCRIPTION:All are welcome!  Share your journey and connect with other moms and future moms at our weekly support group every Wednesday.  Our lactation team will be available to answer your questions and address your concerns regarding any type of feeding.  We will be sharing our stories and discussing anything and everything motherhood related.
URL:https://pennstatehealthnews.org/event/mothers-circle-2/2030-05-01/
LOCATION:Penn State Health Hampden Medical Center\, 2200 Good Hope Rd\, Enola\, PA\, 17025\, United States
CATEGORIES:Community,Wellness
END:VEVENT
BEGIN:VEVENT
DTSTART;TZID=America/New_York:20300508T110000
DTEND;TZID=America/New_York:20300508T120000
DTSTAMP:20260424T030456
CREATED:20241126T201804Z
LAST-MODIFIED:20250529T114610Z
UID:10005612-1904468400-1904472000@pennstatehealthnews.org
SUMMARY:Mothers Circle
DESCRIPTION:All are welcome!  Share your journey and connect with other moms and future moms at our weekly support group every Wednesday.  Our lactation team will be available to answer your questions and address your concerns regarding any type of feeding.  We will be sharing our stories and discussing anything and everything motherhood related.
URL:https://pennstatehealthnews.org/event/mothers-circle-2/2030-05-08/
LOCATION:Penn State Health Hampden Medical Center\, 2200 Good Hope Rd\, Enola\, PA\, 17025\, United States
CATEGORIES:Community,Wellness
END:VEVENT
BEGIN:VEVENT
DTSTART;TZID=America/New_York:20300515T110000
DTEND;TZID=America/New_York:20300515T120000
DTSTAMP:20260424T030456
CREATED:20241126T201804Z
LAST-MODIFIED:20250529T114610Z
UID:10005613-1905073200-1905076800@pennstatehealthnews.org
SUMMARY:Mothers Circle
DESCRIPTION:All are welcome!  Share your journey and connect with other moms and future moms at our weekly support group every Wednesday.  Our lactation team will be available to answer your questions and address your concerns regarding any type of feeding.  We will be sharing our stories and discussing anything and everything motherhood related.
URL:https://pennstatehealthnews.org/event/mothers-circle-2/2030-05-15/
LOCATION:Penn State Health Hampden Medical Center\, 2200 Good Hope Rd\, Enola\, PA\, 17025\, United States
CATEGORIES:Community,Wellness
END:VEVENT
BEGIN:VEVENT
DTSTART;TZID=America/New_York:20300522T110000
DTEND;TZID=America/New_York:20300522T120000
DTSTAMP:20260424T030456
CREATED:20241126T201804Z
LAST-MODIFIED:20250529T114610Z
UID:10005614-1905678000-1905681600@pennstatehealthnews.org
SUMMARY:Mothers Circle
DESCRIPTION:All are welcome!  Share your journey and connect with other moms and future moms at our weekly support group every Wednesday.  Our lactation team will be available to answer your questions and address your concerns regarding any type of feeding.  We will be sharing our stories and discussing anything and everything motherhood related.
URL:https://pennstatehealthnews.org/event/mothers-circle-2/2030-05-22/
LOCATION:Penn State Health Hampden Medical Center\, 2200 Good Hope Rd\, Enola\, PA\, 17025\, United States
CATEGORIES:Community,Wellness
END:VEVENT
BEGIN:VEVENT
DTSTART;TZID=America/New_York:20300529T110000
DTEND;TZID=America/New_York:20300529T120000
DTSTAMP:20260424T030456
CREATED:20241126T201804Z
LAST-MODIFIED:20250529T114610Z
UID:10005615-1906282800-1906286400@pennstatehealthnews.org
SUMMARY:Mothers Circle
DESCRIPTION:All are welcome!  Share your journey and connect with other moms and future moms at our weekly support group every Wednesday.  Our lactation team will be available to answer your questions and address your concerns regarding any type of feeding.  We will be sharing our stories and discussing anything and everything motherhood related.
URL:https://pennstatehealthnews.org/event/mothers-circle-2/2030-05-29/
LOCATION:Penn State Health Hampden Medical Center\, 2200 Good Hope Rd\, Enola\, PA\, 17025\, United States
CATEGORIES:Community,Wellness
END:VEVENT
BEGIN:VEVENT
DTSTART;TZID=America/New_York:20300605T110000
DTEND;TZID=America/New_York:20300605T120000
DTSTAMP:20260424T030456
CREATED:20241126T201804Z
LAST-MODIFIED:20250529T114610Z
UID:10006055-1906887600-1906891200@pennstatehealthnews.org
SUMMARY:Mothers Circle
DESCRIPTION:All are welcome!  Share your journey and connect with other moms and future moms at our weekly support group every Wednesday.  Our lactation team will be available to answer your questions and address your concerns regarding any type of feeding.  We will be sharing our stories and discussing anything and everything motherhood related.
URL:https://pennstatehealthnews.org/event/mothers-circle-2/2030-06-05/
LOCATION:Penn State Health Hampden Medical Center\, 2200 Good Hope Rd\, Enola\, PA\, 17025\, United States
CATEGORIES:Community,Wellness
END:VEVENT
BEGIN:VEVENT
DTSTART;TZID=America/New_York:20300612T110000
DTEND;TZID=America/New_York:20300612T120000
DTSTAMP:20260424T030456
CREATED:20241126T201804Z
LAST-MODIFIED:20250529T114610Z
UID:10006056-1907492400-1907496000@pennstatehealthnews.org
SUMMARY:Mothers Circle
DESCRIPTION:All are welcome!  Share your journey and connect with other moms and future moms at our weekly support group every Wednesday.  Our lactation team will be available to answer your questions and address your concerns regarding any type of feeding.  We will be sharing our stories and discussing anything and everything motherhood related.
URL:https://pennstatehealthnews.org/event/mothers-circle-2/2030-06-12/
LOCATION:Penn State Health Hampden Medical Center\, 2200 Good Hope Rd\, Enola\, PA\, 17025\, United States
CATEGORIES:Community,Wellness
END:VEVENT
BEGIN:VEVENT
DTSTART;TZID=America/New_York:20300619T110000
DTEND;TZID=America/New_York:20300619T120000
DTSTAMP:20260424T030456
CREATED:20241126T201804Z
LAST-MODIFIED:20250529T114610Z
UID:10006057-1908097200-1908100800@pennstatehealthnews.org
SUMMARY:Mothers Circle
DESCRIPTION:All are welcome!  Share your journey and connect with other moms and future moms at our weekly support group every Wednesday.  Our lactation team will be available to answer your questions and address your concerns regarding any type of feeding.  We will be sharing our stories and discussing anything and everything motherhood related.
URL:https://pennstatehealthnews.org/event/mothers-circle-2/2030-06-19/
LOCATION:Penn State Health Hampden Medical Center\, 2200 Good Hope Rd\, Enola\, PA\, 17025\, United States
CATEGORIES:Community,Wellness
END:VEVENT
BEGIN:VEVENT
DTSTART;TZID=America/New_York:20300626T110000
DTEND;TZID=America/New_York:20300626T120000
DTSTAMP:20260424T030456
CREATED:20241126T201804Z
LAST-MODIFIED:20250529T114610Z
UID:10006058-1908702000-1908705600@pennstatehealthnews.org
SUMMARY:Mothers Circle
DESCRIPTION:All are welcome!  Share your journey and connect with other moms and future moms at our weekly support group every Wednesday.  Our lactation team will be available to answer your questions and address your concerns regarding any type of feeding.  We will be sharing our stories and discussing anything and everything motherhood related.
URL:https://pennstatehealthnews.org/event/mothers-circle-2/2030-06-26/
LOCATION:Penn State Health Hampden Medical Center\, 2200 Good Hope Rd\, Enola\, PA\, 17025\, United States
CATEGORIES:Community,Wellness
END:VEVENT
BEGIN:VEVENT
DTSTART;TZID=America/New_York:20300703T110000
DTEND;TZID=America/New_York:20300703T120000
DTSTAMP:20260424T030456
CREATED:20241126T201804Z
LAST-MODIFIED:20250529T114610Z
UID:10006059-1909306800-1909310400@pennstatehealthnews.org
SUMMARY:Mothers Circle
DESCRIPTION:All are welcome!  Share your journey and connect with other moms and future moms at our weekly support group every Wednesday.  Our lactation team will be available to answer your questions and address your concerns regarding any type of feeding.  We will be sharing our stories and discussing anything and everything motherhood related.
URL:https://pennstatehealthnews.org/event/mothers-circle-2/2030-07-03/
LOCATION:Penn State Health Hampden Medical Center\, 2200 Good Hope Rd\, Enola\, PA\, 17025\, United States
CATEGORIES:Community,Wellness
END:VEVENT
BEGIN:VEVENT
DTSTART;TZID=America/New_York:20300710T110000
DTEND;TZID=America/New_York:20300710T120000
DTSTAMP:20260424T030456
CREATED:20241126T201804Z
LAST-MODIFIED:20250529T114610Z
UID:10006067-1909911600-1909915200@pennstatehealthnews.org
SUMMARY:Mothers Circle
DESCRIPTION:All are welcome!  Share your journey and connect with other moms and future moms at our weekly support group every Wednesday.  Our lactation team will be available to answer your questions and address your concerns regarding any type of feeding.  We will be sharing our stories and discussing anything and everything motherhood related.
URL:https://pennstatehealthnews.org/event/mothers-circle-2/2030-07-10/
LOCATION:Penn State Health Hampden Medical Center\, 2200 Good Hope Rd\, Enola\, PA\, 17025\, United States
CATEGORIES:Community,Wellness
END:VEVENT
BEGIN:VEVENT
DTSTART;TZID=America/New_York:20300717T110000
DTEND;TZID=America/New_York:20300717T120000
DTSTAMP:20260424T030456
CREATED:20241126T201804Z
LAST-MODIFIED:20250529T114610Z
UID:10006097-1910516400-1910520000@pennstatehealthnews.org
SUMMARY:Mothers Circle
DESCRIPTION:All are welcome!  Share your journey and connect with other moms and future moms at our weekly support group every Wednesday.  Our lactation team will be available to answer your questions and address your concerns regarding any type of feeding.  We will be sharing our stories and discussing anything and everything motherhood related.
URL:https://pennstatehealthnews.org/event/mothers-circle-2/2030-07-17/
LOCATION:Penn State Health Hampden Medical Center\, 2200 Good Hope Rd\, Enola\, PA\, 17025\, United States
CATEGORIES:Community,Wellness
END:VEVENT
BEGIN:VEVENT
DTSTART;TZID=America/New_York:20300724T110000
DTEND;TZID=America/New_York:20300724T120000
DTSTAMP:20260424T030456
CREATED:20241126T201804Z
LAST-MODIFIED:20250529T114610Z
UID:10006115-1911121200-1911124800@pennstatehealthnews.org
SUMMARY:Mothers Circle
DESCRIPTION:All are welcome!  Share your journey and connect with other moms and future moms at our weekly support group every Wednesday.  Our lactation team will be available to answer your questions and address your concerns regarding any type of feeding.  We will be sharing our stories and discussing anything and everything motherhood related.
URL:https://pennstatehealthnews.org/event/mothers-circle-2/2030-07-24/
LOCATION:Penn State Health Hampden Medical Center\, 2200 Good Hope Rd\, Enola\, PA\, 17025\, United States
CATEGORIES:Community,Wellness
END:VEVENT
BEGIN:VEVENT
DTSTART;TZID=America/New_York:20300731T110000
DTEND;TZID=America/New_York:20300731T120000
DTSTAMP:20260424T030456
CREATED:20241126T201804Z
LAST-MODIFIED:20250529T114610Z
UID:10006252-1911726000-1911729600@pennstatehealthnews.org
SUMMARY:Mothers Circle
DESCRIPTION:All are welcome!  Share your journey and connect with other moms and future moms at our weekly support group every Wednesday.  Our lactation team will be available to answer your questions and address your concerns regarding any type of feeding.  We will be sharing our stories and discussing anything and everything motherhood related.
URL:https://pennstatehealthnews.org/event/mothers-circle-2/2030-07-31/
LOCATION:Penn State Health Hampden Medical Center\, 2200 Good Hope Rd\, Enola\, PA\, 17025\, United States
CATEGORIES:Community,Wellness
END:VEVENT
BEGIN:VEVENT
DTSTART;TZID=America/New_York:20300807T110000
DTEND;TZID=America/New_York:20300807T120000
DTSTAMP:20260424T030456
CREATED:20241126T201804Z
LAST-MODIFIED:20250529T114610Z
UID:10006287-1912330800-1912334400@pennstatehealthnews.org
SUMMARY:Mothers Circle
DESCRIPTION:All are welcome!  Share your journey and connect with other moms and future moms at our weekly support group every Wednesday.  Our lactation team will be available to answer your questions and address your concerns regarding any type of feeding.  We will be sharing our stories and discussing anything and everything motherhood related.
URL:https://pennstatehealthnews.org/event/mothers-circle-2/2030-08-07/
LOCATION:Penn State Health Hampden Medical Center\, 2200 Good Hope Rd\, Enola\, PA\, 17025\, United States
CATEGORIES:Community,Wellness
END:VEVENT
BEGIN:VEVENT
DTSTART;TZID=America/New_York:20300814T110000
DTEND;TZID=America/New_York:20300814T120000
DTSTAMP:20260424T030456
CREATED:20241126T201804Z
LAST-MODIFIED:20250529T114610Z
UID:10006332-1912935600-1912939200@pennstatehealthnews.org
SUMMARY:Mothers Circle
DESCRIPTION:All are welcome!  Share your journey and connect with other moms and future moms at our weekly support group every Wednesday.  Our lactation team will be available to answer your questions and address your concerns regarding any type of feeding.  We will be sharing our stories and discussing anything and everything motherhood related.
URL:https://pennstatehealthnews.org/event/mothers-circle-2/2030-08-14/
LOCATION:Penn State Health Hampden Medical Center\, 2200 Good Hope Rd\, Enola\, PA\, 17025\, United States
CATEGORIES:Community,Wellness
END:VEVENT
BEGIN:VEVENT
DTSTART;TZID=America/New_York:20300821T110000
DTEND;TZID=America/New_York:20300821T120000
DTSTAMP:20260424T030456
CREATED:20241126T201804Z
LAST-MODIFIED:20250529T114610Z
UID:10006378-1913540400-1913544000@pennstatehealthnews.org
SUMMARY:Mothers Circle
DESCRIPTION:All are welcome!  Share your journey and connect with other moms and future moms at our weekly support group every Wednesday.  Our lactation team will be available to answer your questions and address your concerns regarding any type of feeding.  We will be sharing our stories and discussing anything and everything motherhood related.
URL:https://pennstatehealthnews.org/event/mothers-circle-2/2030-08-21/
LOCATION:Penn State Health Hampden Medical Center\, 2200 Good Hope Rd\, Enola\, PA\, 17025\, United States
CATEGORIES:Community,Wellness
END:VEVENT
BEGIN:VEVENT
DTSTART;TZID=America/New_York:20300828T110000
DTEND;TZID=America/New_York:20300828T120000
DTSTAMP:20260424T030456
CREATED:20241126T201804Z
LAST-MODIFIED:20250529T114610Z
UID:10006382-1914145200-1914148800@pennstatehealthnews.org
SUMMARY:Mothers Circle
DESCRIPTION:All are welcome!  Share your journey and connect with other moms and future moms at our weekly support group every Wednesday.  Our lactation team will be available to answer your questions and address your concerns regarding any type of feeding.  We will be sharing our stories and discussing anything and everything motherhood related.
URL:https://pennstatehealthnews.org/event/mothers-circle-2/2030-08-28/
LOCATION:Penn State Health Hampden Medical Center\, 2200 Good Hope Rd\, Enola\, PA\, 17025\, United States
CATEGORIES:Community,Wellness
END:VEVENT
BEGIN:VEVENT
DTSTART;TZID=America/New_York:20300904T110000
DTEND;TZID=America/New_York:20300904T120000
DTSTAMP:20260424T030456
CREATED:20241126T201804Z
LAST-MODIFIED:20250529T114610Z
UID:10006398-1914750000-1914753600@pennstatehealthnews.org
SUMMARY:Mothers Circle
DESCRIPTION:All are welcome!  Share your journey and connect with other moms and future moms at our weekly support group every Wednesday.  Our lactation team will be available to answer your questions and address your concerns regarding any type of feeding.  We will be sharing our stories and discussing anything and everything motherhood related.
URL:https://pennstatehealthnews.org/event/mothers-circle-2/2030-09-04/
LOCATION:Penn State Health Hampden Medical Center\, 2200 Good Hope Rd\, Enola\, PA\, 17025\, United States
CATEGORIES:Community,Wellness
END:VEVENT
END:VCALENDAR