BEGIN:VCALENDAR
VERSION:2.0
PRODID:-//Penn State Health News - ECPv6.15.20//NONSGML v1.0//EN
CALSCALE:GREGORIAN
METHOD:PUBLISH
X-ORIGINAL-URL:https://pennstatehealthnews.org
X-WR-CALDESC:Events for Penn State Health News
REFRESH-INTERVAL;VALUE=DURATION:PT1H
X-Robots-Tag:noindex
X-PUBLISHED-TTL:PT1H
BEGIN:VTIMEZONE
TZID:America/New_York
BEGIN:DAYLIGHT
TZOFFSETFROM:-0500
TZOFFSETTO:-0400
TZNAME:EDT
DTSTART:20250309T070000
END:DAYLIGHT
BEGIN:STANDARD
TZOFFSETFROM:-0400
TZOFFSETTO:-0500
TZNAME:EST
DTSTART:20251102T060000
END:STANDARD
BEGIN:DAYLIGHT
TZOFFSETFROM:-0500
TZOFFSETTO:-0400
TZNAME:EDT
DTSTART:20260308T070000
END:DAYLIGHT
BEGIN:STANDARD
TZOFFSETFROM:-0400
TZOFFSETTO:-0500
TZNAME:EST
DTSTART:20261101T060000
END:STANDARD
BEGIN:DAYLIGHT
TZOFFSETFROM:-0500
TZOFFSETTO:-0400
TZNAME:EDT
DTSTART:20270314T070000
END:DAYLIGHT
BEGIN:STANDARD
TZOFFSETFROM:-0400
TZOFFSETTO:-0500
TZNAME:EST
DTSTART:20271107T060000
END:STANDARD
END:VTIMEZONE
BEGIN:VEVENT
DTSTART;TZID=America/New_York:20260507T103000
DTEND;TZID=America/New_York:20260507T130000
DTSTAMP:20260422T133300
CREATED:20260417T124552Z
LAST-MODIFIED:20260417T124552Z
UID:10009869-1778149800-1778158800@pennstatehealthnews.org
SUMMARY:Live Music in Lobbies Today
DESCRIPTION:10:30 am – 12 pm • UPC lobby\nMark Wesling (Guitar)
URL:https://pennstatehealthnews.org/event/live-music-in-lobbies-today-11/
LOCATION:University Physicians Center (UPC) Lobby\, 200 Campus Drive\, Hershey\, PA\, 17033\, United States
CATEGORIES:Arts,Community
ORGANIZER;CN="Aleax Olivera":MAILTO:aoliverea@pennstatehealth.psu.edu
GEO:40.2652964;-76.6734688
X-APPLE-STRUCTURED-LOCATION;VALUE=URI;X-ADDRESS=University Physicians Center (UPC) Lobby 200 Campus Drive Hershey PA 17033 United States;X-APPLE-RADIUS=500;X-TITLE=200 Campus Drive:geo:-76.6734688,40.2652964
END:VEVENT
BEGIN:VEVENT
DTSTART;TZID=America/New_York:20260520T100000
DTEND;TZID=America/New_York:20260520T113000
DTSTAMP:20260422T133300
CREATED:20260417T124555Z
LAST-MODIFIED:20260417T124555Z
UID:10009876-1779271200-1779276600@pennstatehealthnews.org
SUMMARY:Live Music in Lobbies Today
DESCRIPTION:10-11:30 am • UPC Lobby\nJonathan Frazier (Piano)
URL:https://pennstatehealthnews.org/event/live-music-in-lobbies-today-30/
LOCATION:University Physicians Center (UPC) Lobby\, 200 Campus Drive\, Hershey\, PA\, 17033\, United States
CATEGORIES:Arts,Community
ORGANIZER;CN="Aleax Olivera":MAILTO:aoliverea@pennstatehealth.psu.edu
GEO:40.2652964;-76.6734688
X-APPLE-STRUCTURED-LOCATION;VALUE=URI;X-ADDRESS=University Physicians Center (UPC) Lobby 200 Campus Drive Hershey PA 17033 United States;X-APPLE-RADIUS=500;X-TITLE=200 Campus Drive:geo:-76.6734688,40.2652964
END:VEVENT
BEGIN:VEVENT
DTSTART;TZID=America/New_York:20260528T143000
DTEND;TZID=America/New_York:20260528T160000
DTSTAMP:20260422T133300
CREATED:20260417T124557Z
LAST-MODIFIED:20260417T124557Z
UID:10009881-1779978600-1779984000@pennstatehealthnews.org
SUMMARY:Live Music in Lobbies Today
DESCRIPTION:2:30 – 4 pm • UPC lobby \nSeasons (Dulcimer)
URL:https://pennstatehealthnews.org/event/live-music-in-lobbies-today-42/
LOCATION:University Physicians Center (UPC) Lobby\, 200 Campus Drive\, Hershey\, PA\, 17033\, United States
CATEGORIES:Arts,Community
ORGANIZER;CN="Aleax Olivera":MAILTO:aoliverea@pennstatehealth.psu.edu
GEO:40.2652964;-76.6734688
X-APPLE-STRUCTURED-LOCATION;VALUE=URI;X-ADDRESS=University Physicians Center (UPC) Lobby 200 Campus Drive Hershey PA 17033 United States;X-APPLE-RADIUS=500;X-TITLE=200 Campus Drive:geo:-76.6734688,40.2652964
END:VEVENT
END:VCALENDAR